BEGIN:VCALENDAR
VERSION:2.0
PRODID:-//Jazz Cerkno - ECPv6.3.2//NONSGML v1.0//EN
CALSCALE:GREGORIAN
METHOD:PUBLISH
X-WR-CALNAME:Jazz Cerkno
X-ORIGINAL-URL:https://www.jazzcerkno.si
X-WR-CALDESC:Events for Jazz Cerkno
REFRESH-INTERVAL;VALUE=DURATION:PT1H
X-Robots-Tag:noindex
X-PUBLISHED-TTL:PT1H
BEGIN:VTIMEZONE
TZID:UTC
BEGIN:STANDARD
TZOFFSETFROM:+0000
TZOFFSETTO:+0000
TZNAME:UTC
DTSTART:20260101T000000
END:STANDARD
END:VTIMEZONE
BEGIN:VEVENT
DTSTART;TZID=UTC:20260523T173000
DTEND;TZID=UTC:20260523T173000
DTSTAMP:20260419T125116
CREATED:20260412T134408Z
LAST-MODIFIED:20260412T134412Z
UID:42474-1779557400-1779557400@www.jazzcerkno.si
SUMMARY:Kaja Draksler Solo
DESCRIPTION:sobota\, 23. maj\, ob 17:30glasbena šola \n			\n				Kupi vstopnico\n			\n				\n				\n				\n				\n				Kaja Draksler (klavir) \n			\n				\n				\n					\n					\n					\n				\n				\n				\n				\n				\n				\n				Foto: Szymon Gąsiorek \n			\n			\n				\n				\n				\n				\n				\n				\n				\n					\n					\n					\n				\n				\n				\n				\n				\n				\n				Foto: Szymon Gąsiorek \n			\n				\n				\n				\n				\n				\n\n\n\n \n\n\n \n\n\n\n\n Bandcamp  Kaja Draksler
URL:https://www.jazzcerkno.si/event/kaja-draksler-solo/
LOCATION:Glasbena šola Cerkno
CATEGORIES:31. Jazz Cerkno 2026,sobota
ATTACH;FMTTYPE=image/jpeg:https://www.jazzcerkno.si/wp-content/uploads/2026/04/Kaja_Draksler_foto_Szymon_Gasiorek.jpg
END:VEVENT
BEGIN:VEVENT
DTSTART;TZID=UTC:20260523T193000
DTEND;TZID=UTC:20260523T193000
DTSTAMP:20260419T125116
CREATED:20260412T135246Z
LAST-MODIFIED:20260412T135251Z
UID:42491-1779564600-1779564600@www.jazzcerkno.si
SUMMARY:Gašper Piano ADDER KLANK
DESCRIPTION:sobota\, 23. maj\, ob 19:30glavni oder \n			\n				Kupi vstopnico\n			\n				\n				\n				\n				\n				Gašper Piano (el. kitara\, efekti)\, Tomaž Grom (kontrabas)\, João Valinho (bobni)\, José Lencastre (saksofon) \n			\n				\n				\n					\n					\n					\n				\n				\n				\n				\n				\n				\n				Foto: promo \n			\n			\n				\n				\n				\n				\n				\n				\n				\n					\n					\n					\n				\n				\n				\n				\n				\n				\n				Foto: promo \n			\n				\n				\n				\n				\n				\n\n\n\n \n\n \n\n\n\n Bandcamp
URL:https://www.jazzcerkno.si/event/gasper-piano-adder-klank/
LOCATION:glavni oder\, Cerkno
CATEGORIES:31. Jazz Cerkno 2026,sobota
ATTACH;FMTTYPE=image/jpeg:https://www.jazzcerkno.si/wp-content/uploads/2026/04/Adder_Klank_promo.jpg
END:VEVENT
BEGIN:VEVENT
DTSTART;TZID=UTC:20260523T210000
DTEND;TZID=UTC:20260523T210000
DTSTAMP:20260419T125116
CREATED:20260412T164919Z
LAST-MODIFIED:20260412T164924Z
UID:42506-1779570000-1779570000@www.jazzcerkno.si
SUMMARY:Mary Halvorson CANIS MAJOR
DESCRIPTION:sobota\, 23. maj\, ob 21:00glavni oder \n			\n				Kupi vstopnico\n			\n				\n				\n				\n				\n				Mary Halvorson (el. kitara)\, Dave Adewumi (trobenta)\, Henry Fraser (kontrabas)\, Tomas Fujiwara (bobni) \n			\n				\n				\n					\n					\n					\n				\n				\n				\n				\n				\n				\n				Foto: Ernest Stuart \n			\n			\n				\n				\n				\n				\n				\n				\n				\n					\n					\n					\n				\n				\n				\n				\n				\n				\n				Foto: Ernest Stuart \n			\n				\n				\n				\n				\n				\n\n\n\n \n\n \n\n\n\n Mary Halvorson Mary Halvorson
URL:https://www.jazzcerkno.si/event/mary-halvorson-canis-major/
LOCATION:glavni oder\, Cerkno
CATEGORIES:31. Jazz Cerkno 2026,sobota
ATTACH;FMTTYPE=image/jpeg:https://www.jazzcerkno.si/wp-content/uploads/2026/04/Canis_Major_foto_Ernest-Stuart.jpg
END:VEVENT
BEGIN:VEVENT
DTSTART;TZID=UTC:20260523T223000
DTEND;TZID=UTC:20260523T223000
DTSTAMP:20260419T125116
CREATED:20260412T165814Z
LAST-MODIFIED:20260414T183439Z
UID:42521-1779575400-1779575400@www.jazzcerkno.si
SUMMARY:Ingebrigt Håker Flaten (EXIT) KNARR
DESCRIPTION:sobota\, 23. maj\, ob 22:30glavni oder \n			\n				Kupi vstopnico\n			\n				\n				\n				\n				\n				Amalie Dahl (altovski in baritonski saksofon)\, Karl Hjalmar Nyberg (tenorski in sopranski saksofon\, elektronika)\, Marta Warelis (klavir\, elektronika)\, Karl Bjorå (el. kitara)\, Olaf Olsen (bobni)\, Ingebrigt Håker Flaten (kontrabas) \n			\n				\n				\n					\n					\n					\n				\n				\n				\n				\n				\n				\n				Foto: Malwina Witkowska \n			\n			\n				\n				\n				\n				\n				\n				\n				\n					\n					\n					\n				\n				\n				\n				\n				\n				\n				Foto: Malwina Witkowska \n			\n				\n				\n				\n				\n				\n\n\n\n \n\n\n \n\n\n\n\n Bandcamp  Ingebrigt Håker Flaten Ingebrigt Håker Flaten
URL:https://www.jazzcerkno.si/event/ingebrigt-haker-flaten-exit-knarr/
LOCATION:glavni oder\, Cerkno
CATEGORIES:31. Jazz Cerkno 2026,sobota
ATTACH;FMTTYPE=image/jpeg:https://www.jazzcerkno.si/wp-content/uploads/2026/04/Exit_Knarr_foto_Malwina_Witkowska.jpg
END:VEVENT
END:VCALENDAR