BEGIN:VCALENDAR
VERSION:2.0
PRODID:-//Jazz Cerkno - ECPv6.3.2//NONSGML v1.0//EN
CALSCALE:GREGORIAN
METHOD:PUBLISH
X-WR-CALNAME:Jazz Cerkno
X-ORIGINAL-URL:https://www.jazzcerkno.si
X-WR-CALDESC:Events for Jazz Cerkno
REFRESH-INTERVAL;VALUE=DURATION:PT1H
X-Robots-Tag:noindex
X-PUBLISHED-TTL:PT1H
BEGIN:VTIMEZONE
TZID:UTC
BEGIN:STANDARD
TZOFFSETFROM:+0000
TZOFFSETTO:+0000
TZNAME:UTC
DTSTART:20150101T000000
END:STANDARD
END:VTIMEZONE
BEGIN:VEVENT
DTSTART;TZID=UTC:20150524T110000
DTEND;TZID=UTC:20150524T110000
DTSTAMP:20260420T214127
CREATED:20220224T131339Z
LAST-MODIFIED:20240213T090142Z
UID:13745-1432465200-1432465200@www.jazzcerkno.si
SUMMARY:Pihalna godba Cerkno
DESCRIPTION:24.05.2015 11:00pred Hotelom Cerkno \nzGodba z jazzovske strani
URL:https://www.jazzcerkno.si/event/pihalna-godba-cerkno/
CATEGORIES:20. Jazz Cerkno 2015
ATTACH;FMTTYPE=image/png:https://www.jazzcerkno.si/wp-content/uploads/2021/06/no_image.png
END:VEVENT
BEGIN:VEVENT
DTSTART;TZID=UTC:20150523T223000
DTEND;TZID=UTC:20150523T223000
DTSTAMP:20260420T214127
CREATED:20220224T132842Z
LAST-MODIFIED:20240213T090143Z
UID:13795-1432420200-1432420200@www.jazzcerkno.si
SUMMARY:The Ex with Ken Vandermark & Nate Wooley
DESCRIPTION:23.05.2015 22:30Glavni oder \nAndy Moor (kitara\, baritonska kitara)Terrie Hessels (kitara)Arnold de Boer (glas\, kitara)Katherina Bornefeld (bobni\, glas)Ken Vandermark (tenorski in baritonski saksofon\, klarinet)Nate Wooley (trobenta) \n			\n			\n				\n				\n				\n				\n				\n				\n				\n				\n				\n				\n			\n				\n				\n					\n					\n					\n				\n				\n				\n					\n					\n					\n				\n				\n				\n					\n					\n					\n				\n				\n				\n					\n					\n					\n				\n				\n				\n					\n					\n					\n				\n				\n				\n					\n					\n					\n				\n				\n				\n					\n					\n					\n				\n				\n				\n					\n					\n					\n				\n				\n				\n					\n					\n					\n				\n				\n				\n					\n					\n					\n				\n				\n				\n				\n				\n				\n				Foto: Marko Serafimović
URL:https://www.jazzcerkno.si/event/the-ex-with-ken-vandermark-nate-wooley/
LOCATION:glavni oder
CATEGORIES:20. Jazz Cerkno 2015
ATTACH;FMTTYPE=image/jpeg:https://www.jazzcerkno.si/wp-content/uploads/2022/02/jazzcerkno-The-Ex-with-Ken-Vandermark-Nate-Wooley-4.jpg
END:VEVENT
BEGIN:VEVENT
DTSTART;TZID=UTC:20150523T210000
DTEND;TZID=UTC:20150523T210000
DTSTAMP:20260420T214127
CREATED:20220224T132546Z
LAST-MODIFIED:20240213T090143Z
UID:13771-1432414800-1432414800@www.jazzcerkno.si
SUMMARY:Sakata / Berthling / Nilssen-Love
DESCRIPTION:23.05.2015 21:00Glavni oder \nAkira Sakata (altovski saksofon\, Bb klarinet\, glas)Johan Berthling (kontrabas)Paal Nilssen-Love (bobni\, tolkala) \n			\n			\n				\n				\n				\n				\n				\n				\n				\n				\n				\n				\n			\n				\n				\n					\n					\n					\n				\n				\n				\n					\n					\n					\n				\n				\n				\n					\n					\n					\n				\n				\n				\n					\n					\n					\n				\n				\n				\n					\n					\n					\n				\n				\n				\n					\n					\n					\n				\n				\n				\n					\n					\n					\n				\n				\n				\n					\n					\n					\n				\n				\n				\n				\n				\n				\n				Foto: Marko Serafimović
URL:https://www.jazzcerkno.si/event/sakata-berthling-nilssen-love/
LOCATION:glavni oder
CATEGORIES:20. Jazz Cerkno 2015
ATTACH;FMTTYPE=image/jpeg:https://www.jazzcerkno.si/wp-content/uploads/2022/02/jazzcerkno-Sakata-Berthling-Nilssen-Love-5.jpg
END:VEVENT
BEGIN:VEVENT
DTSTART;TZID=UTC:20150523T193000
DTEND;TZID=UTC:20150523T193000
DTSTAMP:20260420T214127
CREATED:20220224T132050Z
LAST-MODIFIED:20240213T090144Z
UID:13749-1432409400-1432409400@www.jazzcerkno.si
SUMMARY:Agnel / Edwards / Noble
DESCRIPTION:23.05.2015 19:30Glavni oder \nSophie Agnel (klavir)John Edwards (kontrabas)Steve Noble (bobni) \n			\n			\n				\n				\n				\n				\n				\n				\n				\n				\n				\n				\n			\n				\n				\n					\n					\n					\n				\n				\n				\n					\n					\n					\n				\n				\n				\n					\n					\n					\n				\n				\n				\n					\n					\n					\n				\n				\n				\n					\n					\n					\n				\n				\n				\n					\n					\n					\n				\n				\n				\n					\n					\n					\n				\n				\n				\n				\n				\n				\n				Foto: Marko Serafimović
URL:https://www.jazzcerkno.si/event/agnel-edwards-noble/
LOCATION:glavni oder
CATEGORIES:20. Jazz Cerkno 2015
ATTACH;FMTTYPE=image/jpeg:https://www.jazzcerkno.si/wp-content/uploads/2022/02/jazzcerkno-Agnel-Edwards-Noble-7-1.jpg
END:VEVENT
BEGIN:VEVENT
DTSTART;TZID=UTC:20150523T190000
DTEND;TZID=UTC:20150523T190000
DTSTAMP:20260420T214127
CREATED:20220224T125828Z
LAST-MODIFIED:20240213T090145Z
UID:13706-1432407600-1432407600@www.jazzcerkno.si
SUMMARY:Kar Češ Brass Band
DESCRIPTION:23.05.2015 19:00poulični nastopi na raznih prizoriščih po Cerknem \nPozavne: Marko Obid\, Matija Mlakar. Saksofoni: Tadej Bizjak\, Jaka Ahačevčič. Trobente: Florjan Kobal\, Matjaž Lenarčič Buco. Tuba: Rok Šinkovec. Mali boben: Alen Bogataj. Veliki boben: Matija Purgar. Tolkala: Pegam Podobnik.
URL:https://www.jazzcerkno.si/event/kar-ces-brass-band-2/
CATEGORIES:20. Jazz Cerkno 2015
ATTACH;FMTTYPE=image/png:https://www.jazzcerkno.si/wp-content/uploads/2021/06/no_image.png
END:VEVENT
BEGIN:VEVENT
DTSTART;TZID=UTC:20150523T170000
DTEND;TZID=UTC:20150523T170000
DTSTAMP:20260420T214127
CREATED:20220224T131137Z
LAST-MODIFIED:20240213T090145Z
UID:13738-1432400400-1432400400@www.jazzcerkno.si
SUMMARY:Akira Sakata solo
DESCRIPTION:23.05.2015 17:00Glasbena šola \nAkira Sakata – solo (altovski saksofon\, Bb klarinet\, glas)
URL:https://www.jazzcerkno.si/event/akira-sakata-solo/
LOCATION:Glasbena šola Cerkno
CATEGORIES:20. Jazz Cerkno 2015
ATTACH;FMTTYPE=image/jpeg:https://www.jazzcerkno.si/wp-content/uploads/2022/02/jazzcerkno-Sakata-Berthling-Nilssen-Love-7-1.jpg
END:VEVENT
BEGIN:VEVENT
DTSTART;TZID=UTC:20150523T120000
DTEND;TZID=UTC:20150523T120000
DTSTAMP:20260420T214127
CREATED:20220224T130419Z
LAST-MODIFIED:20240213T090146Z
UID:13730-1432382400-1432382400@www.jazzcerkno.si
SUMMARY:podmizje »Kaj dela kreativni glasbenik?«
DESCRIPTION:23.05.2015 12:00\nbar Pr’ Gabrijelu \nokrogla miza \nAktiv poslušalcev in poslušalk\, Jazz Cerkno in Nova Muska vabijo na javno okroglo mizo podmizje »Kaj dela kreativni glasbenik?« \nmoderator: Ičo Vidmar (SLO)
URL:https://www.jazzcerkno.si/event/podmizje-kaj-dela-kreativni-glasbenik/
CATEGORIES:20. Jazz Cerkno 2015
ATTACH;FMTTYPE=image/png:https://www.jazzcerkno.si/wp-content/uploads/2021/06/no_image.png
END:VEVENT
BEGIN:VEVENT
DTSTART;TZID=UTC:20150523T100000
DTEND;TZID=UTC:20150523T100000
DTSTAMP:20260420T214127
CREATED:20220224T130141Z
LAST-MODIFIED:20240213T090147Z
UID:13725-1432375200-1432375200@www.jazzcerkno.si
SUMMARY:glasbena delavnica za otroke »Zvočni safari – Cerkno 2015«
DESCRIPTION:23.05.2015 10:00Hotel Cerkno \nod torka\, 19. maja\, do sobote\, 23. maja \nMentorji: Boštjan Perovšek\, Blaž Celarec\, Boštjan Gombač (SLO)
URL:https://www.jazzcerkno.si/event/glasbena-delavnica-za-otroke-zvocni-safari-cerkno-2015/
CATEGORIES:20. Jazz Cerkno 2015
ATTACH;FMTTYPE=image/png:https://www.jazzcerkno.si/wp-content/uploads/2021/06/no_image.png
END:VEVENT
BEGIN:VEVENT
DTSTART;TZID=UTC:20150522T223000
DTEND;TZID=UTC:20150522T223000
DTSTAMP:20260420T214127
CREATED:20220224T125501Z
LAST-MODIFIED:20240213T090147Z
UID:13681-1432333800-1432333800@www.jazzcerkno.si
SUMMARY:Marc Ribot's Ceramic Dog
DESCRIPTION:22.05.2015 22:30Glavni oder \nMarc Ribot (kitara)Shahzad Ismaily (bas/elektronika)Ches Smith (bobni) \n			\n			\n				\n				\n				\n				\n				\n				\n				\n				\n				\n				\n			\n				\n				\n					\n					\n					\n				\n				\n				\n					\n					\n					\n				\n				\n				\n					\n					\n					\n				\n				\n				\n					\n					\n					\n				\n				\n				\n					\n					\n					\n				\n				\n				\n					\n					\n					\n				\n				\n				\n					\n					\n					\n				\n				\n				\n					\n					\n					\n				\n				\n				\n					\n					\n					\n				\n				\n				\n					\n					\n					\n				\n				\n				\n				\n				\n				\n				Foto: Marko Serafimović
URL:https://www.jazzcerkno.si/event/marc-ribots-ceramic-dog/
LOCATION:glavni oder
CATEGORIES:20. Jazz Cerkno 2015
ATTACH;FMTTYPE=image/jpeg:https://www.jazzcerkno.si/wp-content/uploads/2022/02/jazzcerkno-Marc-Ribots-Ceramic-Dog-6.jpg
END:VEVENT
BEGIN:VEVENT
DTSTART;TZID=UTC:20150522T210000
DTEND;TZID=UTC:20150522T210000
DTSTAMP:20260420T214127
CREATED:20220224T125210Z
LAST-MODIFIED:20240213T090148Z
UID:13662-1432328400-1432328400@www.jazzcerkno.si
SUMMARY:Carrier / Edwards / Lambert
DESCRIPTION:22.05.2015 21:00Glavni oder \nFrançois Carrier (altovski saksofon)John Edwards (kontrabas)Michel Lambert (bobni) \n			\n			\n				\n				\n				\n				\n				\n				\n				\n				\n				\n				\n			\n				\n				\n					\n					\n					\n				\n				\n				\n					\n					\n					\n				\n				\n				\n					\n					\n					\n				\n				\n				\n					\n					\n					\n				\n				\n				\n					\n					\n					\n				\n				\n				\n					\n					\n					\n				\n				\n				\n				\n				\n				\n				Foto: Marko Serafimović
URL:https://www.jazzcerkno.si/event/carrier-edwards-lambert/
LOCATION:glavni oder
CATEGORIES:20. Jazz Cerkno 2015
ATTACH;FMTTYPE=image/jpeg:https://www.jazzcerkno.si/wp-content/uploads/2022/02/jazzcerkno-Carrier-Edwards-Lambert-6.jpg
END:VEVENT
BEGIN:VEVENT
DTSTART;TZID=UTC:20150522T193000
DTEND;TZID=UTC:20150522T193000
DTSTAMP:20260420T214127
CREATED:20220224T124801Z
LAST-MODIFIED:20240213T090149Z
UID:13633-1432323000-1432323000@www.jazzcerkno.si
SUMMARY:Cerkno Jubileum Orchestra
DESCRIPTION:22.05.2015 19:30Glavni oder \nZlatko Kaučič (skladbe\, dirigent).Boštjan Simon (tenorski in altovski saksofon\, klarinet)\,Cene Resnik (tenorski saksofon)\,Vitja Balžalorsky (kitara)\,Jošt Drašler (kontrabas)\,Vid Drašler (bobni\, tolkala)\,Marko Lasič (bobni\, tolkala)\,Giovanni Maier (kontrabas)\,Luigi Vitale (vibrafon)\,Massimo de Mattia (flavte\, piccolo\, basovska flavta)\,Giorgio Pacorig (klaviature\, fender rhodes)\,Mimi Cogliandro (basovski klarinet)\,Mirko Cisilino (trobenta). \n			\n			\n				\n				\n				\n				\n				\n				\n				\n				\n				\n				\n			\n				\n				\n					\n					\n					\n				\n				\n				\n					\n					\n					\n				\n				\n				\n					\n					\n					\n				\n				\n				\n					\n					\n					\n				\n				\n				\n					\n					\n					\n				\n				\n				\n					\n					\n					\n				\n				\n				\n					\n					\n					\n				\n				\n				\n					\n					\n					\n				\n				\n				\n					\n					\n					\n				\n				\n				\n					\n					\n					\n				\n				\n				\n					\n					\n					\n				\n				\n				\n				\n				\n				\n				Foto: Marko Serafimović
URL:https://www.jazzcerkno.si/event/cerkno-jubileum-orchestra/
LOCATION:glavni oder
CATEGORIES:20. Jazz Cerkno 2015
ATTACH;FMTTYPE=image/jpeg:https://www.jazzcerkno.si/wp-content/uploads/2022/02/jazzcerkno-Cerkno-Jubileum-Orchestra-10.jpg
END:VEVENT
BEGIN:VEVENT
DTSTART;TZID=UTC:20150522T110000
DTEND;TZID=UTC:20150522T110000
DTSTAMP:20260420T214127
CREATED:20220224T124443Z
LAST-MODIFIED:20240213T090149Z
UID:13626-1432292400-1432292400@www.jazzcerkno.si
SUMMARY:Dario Cortese: »Divja hrana«
DESCRIPTION:22.05.2015 11:00delavnica \npetek\, 22. maj\, in sobota\, 23. maj
URL:https://www.jazzcerkno.si/event/dario-cortese-divja-hrana/
CATEGORIES:20. Jazz Cerkno 2015
ATTACH;FMTTYPE=image/png:https://www.jazzcerkno.si/wp-content/uploads/2021/06/no_image.png
END:VEVENT
BEGIN:VEVENT
DTSTART;TZID=UTC:20150521T220000
DTEND;TZID=UTC:20150521T220000
DTSTAMP:20260420T214127
CREATED:20220224T124218Z
LAST-MODIFIED:20240213T090150Z
UID:13607-1432245600-1432245600@www.jazzcerkno.si
SUMMARY:Takase / Schlippenbach
DESCRIPTION:21.05.2015 22:00Glavni oder \nAki Takase (klavir)Alexander von Schlippenbach (klavir) \n			\n			\n				\n				\n				\n				\n				\n				\n				\n				\n				\n				\n			\n				\n				\n					\n					\n					\n				\n				\n				\n					\n					\n					\n				\n				\n				\n					\n					\n					\n				\n				\n				\n					\n					\n					\n				\n				\n				\n					\n					\n					\n				\n				\n				\n					\n					\n					\n				\n				\n				\n				\n				\n				\n				Foto: Marko Serafimović
URL:https://www.jazzcerkno.si/event/takase-schlippenbach/
LOCATION:glavni oder
CATEGORIES:20. Jazz Cerkno 2015
ATTACH;FMTTYPE=image/jpeg:https://www.jazzcerkno.si/wp-content/uploads/2022/02/jazzcerkno-Takase-Schlippenbach-5.jpg
END:VEVENT
BEGIN:VEVENT
DTSTART;TZID=UTC:20150521T203000
DTEND;TZID=UTC:20150521T203000
DTSTAMP:20260420T214128
CREATED:20220224T123928Z
LAST-MODIFIED:20240213T090151Z
UID:13583-1432240200-1432240200@www.jazzcerkno.si
SUMMARY:Igor Matković "Long Distance Journey" feat. M. Wasilewski
DESCRIPTION:21.05.2015 20:30Glavni oder \nIgor Matković (trobenta)Marcin Wasilewski (klavir)Robert Jukič (kontrabas)Vladimir Kostadinović (bobni) \n			\n			\n				\n				\n				\n				\n				\n				\n				\n				\n				\n				\n			\n				\n				\n					\n					\n					\n				\n				\n				\n					\n					\n					\n				\n				\n				\n					\n					\n					\n				\n				\n				\n					\n					\n					\n				\n				\n				\n					\n					\n					\n				\n				\n				\n					\n					\n					\n				\n				\n				\n					\n					\n					\n				\n				\n				\n					\n					\n					\n				\n				\n				\n					\n					\n					\n				\n				\n				\n					\n					\n					\n				\n				\n				\n				\n				\n				\n				Foto: Marko Serafimović
URL:https://www.jazzcerkno.si/event/igor-matkovic-long-distance-journey-feat-m-wasilewski/
LOCATION:glavni oder
CATEGORIES:20. Jazz Cerkno 2015
ATTACH;FMTTYPE=image/jpeg:https://www.jazzcerkno.si/wp-content/uploads/2022/02/jazzcerkno-Igor-Matkovic-Long-Distance-Journey-feat.-M.-Wasilewski-10.jpg
END:VEVENT
BEGIN:VEVENT
DTSTART;TZID=UTC:20150521T190000
DTEND;TZID=UTC:20150521T190000
DTSTAMP:20260420T214128
CREATED:20220224T123546Z
LAST-MODIFIED:20240213T090151Z
UID:13552-1432234800-1432234800@www.jazzcerkno.si
SUMMARY:Big Band GveriLLaz
DESCRIPTION:21.05.2015 19:00Glavni oder \nOrganizator: Dano Ličen.Dirigent: Peter Ugrin.Saksofoni: Rok Felicjan\, David Mozetič\, Jani Šepetavec\, Lan Turek\, Aleks Tratnik.Pozavne: Matija Mlakar\, Jakob Leban\, Matjaž Kafol.Trobente: Matjaž Kajzer\, Domen Gracej\, Andrej Štrekelj\, Primož Gobec.Ritem sekcija: Primož Podobnik (bobni)\, Ilj Pušnik (kontrabas)\, Marko Čepak – Maki (kitara)\, Anže Vrabec (klavir). \n			\n			\n				\n				\n				\n				\n				\n				\n				\n				\n				\n				\n			\n				\n				\n					\n					\n					\n				\n				\n				\n					\n					\n					\n				\n				\n				\n					\n					\n					\n				\n				\n				\n					\n					\n					\n				\n				\n				\n					\n					\n					\n				\n				\n				\n					\n					\n					\n				\n				\n				\n					\n					\n					\n				\n				\n				\n					\n					\n					\n				\n				\n				\n					\n					\n					\n				\n				\n				\n					\n					\n					\n				\n				\n				\n					\n					\n					\n				\n				\n				\n					\n					\n					\n				\n				\n				\n				\n				\n				\n				Foto: Marko Serafimović
URL:https://www.jazzcerkno.si/event/big-band-gverillaz/
LOCATION:glavni oder
CATEGORIES:20. Jazz Cerkno 2015
ATTACH;FMTTYPE=image/jpeg:https://www.jazzcerkno.si/wp-content/uploads/2022/02/jazzcerkno-Big-Band-GveriLLaz-7.jpg
END:VEVENT
BEGIN:VEVENT
DTSTART;TZID=UTC:20150521T000000
DTEND;TZID=UTC:20150521T000000
DTSTAMP:20260420T214128
CREATED:20220224T123104Z
LAST-MODIFIED:20240213T090152Z
UID:13544-1432166400-1432166400@www.jazzcerkno.si
SUMMARY:Žiga Koritnik: »Jazzy-ga!«
DESCRIPTION:21.05.2015delavnica glasbene fotografije \nod četrtka\, 21. maja\, do sobote\, 23. maja
URL:https://www.jazzcerkno.si/event/ziga-koritnik-jazzy-ga-3/
CATEGORIES:20. Jazz Cerkno 2015
ATTACH;FMTTYPE=image/png:https://www.jazzcerkno.si/wp-content/uploads/2021/06/no_image.png
END:VEVENT
BEGIN:VEVENT
DTSTART;TZID=UTC:20150515T190000
DTEND;TZID=UTC:20150515T190000
DTSTAMP:20260420T214128
CREATED:20220224T122818Z
LAST-MODIFIED:20240213T090153Z
UID:13517-1431716400-1431716400@www.jazzcerkno.si
SUMMARY:Dvajset in nekaj let jazza – in še česa – v Cerknem (razstava)
DESCRIPTION:15.05.2015 19:00od 15. maja do 15. julija \nGodbe. Gibke. Grčaste. Grapaste. Gričaste. Gabrijelaste.Dvajset in nekaj let jazza – in še česa – v Cerknem \nCerkljanski muzej. \nOtvoritev razstave 15. 5. ob 19:00. V času festivala bo razstava odprta od 10:00 do 20:00. \n			\n			\n				\n				\n				\n				\n				\n				\n				\n				\n				\n				\n			\n				\n				\n					\n					\n					\n				\n				\n				\n					\n					\n					\n				\n				\n				\n					\n					\n					\n				\n				\n				\n					\n					\n					\n				\n				\n				\n					\n					\n					\n				\n				\n				\n					\n					\n					\n				\n				\n				\n					\n					\n					\n				\n				\n				\n					\n					\n					\n				\n				\n				\n					\n					\n					\n				\n				\n				\n					\n					\n					\n				\n				\n				\n				\n				\n				\n				Foto: Marko Serafimović
URL:https://www.jazzcerkno.si/event/dvajset-in-nekaj-let-jazza-in-se-cesa-v-cerknem-razstava/
LOCATION:Cerkljanski muzej
CATEGORIES:20. Jazz Cerkno 2015
ATTACH;FMTTYPE=image/jpeg:https://www.jazzcerkno.si/wp-content/uploads/2022/02/jazzcerkno-Godbe.-Gibke.-Grcaste.-Grapaste.-Gricaste.-Gabrijelaste.-4.jpg
END:VEVENT
END:VCALENDAR