BEGIN:VCALENDAR
VERSION:2.0
PRODID:-//Jazz Cerkno - ECPv6.3.2//NONSGML v1.0//EN
CALSCALE:GREGORIAN
METHOD:PUBLISH
X-WR-CALNAME:Jazz Cerkno
X-ORIGINAL-URL:https://www.jazzcerkno.si
X-WR-CALDESC:Events for Jazz Cerkno
REFRESH-INTERVAL;VALUE=DURATION:PT1H
X-Robots-Tag:noindex
X-PUBLISHED-TTL:PT1H
BEGIN:VTIMEZONE
TZID:UTC
BEGIN:STANDARD
TZOFFSETFROM:+0000
TZOFFSETTO:+0000
TZNAME:UTC
DTSTART:20140101T000000
END:STANDARD
END:VTIMEZONE
BEGIN:VEVENT
DTSTART;TZID=UTC:20140524T223000
DTEND;TZID=UTC:20140524T223000
DTSTAMP:20260419T192114
CREATED:20220308T151902Z
LAST-MODIFIED:20240213T090206Z
UID:15207-1400970600-1400970600@www.jazzcerkno.si
SUMMARY:DKV Trio
DESCRIPTION:24.05.2014 22:30Glavni oder \nHamid Drake bobni\, tolkalaKent Kessler kontrabasKen Vandermark saksofoni \n			\n			\n				\n				\n				\n				\n				\n				\n				\n				\n				\n				\n			\n				\n				\n					\n					\n					\n				\n				\n				\n					\n					\n					\n				\n				\n				\n					\n					\n					\n				\n				\n				\n					\n					\n					\n				\n				\n				\n					\n					\n					\n				\n				\n				\n					\n					\n					\n				\n				\n				\n					\n					\n					\n				\n				\n				\n					\n					\n					\n				\n				\n				\n					\n					\n					\n				\n				\n				\n					\n					\n					\n				\n				\n				\n					\n					\n					\n				\n				\n				\n					\n					\n					\n				\n				\n				\n					\n					\n					\n				\n				\n				\n					\n					\n					\n				\n				\n				\n					\n					\n					\n				\n				\n				\n					\n					\n					\n				\n				\n				\n					\n					\n					\n				\n				\n				\n					\n					\n					\n				\n				\n				\n					\n					\n					\n				\n				\n				\n					\n					\n					\n				\n				\n				\n				\n				\n				\n				Foto: Marko Serafimović
URL:https://www.jazzcerkno.si/event/dkv-trio/
LOCATION:glavni oder
CATEGORIES:19. Jazz Cerkno 2014
ATTACH;FMTTYPE=image/jpeg:https://www.jazzcerkno.si/wp-content/uploads/2022/03/jazzcerkno-DKV-Trio-18.jpg
END:VEVENT
BEGIN:VEVENT
DTSTART;TZID=UTC:20140524T210000
DTEND;TZID=UTC:20140524T210000
DTSTAMP:20260419T192114
CREATED:20220308T151536Z
LAST-MODIFIED:20240213T090206Z
UID:15182-1400965200-1400965200@www.jazzcerkno.si
SUMMARY:São Paulo Underground
DESCRIPTION:24.05.2014 21:00Glavni oder \nRob Mazurek kornet\, elektronikaGuilherme Granado klaviature\, samplerji\, glasMauricio Takara bobni\, cavaquinho\, elektronika \n			\n			\n				\n				\n				\n				\n				\n				\n				\n				\n				\n				\n			\n				\n				\n					\n					\n					\n				\n				\n				\n					\n					\n					\n				\n				\n				\n					\n					\n					\n				\n				\n				\n					\n					\n					\n				\n				\n				\n					\n					\n					\n				\n				\n				\n					\n					\n					\n				\n				\n				\n					\n					\n					\n				\n				\n				\n					\n					\n					\n				\n				\n				\n					\n					\n					\n				\n				\n				\n					\n					\n					\n				\n				\n				\n				\n				\n				\n				Foto: Marko Serafimović
URL:https://www.jazzcerkno.si/event/sao-paulo-underground/
LOCATION:glavni oder
CATEGORIES:19. Jazz Cerkno 2014
ATTACH;FMTTYPE=image/jpeg:https://www.jazzcerkno.si/wp-content/uploads/2022/03/jazzcerkno-Sao-Paulo-Underground-10.jpg
END:VEVENT
BEGIN:VEVENT
DTSTART;TZID=UTC:20140524T193000
DTEND;TZID=UTC:20140524T193000
DTSTAMP:20260419T192114
CREATED:20220308T151253Z
LAST-MODIFIED:20240213T090207Z
UID:15144-1400959800-1400959800@www.jazzcerkno.si
SUMMARY:Eivind Opsvik "Overseas IV"
DESCRIPTION:24.05.2014 19:30Glavni oder \nEivind Opsvik kontrabas\, skladateljTony Malaby saksofonBrandon Seabrook kitaraJacob Sacks klavir\, električne orgleKenny Wollesen bobni \n			\n			\n				\n				\n				\n				\n				\n				\n				\n				\n				\n				\n			\n				\n				\n					\n					\n					\n				\n				\n				\n					\n					\n					\n				\n				\n				\n					\n					\n					\n				\n				\n				\n					\n					\n					\n				\n				\n				\n					\n					\n					\n				\n				\n				\n					\n					\n					\n				\n				\n				\n					\n					\n					\n				\n				\n				\n					\n					\n					\n				\n				\n				\n					\n					\n					\n				\n				\n				\n					\n					\n					\n				\n				\n				\n					\n					\n					\n				\n				\n				\n					\n					\n					\n				\n				\n				\n					\n					\n					\n				\n				\n				\n					\n					\n					\n				\n				\n				\n					\n					\n					\n				\n				\n				\n				\n				\n				\n				Foto: Marko Serafimović
URL:https://www.jazzcerkno.si/event/eivind-opsvik-overseas-iv/
LOCATION:glavni oder
CATEGORIES:19. Jazz Cerkno 2014
ATTACH;FMTTYPE=image/jpeg:https://www.jazzcerkno.si/wp-content/uploads/2022/03/jazzcerkno-Eivind-Opsvik-Overseas-IV-12.jpg
END:VEVENT
BEGIN:VEVENT
DTSTART;TZID=UTC:20140524T170000
DTEND;TZID=UTC:20140524T170000
DTSTAMP:20260419T192114
CREATED:20220308T150225Z
LAST-MODIFIED:20240213T090208Z
UID:15129-1400950800-1400950800@www.jazzcerkno.si
SUMMARY:Barre Phillips
DESCRIPTION:24.05.2014 17:00Glasbena šola Cerkno \nBarre Phillips – solo (kontrabas) \n			\n			\n				\n				\n				\n				\n				\n				\n				\n				\n				\n				\n			\n				\n				\n					\n					\n					\n				\n				\n				\n					\n					\n					\n				\n				\n				\n					\n					\n					\n				\n				\n				\n					\n					\n					\n				\n				\n				\n				\n				\n				\n				Foto: Marko Serafimović
URL:https://www.jazzcerkno.si/event/barre-phillips/
CATEGORIES:19. Jazz Cerkno 2014
ATTACH;FMTTYPE=image/jpeg:https://www.jazzcerkno.si/wp-content/uploads/2022/03/jazzcerkno-Barre-Phillips-3.jpg
END:VEVENT
BEGIN:VEVENT
DTSTART;TZID=UTC:20140524T110000
DTEND;TZID=UTC:20140524T110000
DTSTAMP:20260419T192114
CREATED:20220308T145832Z
LAST-MODIFIED:20240213T090208Z
UID:15108-1400929200-1400929200@www.jazzcerkno.si
SUMMARY:podmizje »Periferija vs. center«
DESCRIPTION:24.05.2014 11:00Hotel Cerkno \nAktiv poslušalcev in poslušalk\, Jazz Cerkno in Nova Muska vabijo na javno okroglo mizopodmizje »Periferija vs. center«moderator: Igor Bašin – BIGor (SLO) \n			\n			\n				\n				\n				\n				\n				\n				\n				\n				\n				\n				\n			\n				\n				\n					\n					\n					\n				\n				\n				\n					\n					\n					\n				\n				\n				\n					\n					\n					\n				\n				\n				\n					\n					\n					\n				\n				\n				\n					\n					\n					\n				\n				\n				\n					\n					\n					\n				\n				\n				\n					\n					\n					\n				\n				\n				\n				\n				\n				\n				Foto: Marko Serafimović
URL:https://www.jazzcerkno.si/event/podmizje-periferija-vs-center/
CATEGORIES:19. Jazz Cerkno 2014
ATTACH;FMTTYPE=image/jpeg:https://www.jazzcerkno.si/wp-content/uploads/2022/03/jazzcerkno-podmizje-Periferija-vs.-center-3.jpg
END:VEVENT
BEGIN:VEVENT
DTSTART;TZID=UTC:20140524T100000
DTEND;TZID=UTC:20140524T100000
DTSTAMP:20260419T192114
CREATED:20220308T145232Z
LAST-MODIFIED:20240213T090209Z
UID:15088-1400925600-1400925600@www.jazzcerkno.si
SUMMARY:glasbena delavnica za otroke »Glas in telo«
DESCRIPTION:24.05.2014 10:00Od ponedeljka\, 19. maja\, do sobote\, 24. majaglasbena delavnica za otroke »Glas in telo« \nklub C.M.A.K. \nnastop: sobota\, 24. maj\, pred hotelom Cerkno\, 10:00Mentorja: Blaž Celarec\, Boštjan Gombač (SLO) \n			\n			\n				\n				\n				\n				\n				\n				\n				\n				\n				\n				\n			\n				\n				\n					\n					\n					\n				\n				\n				\n					\n					\n					\n				\n				\n				\n					\n					\n					\n				\n				\n				\n					\n					\n					\n				\n				\n				\n				\n				\n				\n				Foto: Marko Serafimović
URL:https://www.jazzcerkno.si/event/glasbena-delavnica-za-otroke-glas-in-telo/
CATEGORIES:19. Jazz Cerkno 2014
ATTACH;FMTTYPE=image/jpeg:https://www.jazzcerkno.si/wp-content/uploads/2022/03/jazzcerkno-glasbena-delavnica-za-otroke-Glas-in-telo-2.jpg
END:VEVENT
BEGIN:VEVENT
DTSTART;TZID=UTC:20140523T223000
DTEND;TZID=UTC:20140523T223000
DTSTAMP:20260419T192114
CREATED:20220308T144831Z
LAST-MODIFIED:20240213T090210Z
UID:15054-1400884200-1400884200@www.jazzcerkno.si
SUMMARY:Naked Wolf
DESCRIPTION:23.05.2014 22:30Glavni oder \nFelicity Provan glas\, trobentaSeb El Zin glasYedo Gibson baritonski in tenorski saksofonMikael Szafirowski kitaraLuc Ex basGerri Jäger bobni \n			\n			\n				\n				\n				\n				\n				\n				\n				\n				\n				\n				\n			\n				\n				\n					\n					\n					\n				\n				\n				\n					\n					\n					\n				\n				\n				\n					\n					\n					\n				\n				\n				\n					\n					\n					\n				\n				\n				\n					\n					\n					\n				\n				\n				\n					\n					\n					\n				\n				\n				\n					\n					\n					\n				\n				\n				\n					\n					\n					\n				\n				\n				\n					\n					\n					\n				\n				\n				\n					\n					\n					\n				\n				\n				\n					\n					\n					\n				\n				\n				\n					\n					\n					\n				\n				\n				\n				\n				\n				\n				Foto: Marko Serafimović
URL:https://www.jazzcerkno.si/event/naked-wolf/
LOCATION:glavni oder
CATEGORIES:19. Jazz Cerkno 2014
ATTACH;FMTTYPE=image/jpeg:https://www.jazzcerkno.si/wp-content/uploads/2022/03/jazzcerkno-Naked-Wolf-7.jpg
END:VEVENT
BEGIN:VEVENT
DTSTART;TZID=UTC:20140523T210000
DTEND;TZID=UTC:20140523T210000
DTSTAMP:20260419T192114
CREATED:20220308T144538Z
LAST-MODIFIED:20240213T090211Z
UID:15019-1400878800-1400878800@www.jazzcerkno.si
SUMMARY:Robert Jukič "LIFE"
DESCRIPTION:23.05.2014 21:00Glavni oder \nRobert Jukič kontrabas\, skladateljToine Thys saksofonWolfi Rainer bobni \n			\n			\n				\n				\n				\n				\n				\n				\n				\n				\n				\n				\n			\n				\n				\n					\n					\n					\n				\n				\n				\n					\n					\n					\n				\n				\n				\n					\n					\n					\n				\n				\n				\n					\n					\n					\n				\n				\n				\n					\n					\n					\n				\n				\n				\n					\n					\n					\n				\n				\n				\n					\n					\n					\n				\n				\n				\n					\n					\n					\n				\n				\n				\n					\n					\n					\n				\n				\n				\n					\n					\n					\n				\n				\n				\n					\n					\n					\n				\n				\n				\n					\n					\n					\n				\n				\n				\n					\n					\n					\n				\n				\n				\n				\n				\n				\n				Foto: Marko Serafimović
URL:https://www.jazzcerkno.si/event/robert-jukic-life/
LOCATION:glavni oder
CATEGORIES:19. Jazz Cerkno 2014
ATTACH;FMTTYPE=image/jpeg:https://www.jazzcerkno.si/wp-content/uploads/2022/03/jazzcerkno-Robert-Jukic-LIFE-5.jpg
END:VEVENT
BEGIN:VEVENT
DTSTART;TZID=UTC:20140523T193000
DTEND;TZID=UTC:20140523T193000
DTSTAMP:20260419T192114
CREATED:20220308T144236Z
LAST-MODIFIED:20240213T090211Z
UID:14988-1400873400-1400873400@www.jazzcerkno.si
SUMMARY:EMIR A3
DESCRIPTION:23.05.2014 19:30Glavni oder \nBarre Phillips kontrabasLionel Garcin saksofonEmilie Lesbros glas \n			\n			\n				\n				\n				\n				\n				\n				\n				\n				\n				\n				\n			\n				\n				\n					\n					\n					\n				\n				\n				\n					\n					\n					\n				\n				\n				\n					\n					\n					\n				\n				\n				\n					\n					\n					\n				\n				\n				\n					\n					\n					\n				\n				\n				\n					\n					\n					\n				\n				\n				\n					\n					\n					\n				\n				\n				\n					\n					\n					\n				\n				\n				\n					\n					\n					\n				\n				\n				\n					\n					\n					\n				\n				\n				\n				\n				\n				\n				Foto: Marko Serafimović
URL:https://www.jazzcerkno.si/event/emir-a3/
LOCATION:glavni oder
CATEGORIES:19. Jazz Cerkno 2014
ATTACH;FMTTYPE=image/jpeg:https://www.jazzcerkno.si/wp-content/uploads/2022/03/jazzcerkno-EMIR-A3-6.jpg
END:VEVENT
BEGIN:VEVENT
DTSTART;TZID=UTC:20140523T180000
DTEND;TZID=UTC:20140523T180000
DTSTAMP:20260419T192114
CREATED:20220308T143945Z
LAST-MODIFIED:20240213T090212Z
UID:14950-1400868000-1400868000@www.jazzcerkno.si
SUMMARY:Kar Češ Brass Band
DESCRIPTION:23.05.2014 18:00poulični nastop ter koncert \npozavne: Marko Obid\, Matija Mlakarsaksofoni: Tadej Bizjak\, Jaka Ahačevčičtrobente: Florjan Kobal\, Matjaž Lenarčič Buco/Damijan Valentinuzzituba: Rok Šinkovecmali boben: Alen Bogatajveliki boben: Matija Purgartolkala: Pegam Podobnik \n			\n			\n				\n				\n				\n				\n				\n				\n				\n				\n				\n				\n			\n				\n				\n					\n					\n					\n				\n				\n				\n					\n					\n					\n				\n				\n				\n					\n					\n					\n				\n				\n				\n					\n					\n					\n				\n				\n				\n					\n					\n					\n				\n				\n				\n					\n					\n					\n				\n				\n				\n					\n					\n					\n				\n				\n				\n					\n					\n					\n				\n				\n				\n					\n					\n					\n				\n				\n				\n					\n					\n					\n				\n				\n				\n					\n					\n					\n				\n				\n				\n					\n					\n					\n				\n				\n				\n					\n					\n					\n				\n				\n				\n					\n					\n					\n				\n				\n				\n					\n					\n					\n				\n				\n				\n				\n				\n				\n				Foto: Marko Serafimović
URL:https://www.jazzcerkno.si/event/kar-ces-brass-band-3/
CATEGORIES:19. Jazz Cerkno 2014
ATTACH;FMTTYPE=image/jpeg:https://www.jazzcerkno.si/wp-content/uploads/2022/03/jazzcerkno-Kar-Ces-Brass-Band-13.jpg
END:VEVENT
BEGIN:VEVENT
DTSTART;TZID=UTC:20140523T110000
DTEND;TZID=UTC:20140523T110000
DTSTAMP:20260419T192114
CREATED:20220308T143601Z
LAST-MODIFIED:20240213T090212Z
UID:14943-1400842800-1400842800@www.jazzcerkno.si
SUMMARY:delavnica »Divja hrana«
DESCRIPTION:23.05.2014 11:00Dario Cortesepetek in sobota\, 23. in 24. maj
URL:https://www.jazzcerkno.si/event/delavnica-divja-hrana/
CATEGORIES:19. Jazz Cerkno 2014
ATTACH;FMTTYPE=image/png:https://www.jazzcerkno.si/wp-content/uploads/2021/06/no_image.png
END:VEVENT
BEGIN:VEVENT
DTSTART;TZID=UTC:20140522T220000
DTEND;TZID=UTC:20140522T220000
DTSTAMP:20260419T192114
CREATED:20220308T143342Z
LAST-MODIFIED:20240213T090213Z
UID:14916-1400796000-1400796000@www.jazzcerkno.si
SUMMARY:Žoambo Žoet Workestrao
DESCRIPTION:22.05.2014 22:00Glavni oder \nIvo Poderžaj bas\, glasGregor Belušič kitara\, glas\, monotronMarjan Stanić bobniAndrej Fon saksofon\, klaviature\, piščaliAldo Ivančić zvok\, efekti \n			\n			\n				\n				\n				\n				\n				\n				\n				\n				\n				\n				\n			\n				\n				\n					\n					\n					\n				\n				\n				\n					\n					\n					\n				\n				\n				\n					\n					\n					\n				\n				\n				\n					\n					\n					\n				\n				\n				\n					\n					\n					\n				\n				\n				\n					\n					\n					\n				\n				\n				\n					\n					\n					\n				\n				\n				\n					\n					\n					\n				\n				\n				\n					\n					\n					\n				\n				\n				\n					\n					\n					\n				\n				\n				\n				\n				\n				\n				Foto: Marko Serafimović
URL:https://www.jazzcerkno.si/event/zoambo-zoet-workestrao/
LOCATION:glavni oder
CATEGORIES:19. Jazz Cerkno 2014
ATTACH;FMTTYPE=image/jpeg:https://www.jazzcerkno.si/wp-content/uploads/2022/03/jazzcerkno-Zoambo-Zoet-Workestrao-9.jpg
END:VEVENT
BEGIN:VEVENT
DTSTART;TZID=UTC:20140522T203000
DTEND;TZID=UTC:20140522T203000
DTSTAMP:20260419T192114
CREATED:20220308T143010Z
LAST-MODIFIED:20240213T090214Z
UID:14895-1400790600-1400790600@www.jazzcerkno.si
SUMMARY:Peeping Tom
DESCRIPTION:22.05.2014 20:30Glavni oder \nAxel Dörner trobentaPierre-Antoine Badaroux altovski saksofonJoel Grip kontrabasAntonin Gerbal bobni \n			\n			\n				\n				\n				\n				\n				\n				\n				\n				\n				\n				\n			\n				\n				\n					\n					\n					\n				\n				\n				\n					\n					\n					\n				\n				\n				\n					\n					\n					\n				\n				\n				\n					\n					\n					\n				\n				\n				\n					\n					\n					\n				\n				\n				\n					\n					\n					\n				\n				\n				\n					\n					\n					\n				\n				\n				\n				\n				\n				\n				Foto: Marko Serafimović
URL:https://www.jazzcerkno.si/event/peeping-tom/
LOCATION:glavni oder
CATEGORIES:19. Jazz Cerkno 2014
ATTACH;FMTTYPE=image/jpeg:https://www.jazzcerkno.si/wp-content/uploads/2022/03/jazzcerkno-Peeping-Tom-1.jpg
END:VEVENT
BEGIN:VEVENT
DTSTART;TZID=UTC:20140522T190000
DTEND;TZID=UTC:20140522T190000
DTSTAMP:20260419T192114
CREATED:20220308T142731Z
LAST-MODIFIED:20240213T090214Z
UID:14832-1400785200-1400785200@www.jazzcerkno.si
SUMMARY:Žan Tetičkovič in Big Band RTV Slovenija "OASIS"
DESCRIPTION:22.05.2014 19:00Glavni oder \nŽan Tetičkovič bobni\, skladateljTheodosii Spassov kavalVlatko Stefanovski kitaraFilip Novosel tamburaMarko Črnčec klavirMilan Nikolić kontrabasTadej Tomšič dirigent \nBig Band RTV Slovenija:trobente\, krilovke: Andy Pesendorfer\, Dominik Krajnčan\, David Jarh\, Tomaž Gajšt; saksofoni: Primož Fleischman\, Aleš Suša\, Miha Hawlina\, Adam Klemm\, Blaž Trček; pozavne: Klemen Repe\, Matjaž Mikuletič\, Rok Štirn\, Marjan Petrej; ritem sekcija: Damir Mazrek \n			\n			\n				\n				\n				\n				\n				\n				\n				\n				\n				\n				\n			\n				\n				\n					\n					\n					\n				\n				\n				\n					\n					\n					\n				\n				\n				\n					\n					\n					\n				\n				\n				\n					\n					\n					\n				\n				\n				\n					\n					\n					\n				\n				\n				\n					\n					\n					\n				\n				\n				\n					\n					\n					\n				\n				\n				\n					\n					\n					\n				\n				\n				\n					\n					\n					\n				\n				\n				\n					\n					\n					\n				\n				\n				\n					\n					\n					\n				\n				\n				\n					\n					\n					\n				\n				\n				\n					\n					\n					\n				\n				\n				\n					\n					\n					\n				\n				\n				\n					\n					\n					\n				\n				\n				\n					\n					\n					\n				\n				\n				\n					\n					\n					\n				\n				\n				\n					\n					\n					\n				\n				\n				\n					\n					\n					\n				\n				\n				\n					\n					\n					\n				\n				\n				\n					\n					\n					\n				\n				\n				\n					\n					\n					\n				\n				\n				\n					\n					\n					\n				\n				\n				\n					\n					\n					\n				\n				\n				\n					\n					\n					\n				\n				\n				\n					\n					\n					\n				\n				\n				\n					\n					\n					\n				\n				\n				\n					\n					\n					\n				\n				\n				\n				\n				\n				\n				Foto: Marko Serafimović
URL:https://www.jazzcerkno.si/event/zan-tetickovic-in-big-band-rtv-slovenija-oasis/
LOCATION:glavni oder
CATEGORIES:19. Jazz Cerkno 2014
ATTACH;FMTTYPE=image/jpeg:https://www.jazzcerkno.si/wp-content/uploads/2022/03/jazzcerkno-Zan-Tetickovic-in-Big-Band-RTV-Slovenija-OASIS-25.jpg
END:VEVENT
BEGIN:VEVENT
DTSTART;TZID=UTC:20140502T170000
DTEND;TZID=UTC:20140502T170000
DTSTAMP:20260419T192114
CREATED:20220308T142351Z
LAST-MODIFIED:20240213T090216Z
UID:14825-1399050000-1399050000@www.jazzcerkno.si
SUMMARY:fotografska razstava »Muzičisti u Cierknam«
DESCRIPTION:02.05.2014 19:00Bar pr’ Gabrijelu \n»Muzičisti u Cierknam« fotografska razstava \nJože Svetičič (SLO) \notvoritev: pet.\, 2. maj\, ob 19:00\, Bar pr’ Gabrijelu
URL:https://www.jazzcerkno.si/event/fotografska-razstava-muzicisti-u-cierknam/
LOCATION:Gabrijel\, Cerkno
CATEGORIES:19. Jazz Cerkno 2014
ATTACH;FMTTYPE=image/png:https://www.jazzcerkno.si/wp-content/uploads/2021/06/no_image.png
END:VEVENT
END:VCALENDAR