BEGIN:VCALENDAR
VERSION:2.0
PRODID:-//Jazz Cerkno - ECPv6.3.2//NONSGML v1.0//EN
CALSCALE:GREGORIAN
METHOD:PUBLISH
X-WR-CALNAME:Jazz Cerkno
X-ORIGINAL-URL:https://www.jazzcerkno.si
X-WR-CALDESC:Events for Jazz Cerkno
REFRESH-INTERVAL;VALUE=DURATION:PT1H
X-Robots-Tag:noindex
X-PUBLISHED-TTL:PT1H
BEGIN:VTIMEZONE
TZID:UTC
BEGIN:STANDARD
TZOFFSETFROM:+0000
TZOFFSETTO:+0000
TZNAME:UTC
DTSTART:20040101T000000
END:STANDARD
END:VTIMEZONE
BEGIN:VEVENT
DTSTART;TZID=UTC:20040521T203000
DTEND;TZID=UTC:20040521T203000
DTSTAMP:20260420T232728
CREATED:20220617T125336Z
LAST-MODIFIED:20240213T090547Z
UID:19439-1085171400-1085171400@www.jazzcerkno.si
SUMMARY:Bast
DESCRIPTION:21.05.2004 20:30“star plac” pred fontano (Cerkno) \nGal Gjurin: kontrabas\, pihala\, klaviatureBoštjan Gombač: vokal\, klarinet\, pihala\, tolkalaTomaž Grom: kontrabas\, vokal\, računalnikAldo Ivančič: miksSlaven Kalebič: kitara\, vocalMatjaž Manček: kitaraMarjan Stanić: bobni\, tolkala
URL:https://www.jazzcerkno.si/event/bast/
CATEGORIES:09. Jazz Cerkno 2004
END:VEVENT
BEGIN:VEVENT
DTSTART;TZID=UTC:20040520T194500
DTEND;TZID=UTC:20040520T194500
DTSTAMP:20260420T232728
CREATED:20220617T125336Z
LAST-MODIFIED:20240213T090547Z
UID:19438-1085082300-1085082300@www.jazzcerkno.si
SUMMARY:Dej Še 'N Litro Brass band
DESCRIPTION:20.05.2004 19:45“star plac” pred fontano (Cerkno) \nDejan Markovič: trobentaDamjan Valentinizzi: trobentaPeter Tomažič: klarinetBojan Volk: altovski saksofonPiero Purini: tenorski saksofonMitja Mahnič: tenorski saksofonMatija Mlakar: pozavnaVilja Lavrenčič: pozavnaBojan Krajšek: tenorIgor Zafred: tolkalaGoran Moskovski: tolkalaGoran Krmac: tuba
URL:https://www.jazzcerkno.si/event/dej-se-n-litro-brass-band/
CATEGORIES:09. Jazz Cerkno 2004
END:VEVENT
BEGIN:VEVENT
DTSTART;TZID=UTC:20040520T180000
DTEND;TZID=UTC:20040520T180000
DTSTAMP:20260420T232728
CREATED:20220617T125336Z
LAST-MODIFIED:20240213T090548Z
UID:19437-1085076000-1085076000@www.jazzcerkno.si
SUMMARY:Funtango/ Marko Hatlak z zasedbo
DESCRIPTION:20.05.2004 18:00“star plac” pred fontano (Cerkno) \nMarko Hatlak: harmonicaPolona Udovič: vocalMojca Križnič: violinaNeža Buh: klavirAndrej Pekarovič: kitaraMarko Gregorič: kontrabas
URL:https://www.jazzcerkno.si/event/funtango-marko-hatlak-z-zasedbo/
CATEGORIES:09. Jazz Cerkno 2004
END:VEVENT
END:VCALENDAR