BEGIN:VCALENDAR
VERSION:2.0
PRODID:-//Jazz Cerkno - ECPv6.3.2//NONSGML v1.0//EN
CALSCALE:GREGORIAN
METHOD:PUBLISH
X-WR-CALNAME:Jazz Cerkno
X-ORIGINAL-URL:https://www.jazzcerkno.si
X-WR-CALDESC:Events for Jazz Cerkno
REFRESH-INTERVAL;VALUE=DURATION:PT1H
X-Robots-Tag:noindex
X-PUBLISHED-TTL:PT1H
BEGIN:VTIMEZONE
TZID:UTC
BEGIN:STANDARD
TZOFFSETFROM:+0000
TZOFFSETTO:+0000
TZNAME:UTC
DTSTART:20040101T000000
END:STANDARD
END:VTIMEZONE
BEGIN:VEVENT
DTSTART;TZID=UTC:20040523T010000
DTEND;TZID=UTC:20040523T010000
DTSTAMP:20260420T213832
CREATED:20220617T125336Z
LAST-MODIFIED:20240213T090539Z
UID:19451-1085274000-1085274000@www.jazzcerkno.si
SUMMARY:Kar Češ Brass band
DESCRIPTION:23.05.2004 01:00klub C.M.A.K. \nMatija Purgar: bas boben\, tolkalaTadej Bizjak: saksofonMarko Obid: tubaAlen Bogataj: bobniSebastjan Jermol: trobenta
URL:https://www.jazzcerkno.si/event/kar-ces-brass-band-7/
CATEGORIES:09. Jazz Cerkno 2004
END:VEVENT
BEGIN:VEVENT
DTSTART;TZID=UTC:20040522T233000
DTEND;TZID=UTC:20040522T233000
DTSTAMP:20260420T213832
CREATED:20220617T125336Z
LAST-MODIFIED:20240213T090540Z
UID:19450-1085268600-1085268600@www.jazzcerkno.si
SUMMARY:Collectif Slang
DESCRIPTION:22.05.2004 23:30“star plac” pred fontano (Cerkno) \nDavid Aknin: bobniOlivier Sens: kontrabasDj Unkl’benz: gramofoni\, elektronikaLaurent Geniez: altovski in sopranski saksofonMaxime Delpierre: kitara
URL:https://www.jazzcerkno.si/event/collectif-slang/
CATEGORIES:09. Jazz Cerkno 2004
END:VEVENT
BEGIN:VEVENT
DTSTART;TZID=UTC:20040522T220000
DTEND;TZID=UTC:20040522T220000
DTSTAMP:20260420T213832
CREATED:20220617T125336Z
LAST-MODIFIED:20240213T090540Z
UID:19449-1085263200-1085263200@www.jazzcerkno.si
SUMMARY:Free Music Ensemble
DESCRIPTION:22.05.2004 22:00“star plac” pred fontano (Cerkno) \nKen Vandermark: tenorski saksofon\, clarinetNate McBride; kontrabasPaal Nilssen-Love: bobni
URL:https://www.jazzcerkno.si/event/free-music-ensemble/
CATEGORIES:09. Jazz Cerkno 2004
END:VEVENT
BEGIN:VEVENT
DTSTART;TZID=UTC:20040522T203000
DTEND;TZID=UTC:20040522T203000
DTSTAMP:20260420T213832
CREATED:20220617T125336Z
LAST-MODIFIED:20240213T090541Z
UID:19448-1085257800-1085257800@www.jazzcerkno.si
SUMMARY:Sethstat
DESCRIPTION:22.05.2004 20:30“star plac” pred fontano (Cerkno) \nAleksandar Nikolovski: trobentaVasko Bojadžiski: saksofonVladan Drobicki: pozavnaPance Bujukliev: sintetizator\, klavir\, orglicePavel Drobicki: el. basGoce Naumov: bobni\, tolkala
URL:https://www.jazzcerkno.si/event/sethstat/
CATEGORIES:09. Jazz Cerkno 2004
END:VEVENT
BEGIN:VEVENT
DTSTART;TZID=UTC:20040522T170000
DTEND;TZID=UTC:20040522T170000
DTSTAMP:20260420T213832
CREATED:20220617T125336Z
LAST-MODIFIED:20240213T090541Z
UID:19447-1085245200-1085245200@www.jazzcerkno.si
SUMMARY:Harry Tavitian / solo
DESCRIPTION:22.05.2004 17:00glasbena šola Cerkno \nHarry Tavitian: klavir
URL:https://www.jazzcerkno.si/event/harry-tavitian-solo/
CATEGORIES:09. Jazz Cerkno 2004
END:VEVENT
BEGIN:VEVENT
DTSTART;TZID=UTC:20040522T010000
DTEND;TZID=UTC:20040522T010000
DTSTAMP:20260420T213832
CREATED:20220617T125336Z
LAST-MODIFIED:20240213T090542Z
UID:19445-1085187600-1085187600@www.jazzcerkno.si
SUMMARY:Andrej Čopar / solo
DESCRIPTION:22.05.2004 01:00klub C.M.A.K. \nAndrej Čopar: sopranski saksofon\, tenorski saksofon\, baritonski saksofon\, prečna flavta\, pikolo flavta\, “loop station”
URL:https://www.jazzcerkno.si/event/andrej-copar-solo/
CATEGORIES:09. Jazz Cerkno 2004
END:VEVENT
BEGIN:VEVENT
DTSTART;TZID=UTC:20040522T010000
DTEND;TZID=UTC:20040522T010000
DTSTAMP:20260420T213832
CREATED:20220617T125336Z
LAST-MODIFIED:20240213T090543Z
UID:19446-1085187600-1085187600@www.jazzcerkno.si
SUMMARY:Eugene Chadbourne / solo
DESCRIPTION:22.05.2004 01:00klub C.M.A.K. \nEugene Chadbourne: el. kitara\, bendžo
URL:https://www.jazzcerkno.si/event/eugene-chadbourne-solo/
CATEGORIES:09. Jazz Cerkno 2004
END:VEVENT
BEGIN:VEVENT
DTSTART;TZID=UTC:20040522T000000
DTEND;TZID=UTC:20040522T000000
DTSTAMP:20260420T213832
CREATED:20220617T125336Z
LAST-MODIFIED:20240213T090545Z
UID:19444-1085184000-1085184000@www.jazzcerkno.si
SUMMARY:glasbena delavnica “tolkala”
DESCRIPTION:22.05.2004klub C.M.A.K. \nBlaž Celarec
URL:https://www.jazzcerkno.si/event/glasbena-delavnica-tolkala/
CATEGORIES:09. Jazz Cerkno 2004
END:VEVENT
BEGIN:VEVENT
DTSTART;TZID=UTC:20040522T000000
DTEND;TZID=UTC:20040522T000000
DTSTAMP:20260420T213832
CREATED:20220617T125336Z
LAST-MODIFIED:20240213T090543Z
UID:19442-1085184000-1085184000@www.jazzcerkno.si
SUMMARY:nastop skulptur bella dona cherry
DESCRIPTION:22.05.2004 \nDušan Gerlica
URL:https://www.jazzcerkno.si/event/nastop-skulptur-bella-dona-cherry/
CATEGORIES:09. Jazz Cerkno 2004
END:VEVENT
BEGIN:VEVENT
DTSTART;TZID=UTC:20040522T000000
DTEND;TZID=UTC:20040522T000000
DTSTAMP:20260420T213832
CREATED:20220617T125336Z
LAST-MODIFIED:20240213T090544Z
UID:19443-1085184000-1085184000@www.jazzcerkno.si
SUMMARY:razstava fotografij
DESCRIPTION:22.05.2004klub C.M.A.K. \nIztok Zupan
URL:https://www.jazzcerkno.si/event/razstava-fotografij/
CATEGORIES:09. Jazz Cerkno 2004
END:VEVENT
BEGIN:VEVENT
DTSTART;TZID=UTC:20040521T233000
DTEND;TZID=UTC:20040521T233000
DTSTAMP:20260420T213832
CREATED:20220617T125336Z
LAST-MODIFIED:20240213T090545Z
UID:19441-1085182200-1085182200@www.jazzcerkno.si
SUMMARY:Carlo Actis band
DESCRIPTION:21.05.2004 23:30“star plac” pred fontano (Cerkno) \nCarlo Actis Dato: tenorski in baritonski saksofon\, basovski clarinetMassimo Rossi: altovski in sopranski saksofonKarsten Lipp: kitaraFederico Marchesano: el. bas\, kontrabasDario Bruna: bobni
URL:https://www.jazzcerkno.si/event/carlo-actis-band/
CATEGORIES:09. Jazz Cerkno 2004
END:VEVENT
BEGIN:VEVENT
DTSTART;TZID=UTC:20040521T220000
DTEND;TZID=UTC:20040521T220000
DTSTAMP:20260420T213832
CREATED:20220617T125336Z
LAST-MODIFIED:20240213T090546Z
UID:19440-1085176800-1085176800@www.jazzcerkno.si
SUMMARY:Bobby Previte & Bump
DESCRIPTION:21.05.2004 22:00“star plac” pred fontano (Cerkno) \nBobby Previte: bobniMarty Ehrlich: saksofonCurtis Fowlkes: pozavnaWayne Horvitz: klaviatureSteve Swallow: bas
URL:https://www.jazzcerkno.si/event/bobby-previte-bump/
CATEGORIES:09. Jazz Cerkno 2004
END:VEVENT
BEGIN:VEVENT
DTSTART;TZID=UTC:20040521T203000
DTEND;TZID=UTC:20040521T203000
DTSTAMP:20260420T213832
CREATED:20220617T125336Z
LAST-MODIFIED:20240213T090547Z
UID:19439-1085171400-1085171400@www.jazzcerkno.si
SUMMARY:Bast
DESCRIPTION:21.05.2004 20:30“star plac” pred fontano (Cerkno) \nGal Gjurin: kontrabas\, pihala\, klaviatureBoštjan Gombač: vokal\, klarinet\, pihala\, tolkalaTomaž Grom: kontrabas\, vokal\, računalnikAldo Ivančič: miksSlaven Kalebič: kitara\, vocalMatjaž Manček: kitaraMarjan Stanić: bobni\, tolkala
URL:https://www.jazzcerkno.si/event/bast/
CATEGORIES:09. Jazz Cerkno 2004
END:VEVENT
BEGIN:VEVENT
DTSTART;TZID=UTC:20040520T194500
DTEND;TZID=UTC:20040520T194500
DTSTAMP:20260420T213832
CREATED:20220617T125336Z
LAST-MODIFIED:20240213T090547Z
UID:19438-1085082300-1085082300@www.jazzcerkno.si
SUMMARY:Dej Še 'N Litro Brass band
DESCRIPTION:20.05.2004 19:45“star plac” pred fontano (Cerkno) \nDejan Markovič: trobentaDamjan Valentinizzi: trobentaPeter Tomažič: klarinetBojan Volk: altovski saksofonPiero Purini: tenorski saksofonMitja Mahnič: tenorski saksofonMatija Mlakar: pozavnaVilja Lavrenčič: pozavnaBojan Krajšek: tenorIgor Zafred: tolkalaGoran Moskovski: tolkalaGoran Krmac: tuba
URL:https://www.jazzcerkno.si/event/dej-se-n-litro-brass-band/
CATEGORIES:09. Jazz Cerkno 2004
END:VEVENT
BEGIN:VEVENT
DTSTART;TZID=UTC:20040520T180000
DTEND;TZID=UTC:20040520T180000
DTSTAMP:20260420T213832
CREATED:20220617T125336Z
LAST-MODIFIED:20240213T090548Z
UID:19437-1085076000-1085076000@www.jazzcerkno.si
SUMMARY:Funtango/ Marko Hatlak z zasedbo
DESCRIPTION:20.05.2004 18:00“star plac” pred fontano (Cerkno) \nMarko Hatlak: harmonicaPolona Udovič: vocalMojca Križnič: violinaNeža Buh: klavirAndrej Pekarovič: kitaraMarko Gregorič: kontrabas
URL:https://www.jazzcerkno.si/event/funtango-marko-hatlak-z-zasedbo/
CATEGORIES:09. Jazz Cerkno 2004
END:VEVENT
END:VCALENDAR