BEGIN:VCALENDAR
VERSION:2.0
PRODID:-//Jazz Cerkno - ECPv6.3.2//NONSGML v1.0//EN
CALSCALE:GREGORIAN
METHOD:PUBLISH
X-ORIGINAL-URL:https://www.jazzcerkno.si
X-WR-CALDESC:Events for Jazz Cerkno
REFRESH-INTERVAL;VALUE=DURATION:PT1H
X-Robots-Tag:noindex
X-PUBLISHED-TTL:PT1H
BEGIN:VTIMEZONE
TZID:UTC
BEGIN:STANDARD
TZOFFSETFROM:+0000
TZOFFSETTO:+0000
TZNAME:UTC
DTSTART:19960101T000000
END:STANDARD
END:VTIMEZONE
BEGIN:VEVENT
DTSTART;TZID=UTC:19960525T000000
DTEND;TZID=UTC:19960525T000000
DTSTAMP:20260421T004520
CREATED:20220210T101902Z
LAST-MODIFIED:20240213T090758Z
UID:11237-832982400-832982400@www.jazzcerkno.si
SUMMARY:Maska
DESCRIPTION:25.05.1996bar pr` Gabrijelu (Cerkno) \nIgor Bezget: kitara\, kitarski synthesizerSamo Kolar: saksofonRobi Novak: basDamir Fenrich: bobni
URL:https://www.jazzcerkno.si/event/maska/
LOCATION:Gabrijel\, Cerkno
CATEGORIES:01. Jazz Cerkno 1996
END:VEVENT
BEGIN:VEVENT
DTSTART;TZID=UTC:19960518T000000
DTEND;TZID=UTC:19960518T000000
DTSTAMP:20260421T004520
CREATED:20220210T101902Z
LAST-MODIFIED:20240213T090759Z
UID:11236-832377600-832377600@www.jazzcerkno.si
SUMMARY:Etik trio
DESCRIPTION:18.05.1996bar pr` Gabrijelu (Cerkno) \nNevio Zaninotti: saksofonSalvatore Maiore: kontrabasZlatko Kaučič: bobni\, tolkala
URL:https://www.jazzcerkno.si/event/etik-trio/
LOCATION:Gabrijel\, Cerkno
CATEGORIES:01. Jazz Cerkno 1996
END:VEVENT
BEGIN:VEVENT
DTSTART;TZID=UTC:19960504T000000
DTEND;TZID=UTC:19960504T000000
DTSTAMP:20260421T004520
CREATED:20220210T101902Z
LAST-MODIFIED:20240213T090800Z
UID:11235-831168000-831168000@www.jazzcerkno.si
SUMMARY:Andrea Allione trio
DESCRIPTION:4.05.1996bar pr` Gabrijelu (Cerkno) \nAndrea Allione: kitaraSergio Candotti: el. bas\, kontrabasZlatko Kaučič: bobni\, tolkala
URL:https://www.jazzcerkno.si/event/andrea-allione-trio/
LOCATION:Gabrijel\, Cerkno
CATEGORIES:01. Jazz Cerkno 1996
END:VEVENT
END:VCALENDAR