BEGIN:VCALENDAR
VERSION:2.0
PRODID:-//Jazz Cerkno - ECPv6.3.2//NONSGML v1.0//EN
CALSCALE:GREGORIAN
METHOD:PUBLISH
X-WR-CALNAME:Jazz Cerkno
X-ORIGINAL-URL:https://www.jazzcerkno.si
X-WR-CALDESC:Events for Jazz Cerkno
REFRESH-INTERVAL;VALUE=DURATION:PT1H
X-Robots-Tag:noindex
X-PUBLISHED-TTL:PT1H
BEGIN:VTIMEZONE
TZID:UTC
BEGIN:STANDARD
TZOFFSETFROM:+0000
TZOFFSETTO:+0000
TZNAME:UTC
DTSTART:20030101T000000
END:STANDARD
END:VTIMEZONE
BEGIN:VEVENT
DTSTART;TZID=UTC:20050908T000000
DTEND;TZID=UTC:20050908T000000
DTSTAMP:20260421T063315
CREATED:20220617T124735Z
LAST-MODIFIED:20240213T090516Z
UID:19417-1126137600-1126137600@www.jazzcerkno.si
SUMMARY:KAL
DESCRIPTION:8.09.2005
URL:https://www.jazzcerkno.si/event/kal/
CATEGORIES:03. Keltika 2005
END:VEVENT
BEGIN:VEVENT
DTSTART;TZID=UTC:20050826T000000
DTEND;TZID=UTC:20050826T000000
DTSTAMP:20260421T063315
CREATED:20220617T124735Z
LAST-MODIFIED:20240213T090517Z
UID:19416-1125014400-1125014400@www.jazzcerkno.si
SUMMARY:Steve Hancoff
DESCRIPTION:26.08.2005
URL:https://www.jazzcerkno.si/event/steve-hancoff/
CATEGORIES:03. Keltika 2005
END:VEVENT
BEGIN:VEVENT
DTSTART;TZID=UTC:20050819T000000
DTEND;TZID=UTC:20050819T000000
DTSTAMP:20260421T063315
CREATED:20220617T124735Z
LAST-MODIFIED:20240213T090517Z
UID:19415-1124409600-1124409600@www.jazzcerkno.si
SUMMARY:Veryused Artists
DESCRIPTION:19.08.2005  \n 
URL:https://www.jazzcerkno.si/event/veryused-artists/
CATEGORIES:03. Keltika 2005
END:VEVENT
BEGIN:VEVENT
DTSTART;TZID=UTC:20050817T000000
DTEND;TZID=UTC:20050817T000000
DTSTAMP:20260421T063315
CREATED:20220617T124735Z
LAST-MODIFIED:20240213T090518Z
UID:19414-1124236800-1124236800@www.jazzcerkno.si
SUMMARY:Robotobibok
DESCRIPTION:17.08.2005
URL:https://www.jazzcerkno.si/event/robotobibok/
CATEGORIES:03. Keltika 2005
END:VEVENT
BEGIN:VEVENT
DTSTART;TZID=UTC:20050807T000000
DTEND;TZID=UTC:20050807T000000
DTSTAMP:20260421T063315
CREATED:20220617T124735Z
LAST-MODIFIED:20240213T090519Z
UID:19412-1123372800-1123372800@www.jazzcerkno.si
SUMMARY:Kar Češ Brass band
DESCRIPTION:7.08.2005
URL:https://www.jazzcerkno.si/event/kar-ces-brass-band-5/
CATEGORIES:03. Keltika 2005
END:VEVENT
BEGIN:VEVENT
DTSTART;TZID=UTC:20050807T000000
DTEND;TZID=UTC:20050807T000000
DTSTAMP:20260421T063315
CREATED:20220617T124735Z
LAST-MODIFIED:20240213T090519Z
UID:19413-1123372800-1123372800@www.jazzcerkno.si
SUMMARY:Etno Klarinetno
DESCRIPTION:7.08.2005
URL:https://www.jazzcerkno.si/event/etno-klarinetno/
CATEGORIES:03. Keltika 2005
END:VEVENT
BEGIN:VEVENT
DTSTART;TZID=UTC:20050629T000000
DTEND;TZID=UTC:20050629T000000
DTSTAMP:20260421T063315
CREATED:20220617T124735Z
LAST-MODIFIED:20240213T090520Z
UID:19411-1120003200-1120003200@www.jazzcerkno.si
SUMMARY:Lolita feat. Axel Dörner
DESCRIPTION:29.06.2005
URL:https://www.jazzcerkno.si/event/lolita-feat-axel-dorner/
CATEGORIES:03. Keltika 2005
END:VEVENT
BEGIN:VEVENT
DTSTART;TZID=UTC:20050612T000000
DTEND;TZID=UTC:20050612T000000
DTSTAMP:20260421T063315
CREATED:20220617T124735Z
LAST-MODIFIED:20240213T090521Z
UID:19410-1118534400-1118534400@www.jazzcerkno.si
SUMMARY:Shibusashirasu orchestra
DESCRIPTION:12.06.2005
URL:https://www.jazzcerkno.si/event/shibusashirasu-orchestra/
CATEGORIES:03. Keltika 2005
END:VEVENT
BEGIN:VEVENT
DTSTART;TZID=UTC:20050423T000000
DTEND;TZID=UTC:20050423T000000
DTSTAMP:20260421T063315
CREATED:20220617T124735Z
LAST-MODIFIED:20240213T090530Z
UID:19409-1114214400-1114214400@www.jazzcerkno.si
SUMMARY:Goran Utan band
DESCRIPTION:23.04.2005 \n 
URL:https://www.jazzcerkno.si/event/goran-utan-band/
CATEGORIES:03. Keltika 2005
END:VEVENT
BEGIN:VEVENT
DTSTART;TZID=UTC:20050416T000000
DTEND;TZID=UTC:20050416T000000
DTSTAMP:20260421T063315
CREATED:20220617T124735Z
LAST-MODIFIED:20240213T090530Z
UID:19408-1113609600-1113609600@www.jazzcerkno.si
SUMMARY:Aritmija
DESCRIPTION:16.04.2005
URL:https://www.jazzcerkno.si/event/aritmija/
CATEGORIES:03. Keltika 2005
END:VEVENT
BEGIN:VEVENT
DTSTART;TZID=UTC:20050310T000000
DTEND;TZID=UTC:20050310T000000
DTSTAMP:20260421T063315
CREATED:20220617T124735Z
LAST-MODIFIED:20240213T090531Z
UID:19407-1110412800-1110412800@www.jazzcerkno.si
SUMMARY:Kathleen Yearwood
DESCRIPTION:10.03.2005
URL:https://www.jazzcerkno.si/event/kathleen-yearwood/
CATEGORIES:03. Keltika 2005
END:VEVENT
BEGIN:VEVENT
DTSTART;TZID=UTC:20050226T000000
DTEND;TZID=UTC:20050226T000000
DTSTAMP:20260421T063315
CREATED:20220617T124735Z
LAST-MODIFIED:20240213T090531Z
UID:19406-1109376000-1109376000@www.jazzcerkno.si
SUMMARY:Orlek
DESCRIPTION:26.02.2005
URL:https://www.jazzcerkno.si/event/orlek-3/
CATEGORIES:03. Keltika 2005
END:VEVENT
BEGIN:VEVENT
DTSTART;TZID=UTC:20050208T000000
DTEND;TZID=UTC:20050208T000000
DTSTAMP:20260421T063315
CREATED:20220617T124735Z
LAST-MODIFIED:20240213T090532Z
UID:19405-1107820800-1107820800@www.jazzcerkno.si
SUMMARY:Dj Abstract Truth
DESCRIPTION:8.02.2005
URL:https://www.jazzcerkno.si/event/dj-abstract-truth/
CATEGORIES:03. Keltika 2005
END:VEVENT
BEGIN:VEVENT
DTSTART;TZID=UTC:20041127T000000
DTEND;TZID=UTC:20041127T000000
DTSTAMP:20260421T063315
CREATED:20220617T125609Z
LAST-MODIFIED:20240213T090535Z
UID:19467-1101513600-1101513600@www.jazzcerkno.si
SUMMARY:Tolovaj Mataj
DESCRIPTION:27.11.2004
URL:https://www.jazzcerkno.si/event/tolovaj-mataj/
CATEGORIES:02. Keltika 2004
END:VEVENT
BEGIN:VEVENT
DTSTART;TZID=UTC:20041009T000000
DTEND;TZID=UTC:20041009T000000
DTSTAMP:20260421T063315
CREATED:20220617T125609Z
LAST-MODIFIED:20240213T090536Z
UID:19466-1097280000-1097280000@www.jazzcerkno.si
SUMMARY:Erich Fischer kvintet
DESCRIPTION:9.10.2004
URL:https://www.jazzcerkno.si/event/erich-fischer-kvintet/
CATEGORIES:02. Keltika 2004
END:VEVENT
BEGIN:VEVENT
DTSTART;TZID=UTC:20040930T000000
DTEND;TZID=UTC:20040930T000000
DTSTAMP:20260421T063315
CREATED:20220617T125609Z
LAST-MODIFIED:20240213T090537Z
UID:19465-1096502400-1096502400@www.jazzcerkno.si
SUMMARY:Igor Lunder With Reeds
DESCRIPTION:30.09.2004
URL:https://www.jazzcerkno.si/event/igor-lunder-with-reeds/
CATEGORIES:02. Keltika 2004
END:VEVENT
BEGIN:VEVENT
DTSTART;TZID=UTC:20040821T000000
DTEND;TZID=UTC:20040821T000000
DTSTAMP:20260421T063315
CREATED:20220617T125609Z
LAST-MODIFIED:20240213T090538Z
UID:19464-1093046400-1093046400@www.jazzcerkno.si
SUMMARY:Aleš Hadalin z gosti
DESCRIPTION:21.08.2004
URL:https://www.jazzcerkno.si/event/ales-hadalin-z-gosti/
CATEGORIES:02. Keltika 2004
END:VEVENT
BEGIN:VEVENT
DTSTART;TZID=UTC:20040813T000000
DTEND;TZID=UTC:20040813T000000
DTSTAMP:20260421T063315
CREATED:20220617T125609Z
LAST-MODIFIED:20240213T090538Z
UID:19463-1092355200-1092355200@www.jazzcerkno.si
SUMMARY:Eclipse
DESCRIPTION:13.08.2004
URL:https://www.jazzcerkno.si/event/eclipse-3/
CATEGORIES:02. Keltika 2004
END:VEVENT
BEGIN:VEVENT
DTSTART;TZID=UTC:20040514T000000
DTEND;TZID=UTC:20040514T000000
DTSTAMP:20260421T063315
CREATED:20220617T125609Z
LAST-MODIFIED:20240213T090549Z
UID:19462-1084492800-1084492800@www.jazzcerkno.si
SUMMARY:Miro Božič-ujeti zvoki
DESCRIPTION:14.05.2004
URL:https://www.jazzcerkno.si/event/miro-bozic-ujeti-zvoki/
CATEGORIES:02. Keltika 2004
END:VEVENT
BEGIN:VEVENT
DTSTART;TZID=UTC:20040327T000000
DTEND;TZID=UTC:20040327T000000
DTSTAMP:20260421T063315
CREATED:20220617T125609Z
LAST-MODIFIED:20240213T090550Z
UID:19461-1080345600-1080345600@www.jazzcerkno.si
SUMMARY:Silvia Penide
DESCRIPTION:27.03.2004
URL:https://www.jazzcerkno.si/event/silvia-penide-2/
CATEGORIES:02. Keltika 2004
END:VEVENT
BEGIN:VEVENT
DTSTART;TZID=UTC:20040325T000000
DTEND;TZID=UTC:20040325T000000
DTSTAMP:20260421T063315
CREATED:20220617T125609Z
LAST-MODIFIED:20240213T090550Z
UID:19460-1080172800-1080172800@www.jazzcerkno.si
SUMMARY:Uršula Ramoveš
DESCRIPTION:25.03.2004
URL:https://www.jazzcerkno.si/event/ursula-ramoves/
CATEGORIES:02. Keltika 2004
END:VEVENT
BEGIN:VEVENT
DTSTART;TZID=UTC:20040208T000000
DTEND;TZID=UTC:20040208T000000
DTSTAMP:20260421T063315
CREATED:20220617T125609Z
LAST-MODIFIED:20240213T090552Z
UID:19459-1076198400-1076198400@www.jazzcerkno.si
SUMMARY:Feichtmair + Smith
DESCRIPTION:8.02.2004 \n 
URL:https://www.jazzcerkno.si/event/feichtmair-smith/
CATEGORIES:02. Keltika 2004
END:VEVENT
BEGIN:VEVENT
DTSTART;TZID=UTC:20031217T000000
DTEND;TZID=UTC:20031217T000000
DTSTAMP:20260421T063315
CREATED:20220620T100852Z
LAST-MODIFIED:20240213T090555Z
UID:19558-1071619200-1071619200@www.jazzcerkno.si
SUMMARY:Gutbucket
DESCRIPTION:17.12.2003
URL:https://www.jazzcerkno.si/event/gutbucket/
CATEGORIES:01. Keltika 2003
END:VEVENT
BEGIN:VEVENT
DTSTART;TZID=UTC:20031211T000000
DTEND;TZID=UTC:20031211T000000
DTSTAMP:20260421T063315
CREATED:20220620T100852Z
LAST-MODIFIED:20240213T090555Z
UID:19557-1071100800-1071100800@www.jazzcerkno.si
SUMMARY:Brina
DESCRIPTION:11.12.2003
URL:https://www.jazzcerkno.si/event/brina-3/
CATEGORIES:01. Keltika 2003
END:VEVENT
BEGIN:VEVENT
DTSTART;TZID=UTC:20031204T000000
DTEND;TZID=UTC:20031204T000000
DTSTAMP:20260421T063315
CREATED:20220620T100852Z
LAST-MODIFIED:20240213T090556Z
UID:19556-1070496000-1070496000@www.jazzcerkno.si
SUMMARY:Francesco Cusa "Skrunch"
DESCRIPTION:4.12.2003
URL:https://www.jazzcerkno.si/event/francesco-cusa-skrunch/
CATEGORIES:01. Keltika 2003
END:VEVENT
BEGIN:VEVENT
DTSTART;TZID=UTC:20031020T000000
DTEND;TZID=UTC:20031020T000000
DTSTAMP:20260421T063315
CREATED:20220620T100852Z
LAST-MODIFIED:20240213T090557Z
UID:19555-1066608000-1066608000@www.jazzcerkno.si
SUMMARY:Brötzmann\, Gustafsson\, Vandermark
DESCRIPTION:20.10.2003
URL:https://www.jazzcerkno.si/event/brotzmann-gustafsson-vandermark/
CATEGORIES:01. Keltika 2003
END:VEVENT
BEGIN:VEVENT
DTSTART;TZID=UTC:20031002T000000
DTEND;TZID=UTC:20031002T000000
DTSTAMP:20260421T063315
CREATED:20220620T100852Z
LAST-MODIFIED:20240213T090559Z
UID:19554-1065052800-1065052800@www.jazzcerkno.si
SUMMARY:Ebony Swingers
DESCRIPTION:2.10.2003
URL:https://www.jazzcerkno.si/event/ebony-swingers/
CATEGORIES:01. Keltika 2003
END:VEVENT
BEGIN:VEVENT
DTSTART;TZID=UTC:20030831T000000
DTEND;TZID=UTC:20030831T000000
DTSTAMP:20260421T063315
CREATED:20220620T100852Z
LAST-MODIFIED:20240213T090600Z
UID:19553-1062288000-1062288000@www.jazzcerkno.si
SUMMARY:La Famiglia Scannapiece
DESCRIPTION:31.08.2003
URL:https://www.jazzcerkno.si/event/la-famiglia-scannapiece/
CATEGORIES:01. Keltika 2003
END:VEVENT
BEGIN:VEVENT
DTSTART;TZID=UTC:20030828T000000
DTEND;TZID=UTC:20030828T000000
DTSTAMP:20260421T063315
CREATED:20220620T100852Z
LAST-MODIFIED:20240213T090601Z
UID:19552-1062028800-1062028800@www.jazzcerkno.si
SUMMARY:orkester Kemala Aguševa
DESCRIPTION:28.08.2003
URL:https://www.jazzcerkno.si/event/orkester-kemala-aguseva/
CATEGORIES:01. Keltika 2003
END:VEVENT
BEGIN:VEVENT
DTSTART;TZID=UTC:20030823T000000
DTEND;TZID=UTC:20030823T000000
DTSTAMP:20260421T063315
CREATED:20220620T100852Z
LAST-MODIFIED:20240213T090602Z
UID:19551-1061596800-1061596800@www.jazzcerkno.si
SUMMARY:Madingma
DESCRIPTION:23.08.2003
URL:https://www.jazzcerkno.si/event/madingma/
CATEGORIES:01. Keltika 2003
END:VEVENT
END:VCALENDAR