BEGIN:VCALENDAR
VERSION:2.0
PRODID:-//Jazz Cerkno - ECPv6.3.2//NONSGML v1.0//EN
CALSCALE:GREGORIAN
METHOD:PUBLISH
X-WR-CALNAME:Jazz Cerkno
X-ORIGINAL-URL:https://www.jazzcerkno.si
X-WR-CALDESC:Events for Jazz Cerkno
REFRESH-INTERVAL;VALUE=DURATION:PT1H
X-Robots-Tag:noindex
X-PUBLISHED-TTL:PT1H
BEGIN:VTIMEZONE
TZID:UTC
BEGIN:STANDARD
TZOFFSETFROM:+0000
TZOFFSETTO:+0000
TZNAME:UTC
DTSTART:20050101T000000
END:STANDARD
END:VTIMEZONE
BEGIN:VEVENT
DTSTART;TZID=UTC:20070909T000000
DTEND;TZID=UTC:20070909T000000
DTSTAMP:20260421T032128
CREATED:20220617T111704Z
LAST-MODIFIED:20240213T090433Z
UID:19302-1189296000-1189296000@www.jazzcerkno.si
SUMMARY:Herb Robertson & Zlatko Kaučič featuring Zoltán Lantos
DESCRIPTION:9.09.2007 
URL:https://www.jazzcerkno.si/event/herb-robertson-zlatko-kaucic-featuring-zoltan-lantos/
CATEGORIES:05. Keltika 2007
END:VEVENT
BEGIN:VEVENT
DTSTART;TZID=UTC:20070817T000000
DTEND;TZID=UTC:20070817T000000
DTSTAMP:20260421T032128
CREATED:20220617T111704Z
LAST-MODIFIED:20240213T090434Z
UID:19300-1187308800-1187308800@www.jazzcerkno.si
SUMMARY:Siti Hlapci
DESCRIPTION:17.08.2007 
URL:https://www.jazzcerkno.si/event/siti-hlapci/
CATEGORIES:05. Keltika 2007
END:VEVENT
BEGIN:VEVENT
DTSTART;TZID=UTC:20070817T000000
DTEND;TZID=UTC:20070817T000000
DTSTAMP:20260421T032128
CREATED:20220617T111704Z
LAST-MODIFIED:20240213T090435Z
UID:19301-1187308800-1187308800@www.jazzcerkno.si
SUMMARY:Avtomobili
DESCRIPTION:17.08.2007
URL:https://www.jazzcerkno.si/event/avtomobili-2/
CATEGORIES:05. Keltika 2007
END:VEVENT
BEGIN:VEVENT
DTSTART;TZID=UTC:20070810T000000
DTEND;TZID=UTC:20070810T000000
DTSTAMP:20260421T032128
CREATED:20220617T111704Z
LAST-MODIFIED:20240213T090435Z
UID:19298-1186704000-1186704000@www.jazzcerkno.si
SUMMARY:Čompe
DESCRIPTION:10.08.2007  \n			\n				\n				\n				\n				\n				Janez Škof: diatonična harmonika\, glasNeža Zinaić: violinaBreda Krumpak: altovski\, saksofonŽiga Saksida: altovski\, baritonski saksofonSilvo Zupančič: kitaraMarjan Stanić: bobni\, tolkala
URL:https://www.jazzcerkno.si/event/compe/
CATEGORIES:05. Keltika 2007
END:VEVENT
BEGIN:VEVENT
DTSTART;TZID=UTC:20070810T000000
DTEND;TZID=UTC:20070810T000000
DTSTAMP:20260421T032128
CREATED:20220617T111704Z
LAST-MODIFIED:20240213T090436Z
UID:19299-1186704000-1186704000@www.jazzcerkno.si
SUMMARY:Funtango
DESCRIPTION:10.08.2007  \n			\n				\n				\n				\n				\n				Andrej Pekarovič: kitaraBojan Cvetrežnik: CV violinaMarko Hatlak: harmonikaSašo Vollmaier: klavirPiero Malkoč: kontrabas
URL:https://www.jazzcerkno.si/event/funtango/
CATEGORIES:05. Keltika 2007
END:VEVENT
BEGIN:VEVENT
DTSTART;TZID=UTC:20070624T000000
DTEND;TZID=UTC:20070624T000000
DTSTAMP:20260421T032128
CREATED:20220617T111704Z
LAST-MODIFIED:20240213T090437Z
UID:19297-1182643200-1182643200@www.jazzcerkno.si
SUMMARY:King Naat Veliov and Original Kochani Orkestar
DESCRIPTION:24.06.2007
URL:https://www.jazzcerkno.si/event/king-naat-veliov-and-original-kochani-orkestar/
CATEGORIES:05. Keltika 2007
END:VEVENT
BEGIN:VEVENT
DTSTART;TZID=UTC:20070502T000000
DTEND;TZID=UTC:20070502T000000
DTSTAMP:20260421T032128
CREATED:20220617T111704Z
LAST-MODIFIED:20240213T090448Z
UID:19296-1178064000-1178064000@www.jazzcerkno.si
SUMMARY:Flying Donuts + predskupina Not Yet
DESCRIPTION:2.05.2007 
URL:https://www.jazzcerkno.si/event/flying-donuts-predskupina-not-yet/
CATEGORIES:05. Keltika 2007
END:VEVENT
BEGIN:VEVENT
DTSTART;TZID=UTC:20070331T000000
DTEND;TZID=UTC:20070331T000000
DTSTAMP:20260421T032128
CREATED:20220617T111704Z
LAST-MODIFIED:20240213T090449Z
UID:19295-1175299200-1175299200@www.jazzcerkno.si
SUMMARY:Miusow Quartet
DESCRIPTION:31.03.2007  \n \n			\n				\n				\n				\n				\n				Andrej Čopar: saksofoni\, flavtaMarko Brdnik: harmonikaTibor Mihelič: bas kitaraBlaž Grm: bobni
URL:https://www.jazzcerkno.si/event/miusow-quartet/
CATEGORIES:05. Keltika 2007
END:VEVENT
BEGIN:VEVENT
DTSTART;TZID=UTC:20070317T000000
DTEND;TZID=UTC:20070317T000000
DTSTAMP:20260421T032128
CREATED:20220617T111704Z
LAST-MODIFIED:20240213T090450Z
UID:19294-1174089600-1174089600@www.jazzcerkno.si
SUMMARY:Vuneny
DESCRIPTION:17.03.2007 
URL:https://www.jazzcerkno.si/event/vuneny/
CATEGORIES:05. Keltika 2007
END:VEVENT
BEGIN:VEVENT
DTSTART;TZID=UTC:20070207T000000
DTEND;TZID=UTC:20070207T000000
DTSTAMP:20260421T032128
CREATED:20220617T111704Z
LAST-MODIFIED:20240213T090452Z
UID:19293-1170806400-1170806400@www.jazzcerkno.si
SUMMARY:Klarisa Jovanović & Trio Bahur
DESCRIPTION:7.02.2007 
URL:https://www.jazzcerkno.si/event/klarisa-jovanovic-trio-bahur/
CATEGORIES:05. Keltika 2007
END:VEVENT
BEGIN:VEVENT
DTSTART;TZID=UTC:20061013T000000
DTEND;TZID=UTC:20061013T000000
DTSTAMP:20260421T032128
CREATED:20220617T123455Z
LAST-MODIFIED:20240213T090455Z
UID:19364-1160697600-1160697600@www.jazzcerkno.si
SUMMARY:Adam West
DESCRIPTION:13.10.2006 
URL:https://www.jazzcerkno.si/event/adam-west/
CATEGORIES:04. Keltika 2006
END:VEVENT
BEGIN:VEVENT
DTSTART;TZID=UTC:20060930T000000
DTEND;TZID=UTC:20060930T000000
DTSTAMP:20260421T032128
CREATED:20220617T123455Z
LAST-MODIFIED:20240213T090456Z
UID:19363-1159574400-1159574400@www.jazzcerkno.si
SUMMARY:Bojan Gorišek / Milko Lazar - dva klavirja
DESCRIPTION:30.09.2006  
URL:https://www.jazzcerkno.si/event/bojan-gorisek-milko-lazar-dva-klavirja/
CATEGORIES:04. Keltika 2006
END:VEVENT
BEGIN:VEVENT
DTSTART;TZID=UTC:20060923T000000
DTEND;TZID=UTC:20060923T000000
DTSTAMP:20260421T032128
CREATED:20220617T123455Z
LAST-MODIFIED:20240213T090457Z
UID:19362-1158969600-1158969600@www.jazzcerkno.si
SUMMARY:Belgradeyard Soundsystem
DESCRIPTION:23.09.2006 
URL:https://www.jazzcerkno.si/event/belgradeyard-soundsystem/
CATEGORIES:04. Keltika 2006
END:VEVENT
BEGIN:VEVENT
DTSTART;TZID=UTC:20060909T000000
DTEND;TZID=UTC:20060909T000000
DTSTAMP:20260421T032128
CREATED:20220617T123455Z
LAST-MODIFIED:20240213T090457Z
UID:19361-1157760000-1157760000@www.jazzcerkno.si
SUMMARY:Zlatko Kaučič KOMBO
DESCRIPTION:9.09.2006
URL:https://www.jazzcerkno.si/event/zlatko-kaucic-kombo/
CATEGORIES:04. Keltika 2006
END:VEVENT
BEGIN:VEVENT
DTSTART;TZID=UTC:20060818T000000
DTEND;TZID=UTC:20060818T000000
DTSTAMP:20260421T032128
CREATED:20220617T123455Z
LAST-MODIFIED:20240213T090459Z
UID:19360-1155859200-1155859200@www.jazzcerkno.si
SUMMARY:Eclipse
DESCRIPTION:18.08.2006 
URL:https://www.jazzcerkno.si/event/eclipse-2/
CATEGORIES:04. Keltika 2006
END:VEVENT
BEGIN:VEVENT
DTSTART;TZID=UTC:20060716T000000
DTEND;TZID=UTC:20060716T000000
DTSTAMP:20260421T032128
CREATED:20220617T123455Z
LAST-MODIFIED:20240213T090459Z
UID:19359-1153008000-1153008000@www.jazzcerkno.si
SUMMARY:Foltin
DESCRIPTION:16.07.2006 
URL:https://www.jazzcerkno.si/event/foltin-3/
CATEGORIES:04. Keltika 2006
END:VEVENT
BEGIN:VEVENT
DTSTART;TZID=UTC:20060604T000000
DTEND;TZID=UTC:20060604T000000
DTSTAMP:20260421T032128
CREATED:20220617T123455Z
LAST-MODIFIED:20240213T090500Z
UID:19358-1149379200-1149379200@www.jazzcerkno.si
SUMMARY:Sagar
DESCRIPTION:4.06.2006  \n			\n				\n				\n				\n				\n				Gyan Singh: tablaSharat Chandra Shrivastava: violinaIgor Bezget: kitaraDamir Višič: sarodTadej Kampl: basNino Mureškič: bobni\, riq\, cajon\, bendir
URL:https://www.jazzcerkno.si/event/sagar/
CATEGORIES:04. Keltika 2006
END:VEVENT
BEGIN:VEVENT
DTSTART;TZID=UTC:20060401T000000
DTEND;TZID=UTC:20060401T000000
DTSTAMP:20260421T032128
CREATED:20220617T123455Z
LAST-MODIFIED:20240213T090508Z
UID:19357-1143849600-1143849600@www.jazzcerkno.si
SUMMARY:Crazed Farmers
DESCRIPTION:1.04.2006 
URL:https://www.jazzcerkno.si/event/crazed-farmers-2/
CATEGORIES:04. Keltika 2006
END:VEVENT
BEGIN:VEVENT
DTSTART;TZID=UTC:20060309T000000
DTEND;TZID=UTC:20060309T000000
DTSTAMP:20260421T032128
CREATED:20220617T123455Z
LAST-MODIFIED:20240213T090509Z
UID:19356-1141862400-1141862400@www.jazzcerkno.si
SUMMARY:Aleš Hadalin kvartet – NOREC
DESCRIPTION:9.03.2006
URL:https://www.jazzcerkno.si/event/ales-hadalin-kvartet-norec/
CATEGORIES:04. Keltika 2006
END:VEVENT
BEGIN:VEVENT
DTSTART;TZID=UTC:20060305T000000
DTEND;TZID=UTC:20060305T000000
DTSTAMP:20260421T032128
CREATED:20220617T123455Z
LAST-MODIFIED:20240213T090509Z
UID:19355-1141516800-1141516800@www.jazzcerkno.si
SUMMARY:Peter Brötzmann / Nasheet Waits
DESCRIPTION:5.03.2006
URL:https://www.jazzcerkno.si/event/peter-brotzmann-nasheet-waits/
CATEGORIES:04. Keltika 2006
END:VEVENT
BEGIN:VEVENT
DTSTART;TZID=UTC:20060211T000000
DTEND;TZID=UTC:20060211T000000
DTSTAMP:20260421T032128
CREATED:20220617T123455Z
LAST-MODIFIED:20240213T090512Z
UID:19354-1139616000-1139616000@www.jazzcerkno.si
SUMMARY:Katalena
DESCRIPTION:11.02.2006 
URL:https://www.jazzcerkno.si/event/katalena-4/
CATEGORIES:04. Keltika 2006
END:VEVENT
BEGIN:VEVENT
DTSTART;TZID=UTC:20060207T000000
DTEND;TZID=UTC:20060207T000000
DTSTAMP:20260421T032128
CREATED:20220617T123455Z
LAST-MODIFIED:20240213T090512Z
UID:19353-1139270400-1139270400@www.jazzcerkno.si
SUMMARY:DJ Abstraktna resnica
DESCRIPTION:7.02.2006 
URL:https://www.jazzcerkno.si/event/dj-abstraktna-resnica/
CATEGORIES:04. Keltika 2006
END:VEVENT
BEGIN:VEVENT
DTSTART;TZID=UTC:20051117T000000
DTEND;TZID=UTC:20051117T000000
DTSTAMP:20260421T032128
CREATED:20220617T124735Z
LAST-MODIFIED:20240213T090515Z
UID:19419-1132185600-1132185600@www.jazzcerkno.si
SUMMARY:Mambo Mantis
DESCRIPTION:17.11.2005
URL:https://www.jazzcerkno.si/event/mambo-mantis/
CATEGORIES:03. Keltika 2005
END:VEVENT
BEGIN:VEVENT
DTSTART;TZID=UTC:20051014T000000
DTEND;TZID=UTC:20051014T000000
DTSTAMP:20260421T032129
CREATED:20220617T124735Z
LAST-MODIFIED:20240213T090516Z
UID:19418-1129248000-1129248000@www.jazzcerkno.si
SUMMARY:Francesco Cusa
DESCRIPTION:14.10.2005
URL:https://www.jazzcerkno.si/event/francesco-cusa/
CATEGORIES:03. Keltika 2005
END:VEVENT
BEGIN:VEVENT
DTSTART;TZID=UTC:20050908T000000
DTEND;TZID=UTC:20050908T000000
DTSTAMP:20260421T032129
CREATED:20220617T124735Z
LAST-MODIFIED:20240213T090516Z
UID:19417-1126137600-1126137600@www.jazzcerkno.si
SUMMARY:KAL
DESCRIPTION:8.09.2005
URL:https://www.jazzcerkno.si/event/kal/
CATEGORIES:03. Keltika 2005
END:VEVENT
BEGIN:VEVENT
DTSTART;TZID=UTC:20050826T000000
DTEND;TZID=UTC:20050826T000000
DTSTAMP:20260421T032129
CREATED:20220617T124735Z
LAST-MODIFIED:20240213T090517Z
UID:19416-1125014400-1125014400@www.jazzcerkno.si
SUMMARY:Steve Hancoff
DESCRIPTION:26.08.2005
URL:https://www.jazzcerkno.si/event/steve-hancoff/
CATEGORIES:03. Keltika 2005
END:VEVENT
BEGIN:VEVENT
DTSTART;TZID=UTC:20050819T000000
DTEND;TZID=UTC:20050819T000000
DTSTAMP:20260421T032129
CREATED:20220617T124735Z
LAST-MODIFIED:20240213T090517Z
UID:19415-1124409600-1124409600@www.jazzcerkno.si
SUMMARY:Veryused Artists
DESCRIPTION:19.08.2005  \n 
URL:https://www.jazzcerkno.si/event/veryused-artists/
CATEGORIES:03. Keltika 2005
END:VEVENT
BEGIN:VEVENT
DTSTART;TZID=UTC:20050817T000000
DTEND;TZID=UTC:20050817T000000
DTSTAMP:20260421T032129
CREATED:20220617T124735Z
LAST-MODIFIED:20240213T090518Z
UID:19414-1124236800-1124236800@www.jazzcerkno.si
SUMMARY:Robotobibok
DESCRIPTION:17.08.2005
URL:https://www.jazzcerkno.si/event/robotobibok/
CATEGORIES:03. Keltika 2005
END:VEVENT
BEGIN:VEVENT
DTSTART;TZID=UTC:20050807T000000
DTEND;TZID=UTC:20050807T000000
DTSTAMP:20260421T032129
CREATED:20220617T124735Z
LAST-MODIFIED:20240213T090519Z
UID:19412-1123372800-1123372800@www.jazzcerkno.si
SUMMARY:Kar Češ Brass band
DESCRIPTION:7.08.2005
URL:https://www.jazzcerkno.si/event/kar-ces-brass-band-5/
CATEGORIES:03. Keltika 2005
END:VEVENT
BEGIN:VEVENT
DTSTART;TZID=UTC:20050807T000000
DTEND;TZID=UTC:20050807T000000
DTSTAMP:20260421T032129
CREATED:20220617T124735Z
LAST-MODIFIED:20240213T090519Z
UID:19413-1123372800-1123372800@www.jazzcerkno.si
SUMMARY:Etno Klarinetno
DESCRIPTION:7.08.2005
URL:https://www.jazzcerkno.si/event/etno-klarinetno/
CATEGORIES:03. Keltika 2005
END:VEVENT
END:VCALENDAR