BEGIN:VCALENDAR
VERSION:2.0
PRODID:-//Jazz Cerkno - ECPv6.3.2//NONSGML v1.0//EN
CALSCALE:GREGORIAN
METHOD:PUBLISH
X-WR-CALNAME:Jazz Cerkno
X-ORIGINAL-URL:https://www.jazzcerkno.si
X-WR-CALDESC:Events for Jazz Cerkno
REFRESH-INTERVAL;VALUE=DURATION:PT1H
X-Robots-Tag:noindex
X-PUBLISHED-TTL:PT1H
BEGIN:VTIMEZONE
TZID:UTC
BEGIN:STANDARD
TZOFFSETFROM:+0000
TZOFFSETTO:+0000
TZNAME:UTC
DTSTART:20160101T000000
END:STANDARD
END:VTIMEZONE
BEGIN:VEVENT
DTSTART;TZID=UTC:20161126T210000
DTEND;TZID=UTC:20161126T210000
DTSTAMP:20260420T133310
CREATED:20220222T122054Z
LAST-MODIFIED:20240213T090116Z
UID:13075-1480194000-1480194000@www.jazzcerkno.si
SUMMARY:Hella Comet
DESCRIPTION:26.11.2016 21:00 \nGabrijel\, Cerkno \nLea Sonnek (glas\, bas kitara)Franz Gurt (kitara)Jürgen Hochsam (kitara)Slobodan Kajkut (bobni) \nhrupni melodični post-punkovski rock \n			\n			\n				\n				\n				\n				\n				\n				\n				\n				\n				\n				\n			\n				\n				\n					\n					\n					\n				\n				\n				\n					\n					\n					\n				\n				\n				\n					\n					\n					\n				\n				\n				\n					\n					\n					\n				\n				\n				\n					\n					\n					\n				\n				\n				\n					\n					\n					\n				\n				\n				\n					\n					\n					\n				\n				\n				\n					\n					\n					\n				\n				\n				\n					\n					\n					\n				\n				\n				\n					\n					\n					\n				\n				\n				\n					\n					\n					\n				\n				\n				\n					\n					\n					\n				\n				\n				\n					\n					\n					\n				\n				\n				\n					\n					\n					\n				\n				\n				\n					\n					\n					\n				\n				\n				\n					\n					\n					\n				\n				\n				\n					\n					\n					\n				\n				\n				\n					\n					\n					\n				\n				\n				\n					\n					\n					\n				\n				\n				\n					\n					\n					\n				\n				\n				\n					\n					\n					\n				\n				\n				\n					\n					\n					\n				\n				\n				\n					\n					\n					\n				\n				\n				\n					\n					\n					\n				\n				\n				\n					\n					\n					\n				\n				\n				\n					\n					\n					\n				\n				\n				\n					\n					\n					\n				\n				\n				\n					\n					\n					\n				\n				\n				\n					\n					\n					\n				\n				\n				\n				\n				\n				\n				Foto: Marko Serafimović
URL:https://www.jazzcerkno.si/event/hella-comet/
LOCATION:Gabrijel\, Cerkno
CATEGORIES:21. Keltika 2016
ATTACH;FMTTYPE=image/jpeg:https://www.jazzcerkno.si/wp-content/uploads/2022/02/jazzcerkno-Hella-Comet-22.jpg
END:VEVENT
BEGIN:VEVENT
DTSTART;TZID=UTC:20161030T210000
DTEND;TZID=UTC:20161030T210000
DTSTAMP:20260420T133310
CREATED:20220222T121755Z
LAST-MODIFIED:20240213T090116Z
UID:13033-1477861200-1477861200@www.jazzcerkno.si
SUMMARY:Made to Break
DESCRIPTION:30.10.2016 21:00 \nGabrijel\, Cerkno \nKen Vandermark (saksofoni\, klarineti)Christof Kurzmann (elektronika)Jasper Stadhouders (bas kitara)Tim Daisy (bobni) \neksperimentalni jazz \n			\n			\n				\n				\n				\n				\n				\n				\n				\n				\n				\n				\n			\n				\n				\n					\n					\n					\n				\n				\n				\n					\n					\n					\n				\n				\n				\n					\n					\n					\n				\n				\n				\n					\n					\n					\n				\n				\n				\n					\n					\n					\n				\n				\n				\n					\n					\n					\n				\n				\n				\n					\n					\n					\n				\n				\n				\n					\n					\n					\n				\n				\n				\n					\n					\n					\n				\n				\n				\n					\n					\n					\n				\n				\n				\n					\n					\n					\n				\n				\n				\n					\n					\n					\n				\n				\n				\n					\n					\n					\n				\n				\n				\n					\n					\n					\n				\n				\n				\n					\n					\n					\n				\n				\n				\n					\n					\n					\n				\n				\n				\n					\n					\n					\n				\n				\n				\n					\n					\n					\n				\n				\n				\n				\n				\n				\n				Foto: Marko Serafimović
URL:https://www.jazzcerkno.si/event/made-to-break/
LOCATION:Gabrijel\, Cerkno
CATEGORIES:21. Keltika 2016
ATTACH;FMTTYPE=image/jpeg:https://www.jazzcerkno.si/wp-content/uploads/2022/02/jazzcerkno-Made-to-Break-8.jpg
END:VEVENT
BEGIN:VEVENT
DTSTART;TZID=UTC:20161008T200000
DTEND;TZID=UTC:20161008T200000
DTSTAMP:20260420T133310
CREATED:20220222T121501Z
LAST-MODIFIED:20240213T090117Z
UID:13008-1475956800-1475956800@www.jazzcerkno.si
SUMMARY:Anthony Coleman
DESCRIPTION:8.10.2016 20:00 \nGlasbena šola Cerkno \nAnthony Coleman – klavir \nod klasičnega jazza do jazzirane klasike \n			\n			\n				\n				\n				\n				\n				\n				\n				\n				\n				\n				\n			\n				\n				\n					\n					\n					\n				\n				\n				\n					\n					\n					\n				\n				\n				\n					\n					\n					\n				\n				\n				\n					\n					\n					\n				\n				\n				\n					\n					\n					\n				\n				\n				\n					\n					\n					\n				\n				\n				\n					\n					\n					\n				\n				\n				\n					\n					\n					\n				\n				\n				\n					\n					\n					\n				\n				\n				\n					\n					\n					\n				\n				\n				\n				\n				\n				\n				Foto: Marko Serafimović
URL:https://www.jazzcerkno.si/event/anthony-coleman/
LOCATION:Glasbena šola Cerkno
CATEGORIES:21. Keltika 2016
ATTACH;FMTTYPE=image/jpeg:https://www.jazzcerkno.si/wp-content/uploads/2022/02/jazzcerkno-Anthony-Coleman-1.jpg
END:VEVENT
BEGIN:VEVENT
DTSTART;TZID=UTC:20160806T210000
DTEND;TZID=UTC:20160806T210000
DTSTAMP:20260420T133310
CREATED:20220222T121202Z
LAST-MODIFIED:20240213T090118Z
UID:12964-1470517200-1470517200@www.jazzcerkno.si
SUMMARY:Olfamož z Olfamoštvom
DESCRIPTION:6.8.2016 21:00 \nStar plac\, Cerkno \nAndrej Fon (saksofon\, el. in ak. kitara\, besedila\, glas)Ana Kravanja (violina\, glas\, balafon\, zvočila)Jošt Drašler (kontrabas)Marko Jenič (violina)Martin Ukmar (el. kitara)Vesna Godler (glas\, ropotulje)Vid Drašler (bobni)Samo Kutin (balafon\, glas\, klaviature\, zvočila)Ivo Poderžaj (el. bas) \nalternativno jazz kantavtorstvo \n			\n			\n				\n				\n				\n				\n				\n				\n				\n				\n				\n				\n			\n				\n				\n					\n					\n					\n				\n				\n				\n					\n					\n					\n				\n				\n				\n					\n					\n					\n				\n				\n				\n					\n					\n					\n				\n				\n				\n					\n					\n					\n				\n				\n				\n					\n					\n					\n				\n				\n				\n					\n					\n					\n				\n				\n				\n					\n					\n					\n				\n				\n				\n					\n					\n					\n				\n				\n				\n					\n					\n					\n				\n				\n				\n					\n					\n					\n				\n				\n				\n					\n					\n					\n				\n				\n				\n					\n					\n					\n				\n				\n				\n					\n					\n					\n				\n				\n				\n					\n					\n					\n				\n				\n				\n					\n					\n					\n				\n				\n				\n					\n					\n					\n				\n				\n				\n					\n					\n					\n				\n				\n				\n				\n				\n				\n				Foto: Marko Serafimović
URL:https://www.jazzcerkno.si/event/olfamoz-z-olfamostvom/
LOCATION:Star plac\, Cerkno
CATEGORIES:21. Keltika 2016
ATTACH;FMTTYPE=image/jpeg:https://www.jazzcerkno.si/wp-content/uploads/2022/02/jazzcerkno-Olfamoz-z-Olfamostvom-1.jpg
END:VEVENT
BEGIN:VEVENT
DTSTART;TZID=UTC:20160729T210000
DTEND;TZID=UTC:20160729T210000
DTSTAMP:20260420T133310
CREATED:20220222T120619Z
LAST-MODIFIED:20240213T090119Z
UID:12923-1469826000-1469826000@www.jazzcerkno.si
SUMMARY:Alberto Sergi & Arakne Group
DESCRIPTION:29.7.2016 21:00 \nStar plac\, Cerkno \nAlberto Sergi (glas\, tamburreddhu)Aleksander Ipavec (harmonika)Simone Serafini (kontrabas)Matej Špacapan (trobenta)Tomaž Nedoh (saksofon)Fabio Accurso (lutnja) \nomamne tarantelle z juga Italije \n			\n			\n				\n				\n				\n				\n				\n				\n				\n				\n				\n				\n			\n				\n				\n					\n					\n					\n				\n				\n				\n					\n					\n					\n				\n				\n				\n					\n					\n					\n				\n				\n				\n					\n					\n					\n				\n				\n				\n					\n					\n					\n				\n				\n				\n					\n					\n					\n				\n				\n				\n					\n					\n					\n				\n				\n				\n					\n					\n					\n				\n				\n				\n					\n					\n					\n				\n				\n				\n					\n					\n					\n				\n				\n				\n					\n					\n					\n				\n				\n				\n					\n					\n					\n				\n				\n				\n					\n					\n					\n				\n				\n				\n					\n					\n					\n				\n				\n				\n					\n					\n					\n				\n				\n				\n					\n					\n					\n				\n				\n				\n					\n					\n					\n				\n				\n				\n				\n				\n				\n				Foto: Marko Serafimović
URL:https://www.jazzcerkno.si/event/alberto-sergi-arakne-group/
LOCATION:Star plac\, Cerkno
CATEGORIES:21. Keltika 2016
ATTACH;FMTTYPE=image/jpeg:https://www.jazzcerkno.si/wp-content/uploads/2022/02/jazzcerkno-Alberto-Sergi-Arakne-Group-15.jpg
END:VEVENT
BEGIN:VEVENT
DTSTART;TZID=UTC:20160709T210000
DTEND;TZID=UTC:20160709T210000
DTSTAMP:20260420T133310
CREATED:20220222T120046Z
LAST-MODIFIED:20240213T090119Z
UID:12884-1468098000-1468098000@www.jazzcerkno.si
SUMMARY:Tamara Obrovac Transhistria Quartet
DESCRIPTION:9.7.2016 21:00 \nStar plac\, Cerkno \nTamara Obrovac (glas\, flavta\, skladbe)Uroš Rakovec (kitara\, mandolina)Žiga Golob (kontrabas)Krunoslav Levačić (bobni) \nistrski etnojazz \n			\n			\n				\n				\n				\n				\n				\n				\n				\n				\n				\n				\n			\n				\n				\n					\n					\n					\n				\n				\n				\n					\n					\n					\n				\n				\n				\n					\n					\n					\n				\n				\n				\n					\n					\n					\n				\n				\n				\n					\n					\n					\n				\n				\n				\n					\n					\n					\n				\n				\n				\n					\n					\n					\n				\n				\n				\n					\n					\n					\n				\n				\n				\n					\n					\n					\n				\n				\n				\n					\n					\n					\n				\n				\n				\n					\n					\n					\n				\n				\n				\n					\n					\n					\n				\n				\n				\n					\n					\n					\n				\n				\n				\n					\n					\n					\n				\n				\n				\n					\n					\n					\n				\n				\n				\n					\n					\n					\n				\n				\n				\n					\n					\n					\n				\n				\n				\n				\n				\n				\n				Foto: Marko Serafimović
URL:https://www.jazzcerkno.si/event/tamara-obrovac-transhistria-quartet/
LOCATION:Star plac\, Cerkno
CATEGORIES:21. Keltika 2016
ATTACH;FMTTYPE=image/jpeg:https://www.jazzcerkno.si/wp-content/uploads/2022/02/jazzcerkno-Tamara-Obrovac-Transhistria-Quartet-3.jpg
END:VEVENT
BEGIN:VEVENT
DTSTART;TZID=UTC:20160626T210000
DTEND;TZID=UTC:20160626T210000
DTSTAMP:20260420T133310
CREATED:20220222T114630Z
LAST-MODIFIED:20240213T090120Z
UID:12859-1466974800-1466974800@www.jazzcerkno.si
SUMMARY:Vasko Atanasovski Trio
DESCRIPTION:24.6.2016 21:00 \nGabrijel\, Cerkno \nVasko Atanasovski (glas\, saksofon\, flavta)Dejan Lapanja (kitara)Marjan Stanić (bobni\, tolkala) \njazzy Balkan klezmer groove \n			\n			\n				\n				\n				\n				\n				\n				\n				\n				\n				\n				\n			\n				\n				\n					\n					\n					\n				\n				\n				\n					\n					\n					\n				\n				\n				\n					\n					\n					\n				\n				\n				\n					\n					\n					\n				\n				\n				\n					\n					\n					\n				\n				\n				\n					\n					\n					\n				\n				\n				\n					\n					\n					\n				\n				\n				\n					\n					\n					\n				\n				\n				\n					\n					\n					\n				\n				\n				\n					\n					\n					\n				\n				\n				\n				\n				\n				\n				Foto: Marko Serafimović
URL:https://www.jazzcerkno.si/event/vasko-atanasovski-trio/
LOCATION:Star plac\, Cerkno
CATEGORIES:21. Keltika 2016
ATTACH;FMTTYPE=image/jpeg:https://www.jazzcerkno.si/wp-content/uploads/2022/02/jazzcerkno-Vasko-Atanasovski-Trio-10.jpg
END:VEVENT
BEGIN:VEVENT
DTSTART;TZID=UTC:20160416T210000
DTEND;TZID=UTC:20160416T210000
DTSTAMP:20260420T133310
CREATED:20220222T114313Z
LAST-MODIFIED:20240213T090132Z
UID:12820-1460840400-1460840400@www.jazzcerkno.si
SUMMARY:All Included
DESCRIPTION:16.4.2016 21:00 \nGabrijel\, Cerkno \nMartin Küchen (saksofoni)Thomas Johansson (trobenta)Mats Äleklint (pozavna)Jon Rune Strøm (kontrabas)Tollef Østvang (bobni) \nvzneseni skandinavski jazz \n			\n			\n				\n				\n				\n				\n				\n				\n				\n				\n				\n				\n			\n				\n				\n					\n					\n					\n				\n				\n				\n					\n					\n					\n				\n				\n				\n					\n					\n					\n				\n				\n				\n					\n					\n					\n				\n				\n				\n					\n					\n					\n				\n				\n				\n					\n					\n					\n				\n				\n				\n					\n					\n					\n				\n				\n				\n					\n					\n					\n				\n				\n				\n					\n					\n					\n				\n				\n				\n					\n					\n					\n				\n				\n				\n					\n					\n					\n				\n				\n				\n					\n					\n					\n				\n				\n				\n					\n					\n					\n				\n				\n				\n					\n					\n					\n				\n				\n				\n					\n					\n					\n				\n				\n				\n					\n					\n					\n				\n				\n				\n					\n					\n					\n				\n				\n				\n				\n				\n				\n				Foto: Marko Serafimović
URL:https://www.jazzcerkno.si/event/all-included/
LOCATION:Gabrijel\, Cerkno
CATEGORIES:21. Keltika 2016
ATTACH;FMTTYPE=image/jpeg:https://www.jazzcerkno.si/wp-content/uploads/2022/02/jazzcerkno-All-Included-16.jpg
END:VEVENT
BEGIN:VEVENT
DTSTART;TZID=UTC:20160319T210000
DTEND;TZID=UTC:20160319T210000
DTSTAMP:20260420T133310
CREATED:20220222T113950Z
LAST-MODIFIED:20240213T090132Z
UID:12767-1458421200-1458421200@www.jazzcerkno.si
SUMMARY:Kombo B Zlatka Kaučiča
DESCRIPTION:19.3.2016 21:00 \nGabrijel\, Cerkno \nZlatko Kaučič (umetniški vodja)Tina Jenko\, Tomi Novak\, Nejc Franca\, Žiga Ipavec\, Urban Kušar (bobni\, tolkala)\, Peter Kastrin\, Jan Jarni (kitara)\, Jure Boršič (altovski saksofon)\, Matjaž Bajc (el. bas) \nmladi jazz-rock fusion \n			\n			\n				\n				\n				\n				\n				\n				\n				\n				\n				\n				\n			\n				\n				\n					\n					\n					\n				\n				\n				\n					\n					\n					\n				\n				\n				\n					\n					\n					\n				\n				\n				\n					\n					\n					\n				\n				\n				\n					\n					\n					\n				\n				\n				\n					\n					\n					\n				\n				\n				\n					\n					\n					\n				\n				\n				\n					\n					\n					\n				\n				\n				\n					\n					\n					\n				\n				\n				\n					\n					\n					\n				\n				\n				\n					\n					\n					\n				\n				\n				\n					\n					\n					\n				\n				\n				\n					\n					\n					\n				\n				\n				\n					\n					\n					\n				\n				\n				\n					\n					\n					\n				\n				\n				\n					\n					\n					\n				\n				\n				\n					\n					\n					\n				\n				\n				\n					\n					\n					\n				\n				\n				\n					\n					\n					\n				\n				\n				\n					\n					\n					\n				\n				\n				\n					\n					\n					\n				\n				\n				\n					\n					\n					\n				\n				\n				\n					\n					\n					\n				\n				\n				\n					\n					\n					\n				\n				\n				\n				\n				\n				\n				Foto: Marko Serafimović
URL:https://www.jazzcerkno.si/event/kombo-b-zlatka-kaucica/
LOCATION:Gabrijel\, Cerkno
CATEGORIES:21. Keltika 2016
ATTACH;FMTTYPE=image/jpeg:https://www.jazzcerkno.si/wp-content/uploads/2022/02/jazzcerkno-Kombo-B-Zlatka-Kaucica-15.jpg
END:VEVENT
BEGIN:VEVENT
DTSTART;TZID=UTC:20160220T210000
DTEND;TZID=UTC:20160220T210000
DTSTAMP:20260420T133310
CREATED:20220222T113617Z
LAST-MODIFIED:20240213T090133Z
UID:12732-1456002000-1456002000@www.jazzcerkno.si
SUMMARY:Edi Nulz
DESCRIPTION:20.2.2016 21:00 \nGabrijel\, Cerkno \nSiegmar Brecher (bas klarinet)Julian Adam Pajzs (tenorska in baritonska kitara)Valentin Schuster (bobni\, žepni klavir) \nšarmanten jazz s prvinami rocka \n			\n			\n				\n				\n				\n				\n				\n				\n				\n				\n				\n				\n			\n				\n				\n					\n					\n					\n				\n				\n				\n					\n					\n					\n				\n				\n				\n					\n					\n					\n				\n				\n				\n					\n					\n					\n				\n				\n				\n					\n					\n					\n				\n				\n				\n					\n					\n					\n				\n				\n				\n					\n					\n					\n				\n				\n				\n					\n					\n					\n				\n				\n				\n					\n					\n					\n				\n				\n				\n					\n					\n					\n				\n				\n				\n					\n					\n					\n				\n				\n				\n					\n					\n					\n				\n				\n				\n					\n					\n					\n				\n				\n				\n					\n					\n					\n				\n				\n				\n					\n					\n					\n				\n				\n				\n				\n				\n				\n				Foto: Marko Serafimović
URL:https://www.jazzcerkno.si/event/edi-nulz/
LOCATION:Gabrijel\, Cerkno
CATEGORIES:21. Keltika 2016
ATTACH;FMTTYPE=image/jpeg:https://www.jazzcerkno.si/wp-content/uploads/2022/02/jazzcerkno-Edi-Nulz-15.jpg
END:VEVENT
BEGIN:VEVENT
DTSTART;TZID=UTC:20160220T190000
DTEND;TZID=UTC:20160220T190000
DTSTAMP:20260420T133310
CREATED:20220222T112949Z
LAST-MODIFIED:20240213T090134Z
UID:12698-1455994800-1455994800@www.jazzcerkno.si
SUMMARY:Zaključni koncert delavnice z Marcom Cappellijem: Kitara – orkester – improvizacija
DESCRIPTION:20.2.2016 19:00 \nGlasbena šola Cerkno \n			\n			\n				\n				\n				\n				\n				\n				\n				\n				\n				\n				\n			\n				\n				\n					\n					\n					\n				\n				\n				\n					\n					\n					\n				\n				\n				\n					\n					\n					\n				\n				\n				\n					\n					\n					\n				\n				\n				\n					\n					\n					\n				\n				\n				\n					\n					\n					\n				\n				\n				\n					\n					\n					\n				\n				\n				\n					\n					\n					\n				\n				\n				\n					\n					\n					\n				\n				\n				\n					\n					\n					\n				\n				\n				\n					\n					\n					\n				\n				\n				\n					\n					\n					\n				\n				\n				\n					\n					\n					\n				\n				\n				\n				\n				\n				\n				Foto: Marko Serafimović
URL:https://www.jazzcerkno.si/event/12698/
LOCATION:Glasbena šola Cerkno
CATEGORIES:21. Keltika 2016
ATTACH;FMTTYPE=image/jpeg:https://www.jazzcerkno.si/wp-content/uploads/2022/02/jazzcerkno-DELAVNICA-Z-MARCOM-CAPPELLIJEM-7.jpg
END:VEVENT
BEGIN:VEVENT
DTSTART;TZID=UTC:20160205T210000
DTEND;TZID=UTC:20160205T210000
DTSTAMP:20260420T133310
CREATED:20220222T112500Z
LAST-MODIFIED:20240213T090135Z
UID:12669-1454706000-1454706000@www.jazzcerkno.si
SUMMARY:Same Babe
DESCRIPTION:5.2.2016 21:00 \nGabrijel\, Cerkno \nMiha Nemanič (glas\, orglice\, tolkala)Marko Voljč (glas\, trobenta\, ukulele\, tolkala)Marko Jelovšek(glas\, kontrabas\, kitara)Uroš Buh (glas\, bobni)Matjaž Ugovšek – Ugo (glas\, kitare)Viki Baba (glas\, kitara)Gostja: Maja Predatoria (glas) \nOdštekani kantavtorski rock \n  \n+ muskosuk Abstract Truth (SLO) \n			\n			\n				\n				\n				\n				\n				\n				\n				\n				\n				\n				\n			\n				\n				\n					\n					\n					\n				\n				\n				\n					\n					\n					\n				\n				\n				\n					\n					\n					\n				\n				\n				\n					\n					\n					\n				\n				\n				\n					\n					\n					\n				\n				\n				\n					\n					\n					\n				\n				\n				\n					\n					\n					\n				\n				\n				\n					\n					\n					\n				\n				\n				\n					\n					\n					\n				\n				\n				\n					\n					\n					\n				\n				\n				\n					\n					\n					\n				\n				\n				\n				\n				\n				\n				Foto: Bojan Tavčar
URL:https://www.jazzcerkno.si/event/same-babe/
LOCATION:Gabrijel\, Cerkno
CATEGORIES:21. Keltika 2016
ATTACH;FMTTYPE=image/jpeg:https://www.jazzcerkno.si/wp-content/uploads/2022/02/jazzcerkno-Same-babe-2.jpg
END:VEVENT
END:VCALENDAR