BEGIN:VCALENDAR
VERSION:2.0
PRODID:-//Jazz Cerkno - ECPv6.3.2//NONSGML v1.0//EN
CALSCALE:GREGORIAN
METHOD:PUBLISH
X-WR-CALNAME:Jazz Cerkno
X-ORIGINAL-URL:https://www.jazzcerkno.si/?lang=en
X-WR-CALDESC:Events for Jazz Cerkno
REFRESH-INTERVAL;VALUE=DURATION:PT1H
X-Robots-Tag:noindex
X-PUBLISHED-TTL:PT1H
BEGIN:VTIMEZONE
TZID:UTC
BEGIN:STANDARD
TZOFFSETFROM:+0000
TZOFFSETTO:+0000
TZNAME:UTC
DTSTART:20080101T000000
END:STANDARD
END:VTIMEZONE
BEGIN:VEVENT
DTSTART;TZID=UTC:20100417T000000
DTEND;TZID=UTC:20100417T000000
DTSTAMP:20260421T023317
CREATED:20220718T100251Z
LAST-MODIFIED:20230201T081926Z
UID:21836-1271462400-1271462400@www.jazzcerkno.si
SUMMARY:Salamandra Salamandra & Jožek Štucin z gosti: B. Gombač\, I. Leonardi
DESCRIPTION:17.4.2010 \nSamo Kutin: vseh sort instrumenti\, bas & glasJani Kutin: vseh sort instrumenti\, glas\, vpitjeMatej Magajne: električna kitaraDejan Lapanja: bobniSabina Magajne: rogNeža Naglič: klaviatureIvan Volarič Feo: zvočilaJožek Štucin: pesnik in CrklanNaja Furlan: trebušna plesalkaBoštjan Gombač: vseh sort instrumenti\, piščaliIgor Leonardi: kitara
URL:https://www.jazzcerkno.si/event/salamandra-salamandra-jozek-stucin-z-gosti-b-gombac-i-leonardi/?lang=en
CATEGORIES:15. Keltika 2010
END:VEVENT
BEGIN:VEVENT
DTSTART;TZID=UTC:20100321T000000
DTEND;TZID=UTC:20100321T000000
DTSTAMP:20260421T023317
CREATED:20220718T100148Z
LAST-MODIFIED:20230201T082254Z
UID:21833-1269129600-1269129600@www.jazzcerkno.si
SUMMARY:Sex Mob & DJ Olive
DESCRIPTION:21.3.2010 \nSteven Bernstein: “slide” trobentaBriggan Krauss: altovski saksofonTony Scherr: basKenny Wollesen: bobnigost: DJ Olive: gramofoni
URL:https://www.jazzcerkno.si/event/sex-mob-dj-olive/?lang=en
CATEGORIES:15. Keltika 2010
END:VEVENT
BEGIN:VEVENT
DTSTART;TZID=UTC:20100208T000000
DTEND;TZID=UTC:20100208T000000
DTSTAMP:20260421T023317
CREATED:20220718T100132Z
LAST-MODIFIED:20221012T180109Z
UID:21830-1265587200-1265587200@www.jazzcerkno.si
SUMMARY:Vlado Kreslin solo koncert + poezija
DESCRIPTION:8.2.2010 \n(SLO) \nVlado Kreslin: glas\, kitara
URL:https://www.jazzcerkno.si/event/vlado-kreslin-solo-koncert-poezija/?lang=en
CATEGORIES:15. Keltika 2010,15. Keltika 2010
END:VEVENT
BEGIN:VEVENT
DTSTART;TZID=UTC:20100123T000000
DTEND;TZID=UTC:20100123T000000
DTSTAMP:20260421T023317
CREATED:20220718T100117Z
LAST-MODIFIED:20230201T083045Z
UID:21827-1264204800-1264204800@www.jazzcerkno.si
SUMMARY:East Rodeo
DESCRIPTION:23.1.2010 \nNenad Sinkauz: kitara\, glasAlfonso Santimone: klaviature\, elektronika\, šumiAlen Sinkauz: bas\, sampliFederico Scettri: bobni
URL:https://www.jazzcerkno.si/event/east-rodeo/?lang=en
CATEGORIES:15. Keltika 2010
END:VEVENT
BEGIN:VEVENT
DTSTART;TZID=UTC:20090915T000000
DTEND;TZID=UTC:20090915T000000
DTSTAMP:20260421T023317
CREATED:20220718T094621Z
LAST-MODIFIED:20230131T120548Z
UID:21709-1252972800-1252972800@www.jazzcerkno.si
SUMMARY:Gorišek - Lazar: Separé
DESCRIPTION:15.9.2009 \nMatej Grahek: flavtaBojan Gorišek: klavirVasilij Meljnikov: violinaMilko Lazar; klavir
URL:https://www.jazzcerkno.si/event/gorisek-lazar-separe/?lang=en
CATEGORIES:07. Keltika 2009
END:VEVENT
BEGIN:VEVENT
DTSTART;TZID=UTC:20090828T000000
DTEND;TZID=UTC:20090828T000000
DTSTAMP:20260421T023317
CREATED:20220718T094654Z
LAST-MODIFIED:20230131T121239Z
UID:21715-1251417600-1251417600@www.jazzcerkno.si
SUMMARY:Vasko Atanasovski & Mljask
DESCRIPTION:28.8.2009 \nVasko Atanasovski: saksofonDejan Berden: harmonikaAndraž Mazi: kitaraMatjaž Krivec: kontrabasMarjan Stanić: bobni
URL:https://www.jazzcerkno.si/event/vasko-atanasovski-mljask/?lang=en
CATEGORIES:07. Keltika 2009
END:VEVENT
BEGIN:VEVENT
DTSTART;TZID=UTC:20090828T000000
DTEND;TZID=UTC:20090828T000000
DTSTAMP:20260421T023317
CREATED:20220718T094637Z
LAST-MODIFIED:20230131T120903Z
UID:21712-1251417600-1251417600@www.jazzcerkno.si
SUMMARY:Bratko Bibič & the Madleys
DESCRIPTION:28.8.2009 \nBratko Bibič: harmonika\, glasMatjaž Sekne: violinaVasko Atanasovski: saksofoni\, flavtaBoštjan Gombač: klarinet\, piščaliUroš Polanc: pozavnaMarjan Stanić: tolkala
URL:https://www.jazzcerkno.si/event/bratko-bibic-the-madleys-3/?lang=en
CATEGORIES:07. Keltika 2009
END:VEVENT
BEGIN:VEVENT
DTSTART;TZID=UTC:20090815T000000
DTEND;TZID=UTC:20090815T000000
DTSTAMP:20260421T023317
CREATED:20220718T094803Z
LAST-MODIFIED:20230131T122324Z
UID:21718-1250294400-1250294400@www.jazzcerkno.si
SUMMARY:Kar Češ Brass Band z gosti / 10. obletnica delovanja
DESCRIPTION:15.8.2009 \nTadej Bizjak: alt saksofonMateja Dolšak: tenor saksofonSebastjan Jermol: trobentaFlorjan Kobal: trobentaMarko Obid: pozavnaRok Šinkovec: tubaAlen Bogataj: snare bobenMatija Purgar: tolkala\, bas bobenPrimož Podobnik: tolkala\, darbuka \ngostje:Vokalna skupina Lira ter Sandi Matjašič: saksofonAleš Valentinčič – Brdonč: kitaraMatija Mlakar: pozavnaAna Mlakar: flavtaErik Jermol: trobenta
URL:https://www.jazzcerkno.si/event/kar-ces-brass-band-z-gosti-10-obletnica-delovanja/?lang=en
CATEGORIES:07. Keltika 2009
END:VEVENT
BEGIN:VEVENT
DTSTART;TZID=UTC:20090711T000000
DTEND;TZID=UTC:20090711T000000
DTSTAMP:20260421T023317
CREATED:20220718T094825Z
LAST-MODIFIED:20230131T152242Z
UID:21721-1247270400-1247270400@www.jazzcerkno.si
SUMMARY:Katalena
DESCRIPTION:11.7.2009 \nPolona Janežič: klaviature\, spremljevalni vokalVesna Zornik: vokalBoštjan Gombač: klarinet\, flavte\, tolkala\, spremljevalni vokalTibor Mihelič: bas kitara\, spremljevalni vokalBoštjan Narat: kitara\, mandolina\, spremljevalni vokalRobert Rebolj: bobni\, tolkala;
URL:https://www.jazzcerkno.si/event/katalena-4/?lang=en
CATEGORIES:07. Keltika 2009
END:VEVENT
BEGIN:VEVENT
DTSTART;TZID=UTC:20090702T000000
DTEND;TZID=UTC:20090702T000000
DTSTAMP:20260421T023317
CREATED:20220718T094846Z
LAST-MODIFIED:20230131T152658Z
UID:21724-1246492800-1246492800@www.jazzcerkno.si
SUMMARY:Poltrona Express
DESCRIPTION:7.2.2009 \nTomaž Lapanja (Žnidar): vokal\,bariton saxMatej Magajne (Magajnč): kitaraMatija Purgar (Faraušk): bas kitaraAlen Bogataj (Alc): bobniŽiga Kovačič (Žihc): orgle
URL:https://www.jazzcerkno.si/event/poltrona-express/?lang=en
CATEGORIES:07. Keltika 2009
END:VEVENT
BEGIN:VEVENT
DTSTART;TZID=UTC:20090627T000000
DTEND;TZID=UTC:20090627T000000
DTSTAMP:20260421T023317
CREATED:20220718T094904Z
LAST-MODIFIED:20230131T153055Z
UID:21727-1246060800-1246060800@www.jazzcerkno.si
SUMMARY:Kries
DESCRIPTION:27.6.2009 \nMojmir Novaković: glasIvo Letunić: lijerica\, spremljevalni glasAndor Vegh: dude\, flavta\, tradicionalna glasbilaMartin Swan: violina;Erol Zejnilović: el. kitaraKonrad Lovrenčić: basKrešimir Oreški: tolkalaIvan Levačić: bobniIvan Božanić: tehnik
URL:https://www.jazzcerkno.si/event/kries/?lang=en
CATEGORIES:07. Keltika 2009
END:VEVENT
BEGIN:VEVENT
DTSTART;TZID=UTC:20090415T000000
DTEND;TZID=UTC:20090415T000000
DTSTAMP:20260421T023317
CREATED:20220718T094943Z
LAST-MODIFIED:20230131T153541Z
UID:21733-1239753600-1239753600@www.jazzcerkno.si
SUMMARY:Sam Karpienia Trio
DESCRIPTION:15.4.2009 \nSam Karpienia: glas/mandolaDaniel Gaglione: glas / mandolaMatthieu Goust: bobni
URL:https://www.jazzcerkno.si/event/sam-karpienia-trio/?lang=en
CATEGORIES:07. Keltika 2009
END:VEVENT
BEGIN:VEVENT
DTSTART;TZID=UTC:20090415T000000
DTEND;TZID=UTC:20090415T000000
DTSTAMP:20260421T023317
CREATED:20220718T094926Z
LAST-MODIFIED:20230131T153319Z
UID:21730-1239753600-1239753600@www.jazzcerkno.si
SUMMARY:Gacha Empega
DESCRIPTION:15.4.2009 \nManu Théron: glas / bendirSam Karpienia: glas / tamburin
URL:https://www.jazzcerkno.si/event/gacha-empega/?lang=en
CATEGORIES:07. Keltika 2009
END:VEVENT
BEGIN:VEVENT
DTSTART;TZID=UTC:20090327T000000
DTEND;TZID=UTC:20090327T000000
DTSTAMP:20260421T023317
CREATED:20220718T095001Z
LAST-MODIFIED:20230131T153805Z
UID:21736-1238112000-1238112000@www.jazzcerkno.si
SUMMARY:Marco Cappelli
DESCRIPTION:27.3.2009 \nMarco Cappelli: solo el. Kitara
URL:https://www.jazzcerkno.si/event/marco-cappelli-2/?lang=en
CATEGORIES:07. Keltika 2009
END:VEVENT
BEGIN:VEVENT
DTSTART;TZID=UTC:20090313T000000
DTEND;TZID=UTC:20090313T000000
DTSTAMP:20260421T023318
CREATED:20220718T095021Z
LAST-MODIFIED:20230201T074036Z
UID:21739-1236902400-1236902400@www.jazzcerkno.si
SUMMARY:Rundek Cargo Trio
DESCRIPTION:13.3.2009 \nDarko Rundek: glas\, kitara\, tolkalaIsabel: violina\, zvočni efektiDušan Vranić – Duco: klaviature\, harmonika\, citre\, tolkala
URL:https://www.jazzcerkno.si/event/rundek-cargo-trio/?lang=en
CATEGORIES:07. Keltika 2009
END:VEVENT
BEGIN:VEVENT
DTSTART;TZID=UTC:20090226T000000
DTEND;TZID=UTC:20090226T000000
DTSTAMP:20260421T023318
CREATED:20220718T095038Z
LAST-MODIFIED:20230201T074619Z
UID:21742-1235606400-1235606400@www.jazzcerkno.si
SUMMARY:The Vandermark 5
DESCRIPTION:26.2.2009 \nKen Vandermark: tenor / baritonski saksofonDave Rempis: alt / tenorski saksofonFred Lonberg-Holm: violončeloKent Kessler: basTim Daisy: bobni
URL:https://www.jazzcerkno.si/event/the-vandermark-5/?lang=en
CATEGORIES:07. Keltika 2009
END:VEVENT
BEGIN:VEVENT
DTSTART;TZID=UTC:20090122T000000
DTEND;TZID=UTC:20090122T000000
DTSTAMP:20260421T023318
CREATED:20220718T095056Z
LAST-MODIFIED:20230201T075230Z
UID:21745-1232582400-1232582400@www.jazzcerkno.si
SUMMARY:Next Music Ensemble
DESCRIPTION:22.1.2009 \nAlex Sipiagin: trobentaJan Kus: tenorski saksofonŽiga Murko: pozavnaJani Moder: kitaraTine Grgurevič: klaviatureGoran Krmac: tubaAndrej Hočevar: bobni
URL:https://www.jazzcerkno.si/event/next-music-ensemble/?lang=en
CATEGORIES:07. Keltika 2009
END:VEVENT
BEGIN:VEVENT
DTSTART;TZID=UTC:20081205T000000
DTEND;TZID=UTC:20081205T000000
DTSTAMP:20260421T023318
CREATED:20220718T092444Z
LAST-MODIFIED:20230130T143812Z
UID:21606-1228435200-1228435200@www.jazzcerkno.si
SUMMARY:Gatuzo
DESCRIPTION:5.12.2008  \n			\n				\n				\n				\n				\n				Damir Trkulja – Šiljo: kitara\, vokalGoran Martinjak – Džekica: bobni\, kitara
URL:https://www.jazzcerkno.si/event/gatuzo/?lang=en
CATEGORIES:06. Keltika 2008
END:VEVENT
BEGIN:VEVENT
DTSTART;TZID=UTC:20081106T000000
DTEND;TZID=UTC:20081106T000000
DTSTAMP:20260421T023318
CREATED:20220718T092522Z
LAST-MODIFIED:20230130T144130Z
UID:21609-1225929600-1225929600@www.jazzcerkno.si
SUMMARY:Chris Eckman z gosti
DESCRIPTION:6.11.2008 \nChris Eckman; vokal\, kitara (ex Walkabouts)Žiga Golob: kontrabasBlaž Celarec: bobni\, tolkalaPolona Janežič: klaviatureBernard Kogovšek: kitara
URL:https://www.jazzcerkno.si/event/chris-eckman-z-gosti/?lang=en
CATEGORIES:06. Keltika 2008
END:VEVENT
BEGIN:VEVENT
DTSTART;TZID=UTC:20081031T000000
DTEND;TZID=UTC:20081031T000000
DTSTAMP:20260421T023318
CREATED:20220718T092604Z
LAST-MODIFIED:20230130T144618Z
UID:21612-1225411200-1225411200@www.jazzcerkno.si
SUMMARY:Dedu Zapetami
DESCRIPTION:31.10.2008 \nMilko Lazar: klaviatureIgor Leonardi: el. kitaraJani Hace: el. basAljoša Jerič: bobni
URL:https://www.jazzcerkno.si/event/dedu-zapetami/?lang=en
CATEGORIES:06. Keltika 2008
END:VEVENT
BEGIN:VEVENT
DTSTART;TZID=UTC:20080809T000000
DTEND;TZID=UTC:20080809T000000
DTSTAMP:20260421T023318
CREATED:20220718T092634Z
LAST-MODIFIED:20230130T144901Z
UID:21615-1218240000-1218240000@www.jazzcerkno.si
SUMMARY:Kaja Draksler "Acropolis" Quartet
DESCRIPTION:9.8.2008 \nKaja Draksler: el. klavirJure Pukl: saksofoniGoran Krmac: tubaKristijan Krajnčan: bobni
URL:https://www.jazzcerkno.si/event/kaja-draksler-acropolis-quartet/?lang=en
CATEGORIES:06. Keltika 2008
END:VEVENT
BEGIN:VEVENT
DTSTART;TZID=UTC:20080801T000000
DTEND;TZID=UTC:20080801T000000
DTSTAMP:20260421T023318
CREATED:20220718T092730Z
LAST-MODIFIED:20230130T145055Z
UID:21618-1217548800-1217548800@www.jazzcerkno.si
SUMMARY:Trio Balkan Strings
DESCRIPTION:1.8.2008 \nZoran Starčević: akustična kitaraNikola Starčević: akustična in klasična kitaraŽeljko Starčević: akustična in klasična kitara
URL:https://www.jazzcerkno.si/event/trio-balkan-strings-2/?lang=en
CATEGORIES:06. Keltika 2008
END:VEVENT
BEGIN:VEVENT
DTSTART;TZID=UTC:20080712T000000
DTEND;TZID=UTC:20080712T000000
DTSTAMP:20260421T023318
CREATED:20220718T092827Z
LAST-MODIFIED:20230130T145315Z
UID:21621-1215820800-1215820800@www.jazzcerkno.si
SUMMARY:Emšo Blues Band
DESCRIPTION:12.7.2008 \nAndrej Konjajev: klaviature\, hammond\, glasMarijan Hladnik: solo kitara in glasJanc Galič: solo (ritem) kitara in glasDrago Petakovič: konge\, tolkalaMarko Avanzo: bobni\, tolkala\, glasSlavc Žust: bas kitara\, glasNiko Kostjukovskij: ton mojster in ustanovitelj benda gostaMiro Božič: orgliceJani Šalamon: bobni\, tolkala
URL:https://www.jazzcerkno.si/event/emso-blues-band/?lang=en
CATEGORIES:06. Keltika 2008
END:VEVENT
BEGIN:VEVENT
DTSTART;TZID=UTC:20080710T000000
DTEND;TZID=UTC:20080710T145500
DTSTAMP:20260421T023318
CREATED:20220718T092903Z
LAST-MODIFIED:20230130T150421Z
UID:21624-1215648000-1215701700@www.jazzcerkno.si
SUMMARY:Georgi Šareski Quartet
DESCRIPTION:10.7.2008 \nGeorgi Šareski: kitaraDžijan Emin: klavijatureOliver Josifovski: kontrabasGoce Stevkovski: bobni
URL:https://www.jazzcerkno.si/event/georgi-sareski-quartet/?lang=en
CATEGORIES:06. Keltika 2008
END:VEVENT
BEGIN:VEVENT
DTSTART;TZID=UTC:20080703T000000
DTEND;TZID=UTC:20080703T000000
DTSTAMP:20260421T023318
CREATED:20220718T092927Z
LAST-MODIFIED:20230130T145756Z
UID:21627-1215043200-1215043200@www.jazzcerkno.si
SUMMARY:Psycho-path
DESCRIPTION:7.3.2008 \nMelée: vokalJernej Šavel: kitaraSašo Benko: kitaraJanez Žlebič: basDominik Bagola: bobni
URL:https://www.jazzcerkno.si/event/psycho-path-3/?lang=en
CATEGORIES:06. Keltika 2008
END:VEVENT
BEGIN:VEVENT
DTSTART;TZID=UTC:20080702T000000
DTEND;TZID=UTC:20080702T000000
DTSTAMP:20260421T023318
CREATED:20220718T092947Z
LAST-MODIFIED:20230130T150010Z
UID:21630-1214956800-1214956800@www.jazzcerkno.si
SUMMARY:Uršula Ramoveš in Fantje z Jazbecove grape
DESCRIPTION:7.2.2008 \nUršula Ramoveš: pevka\, avtorica glasbeJoži Šalej: pevec\, harmonikar\, priredba glasbeMetod Banko: pevec\, bršljanov listMarjan Stanić: tolkalecJanez Ramoveš: avtor poezije
URL:https://www.jazzcerkno.si/event/ursula-ramoves-in-fantje-z-jazbecove-grape-4/?lang=en
CATEGORIES:06. Keltika 2008
END:VEVENT
BEGIN:VEVENT
DTSTART;TZID=UTC:20080628T000000
DTEND;TZID=UTC:20080628T000000
DTSTAMP:20260421T023318
CREATED:20220718T093024Z
LAST-MODIFIED:20230130T150305Z
UID:21633-1214611200-1214611200@www.jazzcerkno.si
SUMMARY:Enzo Favata Trio
DESCRIPTION:28.6.2008 \nEnzo Favata: sopranski in tenorski saksofon\, basovski klarinet\, elektronikaDaniele di Bonaventura: klaviature\, bandoneon\, elektronikaU.T. Gandhi: bobni\, samplerji\, elektronika
URL:https://www.jazzcerkno.si/event/enzo-favata-trio/?lang=en
CATEGORIES:06. Keltika 2008
END:VEVENT
BEGIN:VEVENT
DTSTART;TZID=UTC:20080509T000000
DTEND;TZID=UTC:20080509T000000
DTSTAMP:20260421T023318
CREATED:20220718T093044Z
LAST-MODIFIED:20230131T112852Z
UID:21636-1210291200-1210291200@www.jazzcerkno.si
SUMMARY:Carne Cruda
DESCRIPTION:5.9.2008 \nCamilo Landau: kitara\, tres\, vokaliCharlie Gurke: baritonski saksofon\, klaviatureLuke Kirley: pozavna\, tuba\, guiroEzra Gale: bas kitaraNick Fishman: bobni
URL:https://www.jazzcerkno.si/event/carne-cruda/?lang=en
CATEGORIES:06. Keltika 2008
END:VEVENT
BEGIN:VEVENT
DTSTART;TZID=UTC:20080419T000000
DTEND;TZID=UTC:20080419T000000
DTSTAMP:20260421T023318
CREATED:20220718T093110Z
LAST-MODIFIED:20230131T113153Z
UID:21639-1208563200-1208563200@www.jazzcerkno.si
SUMMARY:Broom Bezzums
DESCRIPTION:19.4.2008 \nAndrew Cadie: gosli\, dude\, kitara\, glasMark Bloomer: kitara\, piščal\, mandolina\, glas
URL:https://www.jazzcerkno.si/event/broom-bezzums/?lang=en
CATEGORIES:06. Keltika 2008
END:VEVENT
BEGIN:VEVENT
DTSTART;TZID=UTC:20080404T000000
DTEND;TZID=UTC:20080404T000000
DTSTAMP:20260421T023318
CREATED:20220718T093625Z
LAST-MODIFIED:20230131T114119Z
UID:21663-1207267200-1207267200@www.jazzcerkno.si
SUMMARY:Bratko Bibič & The Madleys
DESCRIPTION:4.4.2008 \nBratko Bibič: harmonika \nThe MadleysMatjaž Sekne: violinaVasko Atanasovski: saksofoni\, flavtaUroš Polanc: pozavna
URL:https://www.jazzcerkno.si/event/bratko-bibic-the-madleys-2/?lang=en
CATEGORIES:06. Keltika 2008
END:VEVENT
END:VCALENDAR