BEGIN:VCALENDAR
VERSION:2.0
PRODID:-//Jazz Cerkno - ECPv6.3.2//NONSGML v1.0//EN
CALSCALE:GREGORIAN
METHOD:PUBLISH
X-WR-CALNAME:Jazz Cerkno
X-ORIGINAL-URL:https://www.jazzcerkno.si/?lang=en
X-WR-CALDESC:Events for Jazz Cerkno
REFRESH-INTERVAL;VALUE=DURATION:PT1H
X-Robots-Tag:noindex
X-PUBLISHED-TTL:PT1H
BEGIN:VTIMEZONE
TZID:UTC
BEGIN:STANDARD
TZOFFSETFROM:+0000
TZOFFSETTO:+0000
TZNAME:UTC
DTSTART:20110101T000000
END:STANDARD
END:VTIMEZONE
BEGIN:VEVENT
DTSTART;TZID=UTC:20130908T210000
DTEND;TZID=UTC:20130908T210000
DTSTAMP:20260420T220215
CREATED:20220716T191027Z
LAST-MODIFIED:20230201T143102Z
UID:21560-1378674000-1378674000@www.jazzcerkno.si
SUMMARY:Hotel Palindrone
DESCRIPTION:9.8.2013 21:00Cerkno\, “Star plac” \nWORLD MUSIC FROM ALL CORNERS OF EUROPE\nAlbin Paulus clarinet\, bagpipes\, jew’s harps\, shawms\, flutes\, vocals\, yodelling\nJohn Morrissey mandola\, chitarra battente\, vocals\nPeter “Nag” Natterer bass\, saxophones\, piano\nStephan “Stoney” Steiner violin\, viola\, hurdy gurdy\, diatonic accordion\, nyckelharpa\, vocals
URL:https://www.jazzcerkno.si/event/hotel-palindrone/?lang=en
CATEGORIES:18. Keltika 2013
END:VEVENT
BEGIN:VEVENT
DTSTART;TZID=UTC:20130908T210000
DTEND;TZID=UTC:20130908T210000
DTSTAMP:20260420T220215
CREATED:20220716T190948Z
LAST-MODIFIED:20221012T121448Z
UID:21557-1378674000-1378674000@www.jazzcerkno.si
SUMMARY:KVINTET HARMONIK GLASBENE ŠOLE IDRIJA
DESCRIPTION:9.8.2013 21:00 \nCerkno\, “Star plac” \n(SLO) \nMladi virtuozi s prvo ploščo \nHARMONINKARSKA GLASBA – OD KLASIKE DO TANGA \nZasedba:Aleš RejecJernej ŠtremfeljJaka KenkSara MenartPeter Rupnikmentor: Pavel MagajneinHOTEL PALINDRONE (AUT)WORLD MUSIC OZ. ETNO Z VSEH KONCEV EVROPE \nZasedba:Albin Paulus klarinet\, dude\, dromlja\, srednjeveške piščali\, frulice\, petje\, jodlanjeJohn Morrissey mandola\, chitarra battente\, petjePeter “Nag” Natterer bas\, saksofoni\, klaviatureStephan “Stoney” Steiner violina\, viola\, hurdy gurdy\, diatonična harmonika\, nyckelharpa\, petje
URL:https://www.jazzcerkno.si/event/kvintet-harmonik-glasbene-sole-idrija/?lang=en
CATEGORIES:18. Keltika 2013,18. Keltika 2013
END:VEVENT
BEGIN:VEVENT
DTSTART;TZID=UTC:20130719T210000
DTEND;TZID=UTC:20130719T210000
DTSTAMP:20260420T220216
CREATED:20220716T191047Z
LAST-MODIFIED:20230201T211417Z
UID:21563-1374267600-1374267600@www.jazzcerkno.si
SUMMARY:Worldly Savages
DESCRIPTION:19.7.2013 21:00Cerkno\, “Star plac” \nAngažirani multikulturni gypsy-punk \nZasedba:Erik glavni pevec\, akustična kitaraBritton električna kitara\, spremljevalni vokaliIvo basUrsula violinaHenry harmonikaBen bobni
URL:https://www.jazzcerkno.si/event/worldly-savages/?lang=en
CATEGORIES:18. Keltika 2013
END:VEVENT
BEGIN:VEVENT
DTSTART;TZID=UTC:20130707T210000
DTEND;TZID=UTC:20130707T210000
DTSTAMP:20260420T220216
CREATED:20220716T191158Z
LAST-MODIFIED:20230201T211837Z
UID:21572-1373230800-1373230800@www.jazzcerkno.si
SUMMARY:Trio Balkan Strings
DESCRIPTION:7.7.2013 21:00Cerkno\, “Star plac” \nFiery Balkan traditional music \nZoran Starčević guitarNikola Starčević guitarŽeljko Starčević guitar
URL:https://www.jazzcerkno.si/event/trio-balkan-strings/?lang=en
CATEGORIES:18. Keltika 2013
END:VEVENT
BEGIN:VEVENT
DTSTART;TZID=UTC:20130624T210000
DTEND;TZID=UTC:20130624T210000
DTSTAMP:20260420T220216
CREATED:20220716T191223Z
LAST-MODIFIED:20230201T212158Z
UID:21575-1372107600-1372107600@www.jazzcerkno.si
SUMMARY:Uršula Ramoveš in Fantje z Jazbecove grape
DESCRIPTION:24.6.2013 21:00Cerkno\, “Star plac” \nSINGER-SONGWRITER WITH A TOUCH OF FOLK SONGS\n \nUršula Ramoveš vocals\nJoži Šalej vocals\, accordion\, piano\nMetod Banko vocals\nMarjan Stanić percussion\nJanez Ramoveš poetry reading
URL:https://www.jazzcerkno.si/event/ursula-ramoves-in-fantje-z-jazbecove-grape-3/?lang=en
CATEGORIES:18. Keltika 2013
END:VEVENT
BEGIN:VEVENT
DTSTART;TZID=UTC:20130413T210000
DTEND;TZID=UTC:20130413T210000
DTSTAMP:20260420T220216
CREATED:20220716T191242Z
LAST-MODIFIED:20230201T212508Z
UID:21578-1365886800-1365886800@www.jazzcerkno.si
SUMMARY:Swedish Azz
DESCRIPTION:13.4.2013 21:00Gabrijel\, Cerkno \nMats Gustafsson (saksofoni in elektronika)\,Per-Åke Holmlander (tuba\, cimbasso)\,dieb13 (gramofoni in elektronika)\,Eric Carlsson (bobni)
URL:https://www.jazzcerkno.si/event/swedish-azz/?lang=en
CATEGORIES:18. Keltika 2013
END:VEVENT
BEGIN:VEVENT
DTSTART;TZID=UTC:20130413T190000
DTEND;TZID=UTC:20130413T190000
DTSTAMP:20260420T220216
CREATED:20220716T191301Z
LAST-MODIFIED:20230201T212728Z
UID:21581-1365879600-1365879600@www.jazzcerkno.si
SUMMARY:Grem na vas
DESCRIPTION:13.4.2013 19:00Gabrijel\, Cerkno
URL:https://www.jazzcerkno.si/event/grem-na-vas/?lang=en
CATEGORIES:18. Keltika 2013
END:VEVENT
BEGIN:VEVENT
DTSTART;TZID=UTC:20130322T000000
DTEND;TZID=UTC:20130322T000000
DTSTAMP:20260420T220216
CREATED:20220716T191337Z
LAST-MODIFIED:20230201T212932Z
UID:21584-1363910400-1363910400@www.jazzcerkno.si
SUMMARY:Pinela
DESCRIPTION:22.3.2013
URL:https://www.jazzcerkno.si/event/pinela/?lang=en
CATEGORIES:18. Keltika 2013
END:VEVENT
BEGIN:VEVENT
DTSTART;TZID=UTC:20130201T000000
DTEND;TZID=UTC:20130201T000000
DTSTAMP:20260420T220216
CREATED:20220716T191411Z
LAST-MODIFIED:20230201T213443Z
UID:21587-1359676800-1359676800@www.jazzcerkno.si
SUMMARY:Steve Klink Trio
DESCRIPTION:1.2.2013
URL:https://www.jazzcerkno.si/event/steve-klink-trio/?lang=en
CATEGORIES:18. Keltika 2013
END:VEVENT
BEGIN:VEVENT
DTSTART;TZID=UTC:20130118T000000
DTEND;TZID=UTC:20130118T000000
DTSTAMP:20260420T220216
CREATED:20220716T191139Z
LAST-MODIFIED:20230201T213136Z
UID:21569-1358467200-1358467200@www.jazzcerkno.si
SUMMARY:Orlek
DESCRIPTION:18.1.2013
URL:https://www.jazzcerkno.si/event/orlek-3/?lang=en
CATEGORIES:18. Keltika 2013
END:VEVENT
BEGIN:VEVENT
DTSTART;TZID=UTC:20121013T000000
DTEND;TZID=UTC:20121013T000000
DTSTAMP:20260420T220216
CREATED:20220929T101838Z
LAST-MODIFIED:20221012T122917Z
UID:22978-1350086400-1350086400@www.jazzcerkno.si
SUMMARY:Za 2 Groša fantazije
DESCRIPTION:(SLO) \nJanez Škof
URL:https://www.jazzcerkno.si/event/za-2-grosa-fantazije/?lang=en
CATEGORIES:17. Keltika 2012,17. Keltika 2012
END:VEVENT
BEGIN:VEVENT
DTSTART;TZID=UTC:20121012T000000
DTEND;TZID=UTC:20121012T000000
DTSTAMP:20260420T220216
CREATED:20220718T103849Z
LAST-MODIFIED:20230201T130339Z
UID:22042-1350000000-1350000000@www.jazzcerkno.si
SUMMARY:SAMO ŠALAMON QUARTET
DESCRIPTION:12.10.2012 \nDominique Pifarely\, violina;Samo Šalamon\, kitara;Bruno Chevillon\, kontrabas;Roberto Dani\, bobni;
URL:https://www.jazzcerkno.si/event/samo-salamon-quartet/?lang=en
CATEGORIES:17. Keltika 2012
END:VEVENT
BEGIN:VEVENT
DTSTART;TZID=UTC:20121004T000000
DTEND;TZID=UTC:20121004T000000
DTSTAMP:20260420T220216
CREATED:20220718T103909Z
LAST-MODIFIED:20230201T130650Z
UID:22045-1349308800-1349308800@www.jazzcerkno.si
SUMMARY:Trio U. Leimgruber / J. Demierre / B. Phillips
DESCRIPTION:4.10.2012 \nUrs Leimgruber saksofon;Jacques Demierre klavir;Barre Phillips kontrabas;
URL:https://www.jazzcerkno.si/event/trio-u-leimgruber-j-demierre-b-phillips/?lang=en
CATEGORIES:17. Keltika 2012
END:VEVENT
BEGIN:VEVENT
DTSTART;TZID=UTC:20120920T000000
DTEND;TZID=UTC:20120920T000000
DTSTAMP:20260420T220216
CREATED:20220718T103929Z
LAST-MODIFIED:20230201T130944Z
UID:22048-1348099200-1348099200@www.jazzcerkno.si
SUMMARY:Lean Left
DESCRIPTION:20.9.2012 \nKen Vandermark tenor saksofon\, Bb klarinet;Andy Moor desna kitara; Terrie Ex leva kitara;Paal Nilssen-Love bobni;
URL:https://www.jazzcerkno.si/event/lean-left/?lang=en
CATEGORIES:17. Keltika 2012
END:VEVENT
BEGIN:VEVENT
DTSTART;TZID=UTC:20120721T000000
DTEND;TZID=UTC:20120721T000000
DTSTAMP:20260420T220216
CREATED:20220718T103945Z
LAST-MODIFIED:20230201T131341Z
UID:22051-1342828800-1342828800@www.jazzcerkno.si
SUMMARY:Divanhana
DESCRIPTION:21.7.2012 \nLeila Ćatić\, vokal;Nedžad Mušović\, harmonika;Ismar Porić\, klarinet\, saksofon;Neven Tunjić\, klavir;Azur Imamović\, bas kitara;Danijel Čondrić\, kitara;Rifet Čamdžić\, bobni;
URL:https://www.jazzcerkno.si/event/divanhana-2/?lang=en
CATEGORIES:17. Keltika 2012
END:VEVENT
BEGIN:VEVENT
DTSTART;TZID=UTC:20120714T000000
DTEND;TZID=UTC:20120714T000000
DTSTAMP:20260420T220216
CREATED:20220718T103521Z
LAST-MODIFIED:20230201T132154Z
UID:22012-1342224000-1342224000@www.jazzcerkno.si
SUMMARY:Boris Kovač & La Campanella
DESCRIPTION:14.7.2012 \nBoris Kovač\, alt\, sopran saksofon\, glas;Goran Penić\, harmonika;Vukašin Mišković\, klasična kitara;Miloš Matić\, kontrabas\, tamburica;Lav Kovač\, bobni\, tolkala
URL:https://www.jazzcerkno.si/event/boris-kovac-la-campanella/?lang=en
CATEGORIES:17. Keltika 2012
END:VEVENT
BEGIN:VEVENT
DTSTART;TZID=UTC:20120428T000000
DTEND;TZID=UTC:20120428T000000
DTSTAMP:20260420T220216
CREATED:20220718T103438Z
LAST-MODIFIED:20230201T134646Z
UID:22011-1335571200-1335571200@www.jazzcerkno.si
SUMMARY:Femi Temowo
DESCRIPTION:28.4.2012 \nFemi Temowo kitara;Milan Stanisavljević klavir;Robert Jukič bas;Andjelko Stupar bobni;
URL:https://www.jazzcerkno.si/event/femi-temowo/?lang=en
CATEGORIES:17. Keltika 2012
END:VEVENT
BEGIN:VEVENT
DTSTART;TZID=UTC:20120215T000000
DTEND;TZID=UTC:20120215T000000
DTSTAMP:20260420T220216
CREATED:20220718T103408Z
LAST-MODIFIED:20230201T135522Z
UID:22008-1329264000-1329264000@www.jazzcerkno.si
SUMMARY:Bojan Gorišek Solo
DESCRIPTION:15.2.2012 \nBojan Gorišek klavir;
URL:https://www.jazzcerkno.si/event/bojan-gorisek-solo/?lang=en
CATEGORIES:17. Keltika 2012
END:VEVENT
BEGIN:VEVENT
DTSTART;TZID=UTC:20120207T000000
DTEND;TZID=UTC:20120207T000000
DTSTAMP:20260420T220216
CREATED:20220718T103348Z
LAST-MODIFIED:20230201T135930Z
UID:22005-1328572800-1328572800@www.jazzcerkno.si
SUMMARY:Gobec in Godec
DESCRIPTION:7.2.2012 \nJure Longyka glas;Boštjan Gombač pihala\, mala zvočila in tolkala;Žiga Golob kontrabas
URL:https://www.jazzcerkno.si/event/gobec-in-godec/?lang=en
CATEGORIES:17. Keltika 2012
END:VEVENT
BEGIN:VEVENT
DTSTART;TZID=UTC:20120127T000000
DTEND;TZID=UTC:20120127T000000
DTSTAMP:20260420T220216
CREATED:20220718T103258Z
LAST-MODIFIED:20230201T140239Z
UID:21999-1327622400-1327622400@www.jazzcerkno.si
SUMMARY:ŽŽ - filmski ciklus Želimirja Žilnika
DESCRIPTION:27.1.2012
URL:https://www.jazzcerkno.si/event/zz-filmski-ciklus-zelimirja-zilnika/?lang=en
CATEGORIES:17. Keltika 2012
END:VEVENT
BEGIN:VEVENT
DTSTART;TZID=UTC:20111222T000000
DTEND;TZID=UTC:20111222T000000
DTSTAMP:20260420T220216
CREATED:20220718T100949Z
LAST-MODIFIED:20230201T083429Z
UID:21892-1324512000-1324512000@www.jazzcerkno.si
SUMMARY:KČBB
DESCRIPTION:22.12.2011
URL:https://www.jazzcerkno.si/event/kcbb/?lang=en
CATEGORIES:16. Keltika 2011
END:VEVENT
BEGIN:VEVENT
DTSTART;TZID=UTC:20111014T000000
DTEND;TZID=UTC:20111014T000000
DTSTAMP:20260420T220216
CREATED:20220718T101006Z
LAST-MODIFIED:20230201T083813Z
UID:21895-1318550400-1318550400@www.jazzcerkno.si
SUMMARY:Tramontana - Puglisi - Maier trio
DESCRIPTION:14.10.2011 \nSebi Tramontana: pozavna;Fabrizio Puglisi: analogni sintetizator ARP Odyssey;Giovanni Maier: kontrabas
URL:https://www.jazzcerkno.si/event/tramontana-puglisi-maier-trio/?lang=en
CATEGORIES:16. Keltika 2011
END:VEVENT
BEGIN:VEVENT
DTSTART;TZID=UTC:20110820T000000
DTEND;TZID=UTC:20110820T000000
DTSTAMP:20260420T220216
CREATED:20220718T101023Z
LAST-MODIFIED:20230201T084203Z
UID:21898-1313798400-1313798400@www.jazzcerkno.si
SUMMARY:Eclipse
DESCRIPTION:20.8.2011 \nPeter Jan kitara\, glas;Mitja Jan kitara\, glas;Dejan Jerončič klaviature\, sintetizatorji;Enos Kugler bobni;Leon Jerončič bas;Ana Šimenc saksofon\, glas
URL:https://www.jazzcerkno.si/event/eclipse-3/?lang=en
CATEGORIES:16. Keltika 2011
END:VEVENT
BEGIN:VEVENT
DTSTART;TZID=UTC:20110715T000000
DTEND;TZID=UTC:20110715T000000
DTSTAMP:20260420T220216
CREATED:20220718T101055Z
LAST-MODIFIED:20230201T084449Z
UID:21901-1310688000-1310688000@www.jazzcerkno.si
SUMMARY:Vrelo
DESCRIPTION:15.7.2011 \nNataša Tomić vokal; glasba\, aranžmaji\, besedila;Stanko Tomić bas kitara; glasba\, aranžmaji\, besedila;Zlatko Sakulski bobni\, tolkala;Marijana Bizumić vokal;Brankica Ivanković vokal;Maja Martić vokal;Ivana Jovanović vokal
URL:https://www.jazzcerkno.si/event/vrelo/?lang=en
CATEGORIES:16. Keltika 2011
END:VEVENT
BEGIN:VEVENT
DTSTART;TZID=UTC:20110624T000000
DTEND;TZID=UTC:20110624T000000
DTSTAMP:20260420T220216
CREATED:20220718T101115Z
LAST-MODIFIED:20230206T073722Z
UID:21904-1308873600-1308873600@www.jazzcerkno.si
SUMMARY:Etnoploč
DESCRIPTION:24.6.2011 \nMatej Špacapan trobenta\, didgeridoo;Aleksander Ipavec harmonika;Piero Purini saksofoni
URL:https://www.jazzcerkno.si/event/etnoploc/?lang=en
CATEGORIES:16. Keltika 2011
END:VEVENT
BEGIN:VEVENT
DTSTART;TZID=UTC:20110506T000000
DTEND;TZID=UTC:20110506T000000
DTSTAMP:20260420T220216
CREATED:20220718T101137Z
LAST-MODIFIED:20221012T130539Z
UID:21907-1304640000-1304640000@www.jazzcerkno.si
SUMMARY:ViceVerse
DESCRIPTION:6.5.2011 \n(Srbija / ZDA) \notroške delavnice: KidsPatch;koncerti: D Numbers; Wo0; Lukatoyboy; koncerti: D Numbers; Wo0; LukatoyboyDJ program: DJ Moodswinger\, Ductape
URL:https://www.jazzcerkno.si/event/viceverse/?lang=en
CATEGORIES:16. Keltika 2011
END:VEVENT
BEGIN:VEVENT
DTSTART;TZID=UTC:20110409T000000
DTEND;TZID=UTC:20110409T000000
DTSTAMP:20260420T220216
CREATED:20220718T101153Z
LAST-MODIFIED:20230201T085253Z
UID:21910-1302307200-1302307200@www.jazzcerkno.si
SUMMARY:Marco Cappelli Acoustic Trio
DESCRIPTION:9.4.2011 \nMarco Cappelli kitara;Ken Filiano kontrabas;Satoshi Takeishi tolkala;
URL:https://www.jazzcerkno.si/event/marco-cappelli-acoustic-trio/?lang=en
CATEGORIES:16. Keltika 2011
END:VEVENT
BEGIN:VEVENT
DTSTART;TZID=UTC:20110316T000000
DTEND;TZID=UTC:20110316T000000
DTSTAMP:20260420T220216
CREATED:20220718T101209Z
LAST-MODIFIED:20221012T130744Z
UID:21913-1300233600-1300233600@www.jazzcerkno.si
SUMMARY:EKE
DESCRIPTION:16.3.2011 \n(BRA\, NIZ\, AUT) \nYedo Gibson tenorski in baritonski saksofon;Oscar Jan Hoogland električni klavikord;Gerri Jäger bobni
URL:https://www.jazzcerkno.si/event/eke/?lang=en
CATEGORIES:16. Keltika 2011
END:VEVENT
BEGIN:VEVENT
DTSTART;TZID=UTC:20110209T000000
DTEND;TZID=UTC:20110209T000000
DTSTAMP:20260420T220216
CREATED:20220718T101226Z
LAST-MODIFIED:20230201T085821Z
UID:21916-1297209600-1297209600@www.jazzcerkno.si
SUMMARY:Alzheimer Trio
DESCRIPTION:9.2.2011 \nTomaž Grom kontrabas\, efekti\, elektronika;Matjaž Manček električna kitara\, efekti\, hardware;Marjan Stanić bobni\, ropotulje \nAbstract Truth gramofoni
URL:https://www.jazzcerkno.si/event/alzheimer-trio/?lang=en
CATEGORIES:16. Keltika 2011
END:VEVENT
BEGIN:VEVENT
DTSTART;TZID=UTC:20110128T000000
DTEND;TZID=UTC:20110128T000000
DTSTAMP:20260420T220216
CREATED:20220718T101255Z
LAST-MODIFIED:20230201T090039Z
UID:21919-1296172800-1296172800@www.jazzcerkno.si
SUMMARY:Sekou Kouyate Experience
DESCRIPTION:28.1.2011 \nSekou Kouyate kora\, glas;Igor Leonardi el. kitara\, glas;Damir Mazrek tolkalaNino de Gleria bas;Aleš Rendla bobni
URL:https://www.jazzcerkno.si/event/sekou-kouyate-experience/?lang=en
CATEGORIES:16. Keltika 2011
END:VEVENT
END:VCALENDAR