BEGIN:VCALENDAR
VERSION:2.0
PRODID:-//Jazz Cerkno - ECPv6.3.2//NONSGML v1.0//EN
CALSCALE:GREGORIAN
METHOD:PUBLISH
X-WR-CALNAME:Jazz Cerkno
X-ORIGINAL-URL:https://www.jazzcerkno.si/?lang=en
X-WR-CALDESC:Events for Jazz Cerkno
REFRESH-INTERVAL;VALUE=DURATION:PT1H
X-Robots-Tag:noindex
X-PUBLISHED-TTL:PT1H
BEGIN:VTIMEZONE
TZID:UTC
BEGIN:STANDARD
TZOFFSETFROM:+0000
TZOFFSETTO:+0000
TZNAME:UTC
DTSTART:20250101T000000
END:STANDARD
END:VTIMEZONE
BEGIN:VEVENT
DTSTART;TZID=UTC:20250906T200000
DTEND;TZID=UTC:20250906T200000
DTSTAMP:20260420T145700
CREATED:20250705T201820Z
LAST-MODIFIED:20250929T093045Z
UID:40286-1757188800-1757188800@www.jazzcerkno.si
SUMMARY:Katalena
DESCRIPTION:Saturday\, September 6\, at 20:00Star plac\, Cerkno \n			\n				\n				\n				\n				\n				Vesna Zornik (leading and backing vocals)\, Polona Janežič (piano\, keyboards\, psaltery\, backing vocals)\, Boštjan Gombač (clarinet\, saxophones\, flugelhorn\, theremin\, ukulele\, tin whistles\, fujara\, trombone\, backing vocals)\, Tibor Mihelič Syed (el. bass\, gimbri\, ukulele\, Roland HPD 20\, guitar\, backing vocals)\, Boštjan Narat (guitar\, banjo\, backing vocals)\, Robert Rebolj (drums\, percussion)\, Jelena Ždrale (viola\, violin\, backing vocals) \nleading Slovenian ethno band with original arrangements of folk songs and original compositions \n			\n			\n				\n				\n				\n				\n				\n				\n				\n					\n					\n					\n				\n				\n				\n					\n					\n					\n				\n				\n				\n					\n					\n					\n				\n				\n				\n					\n					\n					\n				\n				\n				\n					\n					\n					\n				\n				\n				\n					\n					\n					\n				\n				\n				\n					\n					\n					\n				\n				\n				\n					\n					\n					\n				\n				\n				\n					\n					\n					\n				\n				\n				\n					\n					\n					\n				\n				\n				\n					\n					\n					\n				\n				\n				\n					\n					\n					\n				\n				\n				\n					\n					\n					\n				\n				\n				\n					\n					\n					\n				\n				\n				\n				\n				\n				\n				Photo: Bojan Tavčar
URL:https://www.jazzcerkno.si/event/katalena-5/?lang=en
LOCATION:Star plac\, Cerkno
CATEGORIES:30. Keltika 2025
ATTACH;FMTTYPE=image/jpeg:https://www.jazzcerkno.si/wp-content/uploads/2025/07/Jazz_Cerkno_Katalena_foto_Bojan_Tavcar-9.jpg
END:VEVENT
END:VCALENDAR