BEGIN:VCALENDAR
VERSION:2.0
PRODID:-//Jazz Cerkno - ECPv6.3.2//NONSGML v1.0//EN
CALSCALE:GREGORIAN
METHOD:PUBLISH
X-WR-CALNAME:Jazz Cerkno
X-ORIGINAL-URL:https://www.jazzcerkno.si/?lang=en
X-WR-CALDESC:Events for Jazz Cerkno
REFRESH-INTERVAL;VALUE=DURATION:PT1H
X-Robots-Tag:noindex
X-PUBLISHED-TTL:PT1H
BEGIN:VTIMEZONE
TZID:UTC
BEGIN:STANDARD
TZOFFSETFROM:+0000
TZOFFSETTO:+0000
TZNAME:UTC
DTSTART:20250101T000000
END:STANDARD
END:VTIMEZONE
BEGIN:VEVENT
DTSTART;TZID=UTC:20250711T210000
DTEND;TZID=UTC:20250711T210000
DTSTAMP:20260420T181612
CREATED:20250701T143046Z
LAST-MODIFIED:20250724T121501Z
UID:40237-1752267600-1752267600@www.jazzcerkno.si
SUMMARY:Steven Bernstein Sexmob // Mondo Tondo
DESCRIPTION:Friday\, July 11\, at 21:00Star plac\, Cerkno \n			\n				\n				\n					\n					\n					\n				\n				\n				\n					\n					\n					\n				\n				\n				\n					\n					\n					\n				\n				\n				\n					\n					\n					\n				\n				\n				\n					\n					\n					\n				\n				\n				\n					\n					\n					\n				\n				\n				\n					\n					\n					\n				\n				\n				\n					\n					\n					\n				\n				\n				\n					\n					\n					\n				\n				\n				\n					\n					\n					\n				\n				\n				\n					\n					\n					\n				\n				\n				\n					\n					\n					\n				\n				\n				\n					\n					\n					\n				\n				\n				\n					\n					\n					\n				\n				\n				\n					\n					\n					\n				\n				\n				\n					\n					\n					\n				\n				\n				\n					\n					\n					\n				\n				\n				\n					\n					\n					\n				\n				\n				\n					\n					\n					\n				\n				\n				\n					\n					\n					\n				\n				\n				\n					\n					\n					\n				\n				\n				\n					\n					\n					\n				\n				\n				\n					\n					\n					\n				\n				\n				\n					\n					\n					\n				\n				\n				\n					\n					\n					\n				\n				\n				\n				\n				\n				\n				photo: Bojan Tavčar \n			\n				\n				\n				\n				\n				Steven Bernstein Sexmob (US)a cult New York band that has been impressing with its inventive approach to jazz heritage and quirky reworkings of pop songs \nSteven Bernstein (slide trumpet)Briggan Krauss (saxophones)Tony Scherr (double bass)Kenny Wollesen (drums) \n			\n				\n				\n				\n				\n				Mondo Tondo (SI\, IT)fresh Slovenian-Italian band with a well-balanced mix of groove and free jazz \nMarko Lasič (drums)Timi Vremec (el. bass)Giorgio Pacorig (Rhodes\, Korg MS20)Francesco Ivone (trumpet\, electronics) \n			\n			\n				\n				\n				\n				\n				\n				\n				\n					\n					\n					\n				\n				\n				\n					\n					\n					\n				\n				\n				\n					\n					\n					\n				\n				\n				\n					\n					\n					\n				\n				\n				\n					\n					\n					\n				\n				\n				\n					\n					\n					\n				\n				\n				\n					\n					\n					\n				\n				\n				\n					\n					\n					\n				\n				\n				\n					\n					\n					\n				\n				\n				\n					\n					\n					\n				\n				\n				\n					\n					\n					\n				\n				\n				\n					\n					\n					\n				\n				\n				\n					\n					\n					\n				\n				\n				\n					\n					\n					\n				\n				\n				\n					\n					\n					\n				\n				\n				\n					\n					\n					\n				\n				\n				\n					\n					\n					\n				\n				\n				\n					\n					\n					\n				\n				\n				\n					\n					\n					\n				\n				\n				\n					\n					\n					\n				\n				\n				\n					\n					\n					\n				\n				\n				\n					\n					\n					\n				\n				\n				\n					\n					\n					\n				\n				\n				\n					\n					\n					\n				\n				\n				\n					\n					\n					\n				\n				\n				\n				\n				\n				\n				photo: Bojan Tavčar
URL:https://www.jazzcerkno.si/event/steven-bernstein-sexmob-mondo-tondo/?lang=en
LOCATION:Star plac\, Cerkno
CATEGORIES:30. Keltika 2025
ATTACH;FMTTYPE=image/jpeg:https://www.jazzcerkno.si/wp-content/uploads/2025/07/Sexmob_foto_Bojan_Tavcar-1-scaled.jpg
END:VEVENT
END:VCALENDAR