BEGIN:VCALENDAR
VERSION:2.0
PRODID:-//Jazz Cerkno - ECPv6.3.2//NONSGML v1.0//EN
CALSCALE:GREGORIAN
METHOD:PUBLISH
X-WR-CALNAME:Jazz Cerkno
X-ORIGINAL-URL:https://www.jazzcerkno.si/?lang=en
X-WR-CALDESC:Events for Jazz Cerkno
REFRESH-INTERVAL;VALUE=DURATION:PT1H
X-Robots-Tag:noindex
X-PUBLISHED-TTL:PT1H
BEGIN:VTIMEZONE
TZID:UTC
BEGIN:STANDARD
TZOFFSETFROM:+0000
TZOFFSETTO:+0000
TZNAME:UTC
DTSTART:20250101T000000
END:STANDARD
END:VTIMEZONE
BEGIN:VEVENT
DTSTART;TZID=UTC:20250405T200000
DTEND;TZID=UTC:20250405T200000
DTSTAMP:20260420T232649
CREATED:20250318T105534Z
LAST-MODIFIED:20250408T100122Z
UID:39512-1743883200-1743883200@www.jazzcerkno.si
SUMMARY:Zanuttini / Kaučič // Kaja Draksler oktet
DESCRIPTION:Saturday\, April 5\, at 20:00Cerkno Music School \n \n			\n				\n				\n				\n				\n				Zanuttini / Kaučič – Peace In Space (IT\, SI)\nethereal jazz inspired by the vast universe \nFlavio Zanuttini (trumpet\, gong\, effects)Zlatko Kaučič (drums\, percussion)  \n			\n				\n				\n				\n				\n				Kaja Draksler oktet – Sčasoma / In Time  \n(SI\, NL\, LV\, IS\, AR\, RO\, BE)\nMatsuo Basho’s haiku poems\, dressed in orchestral jazz \nKaja Draksler (piano)\, Laura Polence (voice)\, Björk Níelsdóttir (voice)\, Ada Rave (tenor saxophone\, clarinet)\, Ab Baars (tenor saxophone\, clarinet\, shakuhachi)\, George Dumitriu (violin\, viola)\, Lennart Heyndels (double bass)\, Onno Govaert (drums\, percussion) \n			\n			\n				\n				\n				\n				\n				\n				\n				\n					\n					\n					\n				\n				\n				\n					\n					\n					\n				\n				\n				\n					\n					\n					\n				\n				\n				\n					\n					\n					\n				\n				\n				\n					\n					\n					\n				\n				\n				\n					\n					\n					\n				\n				\n				\n					\n					\n					\n				\n				\n				\n					\n					\n					\n				\n				\n				\n					\n					\n					\n				\n				\n				\n					\n					\n					\n				\n				\n				\n					\n					\n					\n				\n				\n				\n					\n					\n					\n				\n				\n				\n					\n					\n					\n				\n				\n				\n					\n					\n					\n				\n				\n				\n					\n					\n					\n				\n				\n				\n					\n					\n					\n				\n				\n				\n					\n					\n					\n				\n				\n				\n					\n					\n					\n				\n				\n				\n					\n					\n					\n				\n				\n				\n					\n					\n					\n				\n				\n				\n					\n					\n					\n				\n				\n				\n					\n					\n					\n				\n				\n				\n					\n					\n					\n				\n				\n				\n					\n					\n					\n				\n				\n				\n					\n					\n					\n				\n				\n				\n					\n					\n					\n				\n				\n				\n				\n				\n				\n				Photo: Bojan Tavčar
URL:https://www.jazzcerkno.si/event/zanuttini-kaucic-kaja-draksler-oktet/?lang=en
LOCATION:Cerkno Music School
CATEGORIES:30. Keltika 2025
ATTACH;FMTTYPE=image/jpeg:https://www.jazzcerkno.si/wp-content/uploads/2025/03/Jazz_Cerkno_Kaja_Draksler_oktet_foto_Bojan_Tavcar-13.jpg
END:VEVENT
END:VCALENDAR