BEGIN:VCALENDAR
VERSION:2.0
PRODID:-//Jazz Cerkno - ECPv6.3.2//NONSGML v1.0//EN
CALSCALE:GREGORIAN
METHOD:PUBLISH
X-WR-CALNAME:Jazz Cerkno
X-ORIGINAL-URL:https://www.jazzcerkno.si/?lang=en
X-WR-CALDESC:Events for Jazz Cerkno
REFRESH-INTERVAL;VALUE=DURATION:PT1H
X-Robots-Tag:noindex
X-PUBLISHED-TTL:PT1H
BEGIN:VTIMEZONE
TZID:UTC
BEGIN:STANDARD
TZOFFSETFROM:+0000
TZOFFSETTO:+0000
TZNAME:UTC
DTSTART:20250101T000000
END:STANDARD
END:VTIMEZONE
BEGIN:VEVENT
DTSTART;TZID=UTC:20250222T200000
DTEND;TZID=UTC:20250222T200000
DTSTAMP:20260421T022751
CREATED:20250114T123204Z
LAST-MODIFIED:20250228T101038Z
UID:39147-1740254400-1740254400@www.jazzcerkno.si
SUMMARY:KONCERT ŠTIRIH: Severa Gjurin\, Rudi Bučar\, Vasko Atanasovski\, Dejan Lapanja
DESCRIPTION:Saturday\, February 22\, at 20:00Kinogledališče Tolmin \n			\n				\n				\n				\n				\n				Severa Gjurin (voice\, ac. guitar)Rudi Bučar (voice\, ac. guitar)Vasko Atanasovski (voice\, saxophones\, flute)Dejan Lapanja (voice\, ac. and el. guitar) \na four-leaf clover of top musicians in a project that connects almost all genres \n			\n			\n				\n				\n				\n				\n				\n				\n				\n					\n					\n					\n				\n				\n				\n					\n					\n					\n				\n				\n				\n					\n					\n					\n				\n				\n				\n					\n					\n					\n				\n				\n				\n					\n					\n					\n				\n				\n				\n					\n					\n					\n				\n				\n				\n					\n					\n					\n				\n				\n				\n					\n					\n					\n				\n				\n				\n					\n					\n					\n				\n				\n				\n					\n					\n					\n				\n				\n				\n					\n					\n					\n				\n				\n				\n					\n					\n					\n				\n				\n				\n					\n					\n					\n				\n				\n				\n					\n					\n					\n				\n				\n				\n					\n					\n					\n				\n				\n				\n					\n					\n					\n				\n				\n				\n				\n				\n				\n				Photo: Katarina Rutar Ipavec
URL:https://www.jazzcerkno.si/event/koncert-stirih-severa-gjurin-rudi-bucar-vasko-atanasovski-dejan-lapanja/?lang=en
LOCATION:Kinogledališče Tolmin\, Slovenija
CATEGORIES:30. Keltika 2025
ATTACH;FMTTYPE=image/jpeg:https://www.jazzcerkno.si/wp-content/uploads/2025/01/Jazz_Cerkno_Koncert_stirih_foto_Katarina_Rutar_Ipavec-11-1.jpg
END:VEVENT
END:VCALENDAR