BEGIN:VCALENDAR
VERSION:2.0
PRODID:-//Jazz Cerkno - ECPv6.3.2//NONSGML v1.0//EN
CALSCALE:GREGORIAN
METHOD:PUBLISH
X-ORIGINAL-URL:https://www.jazzcerkno.si/?lang=en
X-WR-CALDESC:Events for Jazz Cerkno
REFRESH-INTERVAL;VALUE=DURATION:PT1H
X-Robots-Tag:noindex
X-PUBLISHED-TTL:PT1H
BEGIN:VTIMEZONE
TZID:UTC
BEGIN:STANDARD
TZOFFSETFROM:+0000
TZOFFSETTO:+0000
TZNAME:UTC
DTSTART:20240101T000000
END:STANDARD
END:VTIMEZONE
BEGIN:VEVENT
DTSTART;TZID=UTC:20241130T200000
DTEND;TZID=UTC:20241130T200000
DTSTAMP:20260421T052632
CREATED:20241112T151227Z
LAST-MODIFIED:20241203T145529Z
UID:38842-1732996800-1732996800@www.jazzcerkno.si
SUMMARY:3:rma // Niko Novak
DESCRIPTION:Saturday\, November 30\, at 20:00Cerkno Music School \n			\n				\n				\n				\n				\n				3:rma (SI)\nfemale singer-songwriter duo with engaged and poetic songs \nMaša But (voice)Urška Supej (ac. guitar\, backing voice) \n  \n			\n				\n				\n				\n				\n				Niko Novak (SI)\ndark folk by the first baritone of the Slovenian alternative scene \nNiko Novak (voice\, el. bass) \n  \n			\n			\n				\n				\n				\n				\n				\n				\n				\n					\n					\n					\n				\n				\n				\n					\n					\n					\n				\n				\n				\n					\n					\n					\n				\n				\n				\n					\n					\n					\n				\n				\n				\n					\n					\n					\n				\n				\n				\n					\n					\n					\n				\n				\n				\n					\n					\n					\n				\n				\n				\n					\n					\n					\n				\n				\n				\n					\n					\n					\n				\n				\n				\n					\n					\n					\n				\n				\n				\n					\n					\n					\n				\n				\n				\n					\n					\n					\n				\n				\n				\n					\n					\n					\n				\n				\n				\n					\n					\n					\n				\n				\n				\n					\n					\n					\n				\n				\n				\n					\n					\n					\n				\n				\n				\n					\n					\n					\n				\n				\n				\n					\n					\n					\n				\n				\n				\n					\n					\n					\n				\n				\n				\n					\n					\n					\n				\n				\n				\n					\n					\n					\n				\n				\n				\n					\n					\n					\n				\n				\n				\n					\n					\n					\n				\n				\n				\n					\n					\n					\n				\n				\n				\n					\n					\n					\n				\n				\n				\n				\n				\n				\n				Photo: Bojan Tavčar
URL:https://www.jazzcerkno.si/event/3rma-niko-novak/?lang=en
LOCATION:Cerkno Music School
CATEGORIES:29. Keltika 2024
ATTACH;FMTTYPE=image/jpeg:https://www.jazzcerkno.si/wp-content/uploads/2024/12/Jazz_Cerkno_3rma_Niko_Novak_foto_Bojan_Tavcar-1.jpg
END:VEVENT
END:VCALENDAR