BEGIN:VCALENDAR
VERSION:2.0
PRODID:-//Jazz Cerkno - ECPv6.3.2//NONSGML v1.0//EN
CALSCALE:GREGORIAN
METHOD:PUBLISH
X-WR-CALNAME:Jazz Cerkno
X-ORIGINAL-URL:https://www.jazzcerkno.si/?lang=en
X-WR-CALDESC:Events for Jazz Cerkno
REFRESH-INTERVAL;VALUE=DURATION:PT1H
X-Robots-Tag:noindex
X-PUBLISHED-TTL:PT1H
BEGIN:VTIMEZONE
TZID:UTC
BEGIN:STANDARD
TZOFFSETFROM:+0000
TZOFFSETTO:+0000
TZNAME:UTC
DTSTART:20240101T000000
END:STANDARD
END:VTIMEZONE
BEGIN:VEVENT
DTSTART;TZID=UTC:20240907T200000
DTEND;TZID=UTC:20240907T200000
DTSTAMP:20260421T102452
CREATED:20240621T094947Z
LAST-MODIFIED:20240910T124923Z
UID:38243-1725739200-1725739200@www.jazzcerkno.si
SUMMARY:Džambo Aguševi Orchestra
DESCRIPTION:Saturday\, September 7\, at 20:00Star plac\, Cerkno \n			\n				\n				\n				\n				\n				Džambo Agušev (trumpet\, voice)\, Kočo Agušev (trumpet)\, Sunaj Mustafov (trumpet)\, Kjerem Juseinov (trobenta)\, Ali Zekirov (tenor saxophone)\, Džafer Fazliov (tenor saxophone)\, Mustafa Zejnelov (tenor saxophone)\, Šukri Dževatov (helicon)\, Orfej Čakalovski (tapan)\, Nedžat Redžepov (drums) \na fiery and exuberant Balkan brass music by the award-winning Macedonian trumpeter and his illustrious orchestra \n			\n			\n				\n				\n				\n				\n				\n				\n				\n					\n					\n					\n				\n				\n				\n					\n					\n					\n				\n				\n				\n					\n					\n					\n				\n				\n				\n					\n					\n					\n				\n				\n				\n					\n					\n					\n				\n				\n				\n					\n					\n					\n				\n				\n				\n					\n					\n					\n				\n				\n				\n					\n					\n					\n				\n				\n				\n					\n					\n					\n				\n				\n				\n					\n					\n					\n				\n				\n				\n					\n					\n					\n				\n				\n				\n					\n					\n					\n				\n				\n				\n					\n					\n					\n				\n				\n				\n					\n					\n					\n				\n				\n				\n					\n					\n					\n				\n				\n				\n					\n					\n					\n				\n				\n				\n					\n					\n					\n				\n				\n				\n					\n					\n					\n				\n				\n				\n					\n					\n					\n				\n				\n				\n					\n					\n					\n				\n				\n				\n					\n					\n					\n				\n				\n				\n					\n					\n					\n				\n				\n				\n					\n					\n					\n				\n				\n				\n				\n				\n				\n				Photo: Bojan Tavčar
URL:https://www.jazzcerkno.si/event/dzambo-agusevi-orchestra-2/?lang=en
LOCATION:Star plac\, Cerkno
CATEGORIES:29. Keltika 2024
ATTACH;FMTTYPE=image/jpeg:https://www.jazzcerkno.si/wp-content/uploads/2024/06/Jazz_Cerkno_Dzambo-Agusevi-Orchestra_foto_Bojan_Tavcar-1.jpg
END:VEVENT
END:VCALENDAR