BEGIN:VCALENDAR
VERSION:2.0
PRODID:-//Jazz Cerkno - ECPv6.3.2//NONSGML v1.0//EN
CALSCALE:GREGORIAN
METHOD:PUBLISH
X-WR-CALNAME:Jazz Cerkno
X-ORIGINAL-URL:https://www.jazzcerkno.si/?lang=en
X-WR-CALDESC:Events for Jazz Cerkno
REFRESH-INTERVAL;VALUE=DURATION:PT1H
X-Robots-Tag:noindex
X-PUBLISHED-TTL:PT1H
BEGIN:VTIMEZONE
TZID:UTC
BEGIN:STANDARD
TZOFFSETFROM:+0000
TZOFFSETTO:+0000
TZNAME:UTC
DTSTART:20240101T000000
END:STANDARD
END:VTIMEZONE
BEGIN:VEVENT
DTSTART;TZID=UTC:20240628T210000
DTEND;TZID=UTC:20240628T210000
DTSTAMP:20260421T144326
CREATED:20240530T104728Z
LAST-MODIFIED:20240702T100716Z
UID:38168-1719608400-1719608400@www.jazzcerkno.si
SUMMARY:Dejan Lapanja & Gašper Peršl // Divje jezero
DESCRIPTION:Friday\, June 28\, at 21:00Star plac\, Cerkno \n			\n				\n				\n				\n				\n				Dejan Lapanja & Gašper Peršl (SI)minimalistic and intense soundscapes inspired with prog-rock \nDejan Lapanja (el. guitar\, voice)Gašper Peršl (drums) \n			\n				\n				\n				\n				\n				Divje jezero (SI)a dreamlike\, yet lively journey into the pop-rock of the seventies \nAlen Bogataj (el. bass)Luka Čibej (drums)Aleš Golja (el. guitar)Žiga Kovačič (keyboards)Tomi Peljhan (saxophone)Žan Sedej (voice) \n			\n			\n				\n				\n				\n				\n				\n				\n				\n					\n					\n					\n				\n				\n				\n					\n					\n					\n				\n				\n				\n					\n					\n					\n				\n				\n				\n					\n					\n					\n				\n				\n				\n					\n					\n					\n				\n				\n				\n					\n					\n					\n				\n				\n				\n					\n					\n					\n				\n				\n				\n					\n					\n					\n				\n				\n				\n					\n					\n					\n				\n				\n				\n					\n					\n					\n				\n				\n				\n					\n					\n					\n				\n				\n				\n					\n					\n					\n				\n				\n				\n					\n					\n					\n				\n				\n				\n					\n					\n					\n				\n				\n				\n					\n					\n					\n				\n				\n				\n					\n					\n					\n				\n				\n				\n					\n					\n					\n				\n				\n				\n					\n					\n					\n				\n				\n				\n				\n				\n				\n				Photo: Matjaž Peternelj
URL:https://www.jazzcerkno.si/event/dejan-lapanja-gasper-persl-divje-jezero/?lang=en
LOCATION:Star plac\, Cerkno
CATEGORIES:29. Keltika 2024
ATTACH;FMTTYPE=image/jpeg:https://www.jazzcerkno.si/wp-content/uploads/2024/05/Jazz_Cerkno_Lapanja-Persl_Divje-jezero_01_foto_Matjaz_Peternelj.jpg
END:VEVENT
END:VCALENDAR