BEGIN:VCALENDAR
VERSION:2.0
PRODID:-//Jazz Cerkno - ECPv6.3.2//NONSGML v1.0//EN
CALSCALE:GREGORIAN
METHOD:PUBLISH
X-WR-CALNAME:Jazz Cerkno
X-ORIGINAL-URL:https://www.jazzcerkno.si/?lang=en
X-WR-CALDESC:Events for Jazz Cerkno
REFRESH-INTERVAL;VALUE=DURATION:PT1H
X-Robots-Tag:noindex
X-PUBLISHED-TTL:PT1H
BEGIN:VTIMEZONE
TZID:UTC
BEGIN:STANDARD
TZOFFSETFROM:+0000
TZOFFSETTO:+0000
TZNAME:UTC
DTSTART:20240101T000000
END:STANDARD
END:VTIMEZONE
BEGIN:VEVENT
DTSTART;TZID=UTC:20240605T210000
DTEND;TZID=UTC:20240605T210000
DTSTAMP:20260421T144326
CREATED:20240530T094049Z
LAST-MODIFIED:20240606T102336Z
UID:38140-1717621200-1717621200@www.jazzcerkno.si
SUMMARY:Rodrigo Amado The Bridge
DESCRIPTION:Wednesday\, June 5\, at 21:00club Gromka\, Ljubljana \n			\n				\n				\n				\n				\n				Rodrigo Amado (tenor saxophone)Alexander Von Schlippenbach (piano)Ingebrigt Håker Flaten (double bass)Gerry Hemingway (drums) \nexceptional masters of free improvisation and new jazz venture into spiritual heights and thunderous depths \n+ SAŠO VOLLMAIER (SI): KIND OF LAIBACH (EXTENDED) \n			\n				\n				\n					\n					\n					\n				\n				\n				\n				\n				\n				\n				Photo: Danielle Oosterop \n			\n			\n				\n				\n				\n				\n				\n				\n				\n					\n					\n					\n				\n				\n				\n				\n				\n				\n				Photo: Danielle Oosterop
URL:https://www.jazzcerkno.si/event/rodrigo-amado-the-bridge/?lang=en
LOCATION:club Gromka\, Ljubljana
CATEGORIES:29. Keltika 2024
ATTACH;FMTTYPE=image/jpeg:https://www.jazzcerkno.si/wp-content/uploads/2024/05/Rodrigo-Amado-The-Bridge-by-Danielle-Oosterop_1.jpg
END:VEVENT
END:VCALENDAR