BEGIN:VCALENDAR
VERSION:2.0
PRODID:-//Jazz Cerkno - ECPv6.3.2//NONSGML v1.0//EN
CALSCALE:GREGORIAN
METHOD:PUBLISH
X-WR-CALNAME:Jazz Cerkno
X-ORIGINAL-URL:https://www.jazzcerkno.si/?lang=en
X-WR-CALDESC:Events for Jazz Cerkno
REFRESH-INTERVAL;VALUE=DURATION:PT1H
X-Robots-Tag:noindex
X-PUBLISHED-TTL:PT1H
BEGIN:VTIMEZONE
TZID:Europe/Paris
BEGIN:DAYLIGHT
TZOFFSETFROM:+0100
TZOFFSETTO:+0200
TZNAME:CEST
DTSTART:20240331T010000
END:DAYLIGHT
BEGIN:STANDARD
TZOFFSETFROM:+0200
TZOFFSETTO:+0100
TZNAME:CET
DTSTART:20241027T010000
END:STANDARD
END:VTIMEZONE
BEGIN:VEVENT
DTSTART;TZID=Europe/Paris:20240216T200000
DTEND;TZID=Europe/Paris:20240216T200000
DTSTAMP:20260421T210244
CREATED:20231212T123603Z
LAST-MODIFIED:20240219T090712Z
UID:35670-1708113600-1708113600@www.jazzcerkno.si
SUMMARY:Hostnik pa Krečič
DESCRIPTION:Friday\, February 16\, at 20:00Cerkno Music School \n			\n				\n				\n				\n				\n				Tomaž Hostnik (voice\, piano)Matija Krečič (violin\, voice) \noffbeat chansons with juicy lyrics and unconventional musical ideas \n			\n			\n				\n				\n				\n				\n				\n				\n				\n					\n					\n					\n				\n				\n				\n					\n					\n					\n				\n				\n				\n					\n					\n					\n				\n				\n				\n					\n					\n					\n				\n				\n				\n					\n					\n					\n				\n				\n				\n					\n					\n					\n				\n				\n				\n					\n					\n					\n				\n				\n				\n					\n					\n					\n				\n				\n				\n					\n					\n					\n				\n				\n				\n					\n					\n					\n				\n				\n				\n					\n					\n					\n				\n				\n				\n					\n					\n					\n				\n				\n				\n					\n					\n					\n				\n				\n				\n					\n					\n					\n				\n				\n				\n					\n					\n					\n				\n				\n				\n				\n				\n				\n				Photo: Bojan Tavčar
URL:https://www.jazzcerkno.si/event/hostnik-pa-krecic/?lang=en
LOCATION:Cerkno Music School
CATEGORIES:29. Keltika 2024
ATTACH;FMTTYPE=image/jpeg:https://www.jazzcerkno.si/wp-content/uploads/2023/12/Jazz_Cerkno_Hostnik_pa_Krecic_01_foto_Bojan_Tavcar.jpg
END:VEVENT
END:VCALENDAR