BEGIN:VCALENDAR
VERSION:2.0
PRODID:-//Jazz Cerkno - ECPv6.3.2//NONSGML v1.0//EN
CALSCALE:GREGORIAN
METHOD:PUBLISH
X-ORIGINAL-URL:https://www.jazzcerkno.si/?lang=en
X-WR-CALDESC:Events for Jazz Cerkno
REFRESH-INTERVAL;VALUE=DURATION:PT1H
X-Robots-Tag:noindex
X-PUBLISHED-TTL:PT1H
BEGIN:VTIMEZONE
TZID:UTC
BEGIN:STANDARD
TZOFFSETFROM:+0000
TZOFFSETTO:+0000
TZNAME:UTC
DTSTART:20260101T000000
END:STANDARD
END:VTIMEZONE
BEGIN:VEVENT
DTSTART;TZID=UTC:20260321T200000
DTEND;TZID=UTC:20260321T200000
DTSTAMP:20260420T040201
CREATED:20260211T121715Z
LAST-MODIFIED:20260403T083722Z
UID:42118-1774123200-1774123200@www.jazzcerkno.si
SUMMARY:Kristijan Krajnčan Quartet // Ana Kravanja & Martin Küchen
DESCRIPTION:Saturday\, March 21\, at 20:00Cerkno Music School \n			\n				\n				\n				\n				\n				Kristijan Krajnčan Quartet: MED SE ISKRÍ V TEMÍ (SI)Slovenian folk songs as inspiration for modern jazz \nTomaž Gajšt (trumpet)Boštjan Simon (tenor saxophone)Robert Jukič (double bass)Kristijan Krajnčan (drums\, cello) \n			\n				\n				\n				\n				\n				Ana Kravanja & Martin Küchen (SI\, SE)an exciting combination of traditional musical instruments\, improvisation and jazz \nAna Kravanja (violin\, viola\, ribab\, qeychak\, balafon\, frame drums\, flutes)Martin Küchen (saxophone) \n			\n			\n				\n				\n				\n				\n				\n				\n				\n					\n					\n					\n				\n				\n				\n					\n					\n					\n				\n				\n				\n					\n					\n					\n				\n				\n				\n					\n					\n					\n				\n				\n				\n					\n					\n					\n				\n				\n				\n					\n					\n					\n				\n				\n				\n					\n					\n					\n				\n				\n				\n					\n					\n					\n				\n				\n				\n					\n					\n					\n				\n				\n				\n					\n					\n					\n				\n				\n				\n					\n					\n					\n				\n				\n				\n					\n					\n					\n				\n				\n				\n					\n					\n					\n				\n				\n				\n					\n					\n					\n				\n				\n				\n					\n					\n					\n				\n				\n				\n					\n					\n					\n				\n				\n				\n					\n					\n					\n				\n				\n				\n					\n					\n					\n				\n				\n				\n					\n					\n					\n				\n				\n				\n					\n					\n					\n				\n				\n				\n					\n					\n					\n				\n				\n				\n					\n					\n					\n				\n				\n				\n					\n					\n					\n				\n				\n				\n					\n					\n					\n				\n				\n				\n					\n					\n					\n				\n				\n				\n					\n					\n					\n				\n				\n				\n					\n					\n					\n				\n				\n				\n					\n					\n					\n				\n				\n				\n				\n				\n				\n				Photo: Bojan Tavčar
URL:https://www.jazzcerkno.si/event/kristijan-krajncan-quartet-ana-kravanja-martin-kuchen/?lang=en
LOCATION:Cerkno Music School
CATEGORIES:31. Keltika 2026
ATTACH;FMTTYPE=image/jpeg:https://www.jazzcerkno.si/wp-content/uploads/2026/02/Jazz_Cerkno_Krajncan_Quartet_foto_Bojan_Tavcar-1.jpg
END:VEVENT
END:VCALENDAR