BEGIN:VCALENDAR
VERSION:2.0
PRODID:-//Jazz Cerkno - ECPv6.3.2//NONSGML v1.0//EN
CALSCALE:GREGORIAN
METHOD:PUBLISH
X-WR-CALNAME:Jazz Cerkno
X-ORIGINAL-URL:https://www.jazzcerkno.si/?lang=en
X-WR-CALDESC:Events for Jazz Cerkno
REFRESH-INTERVAL;VALUE=DURATION:PT1H
X-Robots-Tag:noindex
X-PUBLISHED-TTL:PT1H
BEGIN:VTIMEZONE
TZID:UTC
BEGIN:STANDARD
TZOFFSETFROM:+0000
TZOFFSETTO:+0000
TZNAME:UTC
DTSTART:20260101T000000
END:STANDARD
END:VTIMEZONE
BEGIN:VEVENT
DTSTART;TZID=UTC:20260217T193000
DTEND;TZID=UTC:20260217T193000
DTSTAMP:20260420T052650
CREATED:20260121T212012Z
LAST-MODIFIED:20260303T120501Z
UID:41980-1771356600-1771356600@www.jazzcerkno.si
SUMMARY:Rok Zalokar Zhlehtet
DESCRIPTION:Tuesday\, February 17\, at 19:30Cankarjev dom\, Ljubljana \n			\n				\n				\n				\n				\n				Rok Zalokar (piano\, electronics)\, Alja Petric (vocals\, percussion)\, Urška Preis (harp\, effects)\, Lenart De Bock (flute\, tenor saxophone)\, Boštjan Simon (tenor and soprano saxophone)\, Jošt Drašler (double bass)\, Kristijan Krajnčan (cello\, drums)\, Žiga Smrdel (drums) \na compact combination of free jazz\, ambient textures and spiritual jazz \n+ concert part of the Cankarjevi torki series:NIELS BROOS & JAMIE PEET (NL)Niels Broos (keyboards\, electronics)Jamie Peet (drums) \n			\n			\n				\n				\n				\n				\n				\n				\n				\n					\n					\n					\n				\n				\n				\n					\n					\n					\n				\n				\n				\n					\n					\n					\n				\n				\n				\n					\n					\n					\n				\n				\n				\n					\n					\n					\n				\n				\n				\n					\n					\n					\n				\n				\n				\n					\n					\n					\n				\n				\n				\n					\n					\n					\n				\n				\n				\n					\n					\n					\n				\n				\n				\n					\n					\n					\n				\n				\n				\n					\n					\n					\n				\n				\n				\n					\n					\n					\n				\n				\n				\n					\n					\n					\n				\n				\n				\n					\n					\n					\n				\n				\n				\n				\n				\n				\n				Photo: Nada Žgank
URL:https://www.jazzcerkno.si/event/rok-zalokar-zhlehtet-2/?lang=en
LOCATION:Cankarjev dom\, Ljubljana
CATEGORIES:31. Keltika 2026
ATTACH;FMTTYPE=image/jpeg:https://www.jazzcerkno.si/wp-content/uploads/2026/01/Rok-Zalokar-Zhlehtet_foto_Nada-Zgank-12.jpg
END:VEVENT
BEGIN:VEVENT
DTSTART;TZID=UTC:20260226T200000
DTEND;TZID=UTC:20260226T200000
DTSTAMP:20260420T052650
CREATED:20260115T213014Z
LAST-MODIFIED:20260303T122022Z
UID:41933-1772136000-1772136000@www.jazzcerkno.si
SUMMARY:Jazz Punt Big Band and Boštjan Gombač TRIAKONTA
DESCRIPTION:Thursday\, February 26\, at 20:00Great Hall at Kulturni dom Nova Gorica \n			\n				\n				\n				\n				\n				Boštjan Gombač (reconstruction of the Neanderthal flute\, kabrca\, fujara\, conch shell\, pocket trumpet\, sound objects\, voice)Jazz Punt Big Bandconductor: Matija Mlakar; saxophones: Tomaž Rus\, Vidja Faletič\, Olja Faletič\, Teja Hvala\, Gašper Čopi; trumpets: Domen Rovšček\, Rok Kaltnekar\, Vid Bavcon\, Jakob Kenda; trombones: Jakob Leban\, Vid Fortunat\, Klemen Leban\, Nejc Kaltnekar; keyboards: Giulio Scaramella; el. guitar: Nejc Simčič; bass guitar: Tomaž Mlakar; percussion: Mia Kristancomposer: Žiga Stanič \n			\n			\n				\n				\n				\n				\n				\n				\n				\n					\n					\n					\n				\n				\n				\n					\n					\n					\n				\n				\n				\n					\n					\n					\n				\n				\n				\n					\n					\n					\n				\n				\n				\n					\n					\n					\n				\n				\n				\n					\n					\n					\n				\n				\n				\n					\n					\n					\n				\n				\n				\n					\n					\n					\n				\n				\n				\n					\n					\n					\n				\n				\n				\n					\n					\n					\n				\n				\n				\n				\n				\n				\n				Photo: Saša Mrak
URL:https://www.jazzcerkno.si/event/jazz-punt-big-band-and-bostjan-gombac-triakonta-2/?lang=en
LOCATION:Kulturni dom Nova Gorica
CATEGORIES:31. Keltika 2026
ATTACH;FMTTYPE=image/jpeg:https://www.jazzcerkno.si/wp-content/uploads/2026/01/Triakonta_foto_Sasa-Mrak-1.jpg
END:VEVENT
END:VCALENDAR