BEGIN:VCALENDAR
VERSION:2.0
PRODID:-//Jazz Cerkno - ECPv6.3.2//NONSGML v1.0//EN
CALSCALE:GREGORIAN
METHOD:PUBLISH
X-ORIGINAL-URL:https://www.jazzcerkno.si/?lang=en
X-WR-CALDESC:Events for Jazz Cerkno
REFRESH-INTERVAL;VALUE=DURATION:PT1H
X-Robots-Tag:noindex
X-PUBLISHED-TTL:PT1H
BEGIN:VTIMEZONE
TZID:UTC
BEGIN:STANDARD
TZOFFSETFROM:+0000
TZOFFSETTO:+0000
TZNAME:UTC
DTSTART:20250101T000000
END:STANDARD
END:VTIMEZONE
BEGIN:VEVENT
DTSTART;TZID=UTC:20251017T200000
DTEND;TZID=UTC:20251017T200000
DTSTAMP:20260420T112954
CREATED:20251010T113912Z
LAST-MODIFIED:20251104T120955Z
UID:40816-1760731200-1760731200@www.jazzcerkno.si
SUMMARY:Soothsayer // Mojca Zupančič solo
DESCRIPTION:Friday\, October 17\, at 20:00Cerkno Music School \n			\n				\n				\n				\n				\n				Soothsayer (SI\, RS\, DE)a complex\, yet tight and energetic vision of modern post-bop \nLenart De Bock (tenor and soprano saxophone)Miloš Čolović (double bass)Sebastian Baumgartner (drums\, percussion) \n			\n				\n				\n				\n				\n				Mojca Zupančič solo (SI)playful pianism between composition and improvisation with a pinch of impressionism \nMojca Zupančič (piano) \n			\n			\n				\n				\n				\n				\n				\n				\n				\n					\n					\n					\n				\n				\n				\n					\n					\n					\n				\n				\n				\n					\n					\n					\n				\n				\n				\n					\n					\n					\n				\n				\n				\n					\n					\n					\n				\n				\n				\n					\n					\n					\n				\n				\n				\n					\n					\n					\n				\n				\n				\n					\n					\n					\n				\n				\n				\n					\n					\n					\n				\n				\n				\n					\n					\n					\n				\n				\n				\n					\n					\n					\n				\n				\n				\n					\n					\n					\n				\n				\n				\n					\n					\n					\n				\n				\n				\n					\n					\n					\n				\n				\n				\n					\n					\n					\n				\n				\n				\n					\n					\n					\n				\n				\n				\n					\n					\n					\n				\n				\n				\n					\n					\n					\n				\n				\n				\n					\n					\n					\n				\n				\n				\n					\n					\n					\n				\n				\n				\n					\n					\n					\n				\n				\n				\n					\n					\n					\n				\n				\n				\n				\n				\n				\n				Photo: Bojan Tavčar
URL:https://www.jazzcerkno.si/event/soothsayer-mojca-zupancic-solo/?lang=en
LOCATION:Cerkno Music School
CATEGORIES:30. Keltika 2025
ATTACH;FMTTYPE=image/jpeg:https://www.jazzcerkno.si/wp-content/uploads/2025/10/Jazz_Cerkno_Soothsayer_foto_Bojan_Tavcar-5.jpg
END:VEVENT
END:VCALENDAR