BEGIN:VCALENDAR
VERSION:2.0
PRODID:-//Jazz Cerkno - ECPv6.3.2//NONSGML v1.0//EN
CALSCALE:GREGORIAN
METHOD:PUBLISH
X-WR-CALNAME:Jazz Cerkno
X-ORIGINAL-URL:https://www.jazzcerkno.si/?lang=en
X-WR-CALDESC:Events for Jazz Cerkno
REFRESH-INTERVAL;VALUE=DURATION:PT1H
X-Robots-Tag:noindex
X-PUBLISHED-TTL:PT1H
BEGIN:VTIMEZONE
TZID:UTC
BEGIN:STANDARD
TZOFFSETFROM:+0000
TZOFFSETTO:+0000
TZNAME:UTC
DTSTART:20240101T000000
END:STANDARD
END:VTIMEZONE
BEGIN:VEVENT
DTSTART;TZID=UTC:20240830T210000
DTEND;TZID=UTC:20240830T210000
DTSTAMP:20260421T101837
CREATED:20240621T091804Z
LAST-MODIFIED:20240905T082325Z
UID:38221-1725051600-1725051600@www.jazzcerkno.si
SUMMARY:Jimmy Barka Experience // Lenhart Tapes
DESCRIPTION:Friday\, August 30\, at 21:00Star plac\, Cerkno \n			\n				\n				\n				\n				\n				Jimmy Barka Experience (SI)one drummer and two turntablists mix a delicious and colorful cocktail of music – from funk and breakbeat to African and Balkan grooves \nMarjan Stanić (drums)Bakto (turntables\, live programming\, efx)Borka (turntables\, live programming\, efx) \n			\n				\n				\n				\n				\n				Lenhart Tapes feat. Zoja Borovčanin (RS)the master cassette-tape-manipulator with the help of an excellent vocalist revives Balkan songs and dresses them in “ethno noise” colors \nVladimir Lenhart (tapes\, samples\, loops)Zoja Borovčanin (voice) \n			\n			\n				\n				\n				\n				\n				\n				\n				\n					\n					\n					\n				\n				\n				\n					\n					\n					\n				\n				\n				\n					\n					\n					\n				\n				\n				\n					\n					\n					\n				\n				\n				\n					\n					\n					\n				\n				\n				\n					\n					\n					\n				\n				\n				\n					\n					\n					\n				\n				\n				\n					\n					\n					\n				\n				\n				\n					\n					\n					\n				\n				\n				\n					\n					\n					\n				\n				\n				\n					\n					\n					\n				\n				\n				\n					\n					\n					\n				\n				\n				\n					\n					\n					\n				\n				\n				\n					\n					\n					\n				\n				\n				\n					\n					\n					\n				\n				\n				\n					\n					\n					\n				\n				\n				\n					\n					\n					\n				\n				\n				\n					\n					\n					\n				\n				\n				\n					\n					\n					\n				\n				\n				\n					\n					\n					\n				\n				\n				\n					\n					\n					\n				\n				\n				\n					\n					\n					\n				\n				\n				\n				\n				\n				\n				Photo: Bojan Tavčar
URL:https://www.jazzcerkno.si/event/jimmy-barka-experience-lenhart-tapes/?lang=en
LOCATION:Star plac\, Cerkno
CATEGORIES:29. Keltika 2024
ATTACH;FMTTYPE=image/jpeg:https://www.jazzcerkno.si/wp-content/uploads/2024/06/Jazz_Cerkno_Jimmy_Barka-_Experience_Lenhart_Tapes_foto_Bojan_Tavcar-1.jpg
END:VEVENT
END:VCALENDAR