BEGIN:VCALENDAR
VERSION:2.0
PRODID:-//Jazz Cerkno - ECPv6.3.2//NONSGML v1.0//EN
CALSCALE:GREGORIAN
METHOD:PUBLISH
X-ORIGINAL-URL:https://www.jazzcerkno.si/?lang=en
X-WR-CALDESC:Events for Jazz Cerkno
REFRESH-INTERVAL;VALUE=DURATION:PT1H
X-Robots-Tag:noindex
X-PUBLISHED-TTL:PT1H
BEGIN:VTIMEZONE
TZID:UTC
BEGIN:STANDARD
TZOFFSETFROM:+0000
TZOFFSETTO:+0000
TZNAME:UTC
DTSTART:20240101T000000
END:STANDARD
END:VTIMEZONE
BEGIN:VEVENT
DTSTART;TZID=UTC:20240406T200000
DTEND;TZID=UTC:20240406T200000
DTSTAMP:20260421T161454
CREATED:20240318T092302Z
LAST-MODIFIED:20240409T063138Z
UID:36643-1712433600-1712433600@www.jazzcerkno.si
SUMMARY:The Gatherers // Caicedo / Trilla / Drašler
DESCRIPTION:Saturday\, April 6\, at 20:00Cerkno Music School \n			\n				\n				\n				\n				\n				The Gatherers (SI\, RS\, HR\, BR)a skillful exploration of extended playing techniques in the field of new jazz \nLuka Zabric (alto saxophone)Nikola Vuković (trumpet\, pocket trumpet)Tin Džaferović (double bass)Luís Oliveira (drums) \n			\n				\n				\n				\n				\n				Diego Caicedo / Vasco Trilla / Jošt Drašler (CO\, ES\, SI)spontaneous interplay at the intersection of new jazz\, avant-garde and improvisation \nDiego Caicedo (el. guitar)Vasco Trilla (drums)Jošt Drašler (double bass) \n			\n			\n				\n				\n				\n				\n				\n				\n				\n					\n					\n					\n				\n				\n				\n					\n					\n					\n				\n				\n				\n					\n					\n					\n				\n				\n				\n					\n					\n					\n				\n				\n				\n					\n					\n					\n				\n				\n				\n					\n					\n					\n				\n				\n				\n					\n					\n					\n				\n				\n				\n					\n					\n					\n				\n				\n				\n					\n					\n					\n				\n				\n				\n					\n					\n					\n				\n				\n				\n					\n					\n					\n				\n				\n				\n					\n					\n					\n				\n				\n				\n					\n					\n					\n				\n				\n				\n					\n					\n					\n				\n				\n				\n					\n					\n					\n				\n				\n				\n					\n					\n					\n				\n				\n				\n					\n					\n					\n				\n				\n				\n					\n					\n					\n				\n				\n				\n				\n				\n				\n				Photo: Bojan Tavčar​
URL:https://www.jazzcerkno.si/event/the-gatherers-caicedo-trilla-drasler/?lang=en
LOCATION:Cerkno Music School
CATEGORIES:29. Keltika 2024
ATTACH;FMTTYPE=image/jpeg:https://www.jazzcerkno.si/wp-content/uploads/2024/03/Jazz_Cerkno_The_Gatherers__Caicedo__Trilla__Drasler_11_foto_Bojan_Tavcar.jpg
END:VEVENT
END:VCALENDAR